PDS_VERSION_ID = PDS3
/* FILE DATA ELEMENTS */
RECORD_TYPE = UNDEFINED
/* POINTERS TO DATA OBJECTS */
^IMAGE = ("HP878_0000_BL4.TIF")
/* IDENTIFICATION DATA ELEMENTS */
DATA_SET_ID = "MEX-M-HRSC-4-REFDR-MAPPROJECT-EXT9-V4.0"
DATA_SET_NAME = "MARS EXPRESS HRSC MAP PROJECTED REFDR EXTENSION9 V4.0"
DETECTOR_ID = MEX_HRSC_BLUE
EVENT_TYPE = "MARS-REGIONAL-VARIABLE-Gl-At"
INSTRUMENT_HOST_ID = MEX
INSTRUMENT_HOST_NAME = "MARS EXPRESS"
INSTRUMENT_ID = HRSC
INSTRUMENT_NAME = "HIGH RESOLUTION STEREO CAMERA"
MISSION_NAME = "MARS EXPRESS"
MISSION_PHASE_NAME = ME_Phase_50
PROCESSING_LEVEL_ID = 4
PRODUCT_CREATION_TIME = 2024-08-22T02:21:17.000Z
PRODUCT_ID = "HP878_0000_BL4.TIF"
RELEASE_ID = 0016
REVISION_ID = 0000
/* QUALITY DATA ELEMENTS */
DATA_QUALITY_ID = 1
DATA_QUALITY_DESC = "Data calculated based on original SPICE kernels"
/* TIME DATA ELEMENTS */
SPACECRAFT_CLOCK_START_COUNT = "1/0667913317.00361"
SPACECRAFT_CLOCK_STOP_COUNT = "1/0667914451.45412"
START_TIME = 2024-07-01T11:31:18.245Z
STOP_TIME = 2024-07-01T11:38:45.053Z
/* ORBITAL DATA ELEMENTS */
ASCENDING_NODE_LONGITUDE = 94.66
MAXIMUM_RESOLUTION = 0.1472
FOOTPRINT_POINT_LATITUDE = (-76.0666,-76.3456,-76.5198,-76.6777, -76.8191,-76.9441,-77.0715,-77.0776, -77.0604,-77.6911,-78.1083,-78.5229, -78.9348,-79.3441,-79.7507,-80.1541, -80.5549,-80.9527,-81.3472,-81.7387, -82.1265,-82.5113,-82.892,-83.2686, -83.6409,-84.0084,-84.3707,-84.727, -85.0771,-85.4199,-85.7537,-86.0772, -86.3881,-86.6836,-86.96,-87.2124, -87.6188,-87.8414,-87.8309,-87.5979, -87.2037,-86.71,-86.1594,-85.5768, -84.9758,-84.3647,-83.7499,-83.5957, -83.5861,-83.4771,-83.346,-83.1953, -83.0261,-82.8145,-82.5282,-82.0926, -81.744,-81.3395,-81.0562,-80.7605, -80.7233,-80.7115,-81.1546,-81.5756, -81.969,-82.3278,-82.6444,-82.9115, -83.1217,-83.2664,-83.3401,-83.3353, -83.2543,-83.0922,-82.8522,-82.7051, -82.5398,-82.3596,-82.1643,-81.9529, -81.7275,-81.4895,-81.2398,-80.9763, -80.7065,-80.4233,-80.1306,-79.8285, -79.5183,-79.2012,-78.8738,-78.5408, -78.2001,-77.8546,-77.5012,-77.142, -76.7768,-76.2201,-76.0321,-76.0666)
FOOTPRINT_POINT_LONGITUDE = (268.599,265.916,264.01,262.074,260.112 ,258.125,255.735,255.608,255.545, 256.017,256.358,256.722,257.113,257.533 ,257.985,258.472,258.999,259.571, 260.192,260.871,261.614,262.432,263.333 ,264.331,265.443,266.685,268.083, 269.661,271.463,273.531,275.916,278.69, 281.932,285.752,290.274,295.625,309.298 ,326.881,346.027,362.966,375.873,385.15 ,391.81,396.7,400.389,403.246,405.516, 406.01,406.04,402.751,399.539,396.454, 393.507,390.361,386.756,382.257,379.255 ,376.266,374.401,372.615,372.405,372.33 ,369.386,366.099,362.43,358.341,353.807 ,348.833,343.448,337.705,331.705, 325.567,319.445,313.472,307.776,305.062 ,302.45,299.942,297.541,295.255,293.079 ,291.012,289.049,287.197,285.429, 283.767,282.195,280.711,279.306,277.974 ,276.725,275.538,274.419,273.352,272.35 ,271.4,270.501,269.234,268.833,268.599)
ORBIT_NUMBER = 25878
ORBITAL_ECCENTRICITY = 0.575
ORBITAL_INCLINATION = 87.07
ORBITAL_SEMIMAJOR_AXIS = 8834.05
PERIAPSIS_ALTITUDE = 366.16
PERIAPSIS_ARGUMENT_ANGLE = 209.29
PERIAPSIS_TIME = 2024-07-01T11:17:24.000Z
SPACECRAFT_ORIENTATION = (0.0,-1.0,0.0)
^MEX_ORIENTATION_DESC = "MEX_ORIENTATION_DESC.TXT"
SPACECRAFT_POINTING_MODE = ACROSSTRACK
^MEX_POINTING_DESC = "MEX_POINTING_DESC.TXT"
RIGHT_ASCENSION = -1e+32
DECLINATION = -1e+32
OFFSET_ANGLE = 1.414
SPACECRAFT_SOLAR_DISTANCE = 2.0972e+08
TARGET_NAME = MARS
/* CAMERA DATA ELEMENTS */
DETECTOR_TEMPERATURE = 17.7588
FOCAL_PLANE_TEMPERATURE = 8.7872
INST_CMPRS_NAME = "DISCRETE COSINE TRANSFORMATION (DCT)"
INST_CMPRS_RATIO = 8.58394
INST_CMPRS_QUALITY = 0
INST_CMPRS_QUANTZ_TBL_ID = 0
INSTRUMENT_TEMPERATURE = 10.8262
LENS_TEMPERATURE = 9.3989
MACROPIXEL_SIZE = 4
MISSING_FRAMES = 0
PIXEL_SUBSAMPLING_FLAG = N
SIGNAL_CHAIN_ID = 2
/* RADIOMETRIC DATA ELEMENTS */
BANDWIDTH = 76.0
CENTER_FILTER_WAVELENGTH = 444.0
RADIANCE_OFFSET = 0.387698
RADIANCE_SCALING_FACTOR = 0.017593
REFLECTANCE_SCALING_FACTOR = 0.000795019
MEX:REFLECTANCE_OFFSET = 0.0175199
/* IMAGE OBJECT DEFINITIONS */
OBJECT = IMAGE
  INTERCHANGE_FORMAT = BINARY
  LINES = 6905
  LINE_SAMPLES = 11895
  SAMPLE_TYPE = UNSIGNED_INTEGER
  SAMPLE_BITS = 8
  BANDS = 1
  BAND_STORAGE_TYPE = BAND_SEQUENTIAL
  MAXIMUM = 255
  MEAN = 121.186
  MINIMUM = 1
  STANDARD_DEVIATION = 84.2588
END_OBJECT = IMAGE
/* MAP OBJECT DEFINITIONS */
OBJECT = IMAGE_MAP_PROJECTION
  ^DATA_SET_MAP_PROJECTION_CATALOG= "DSMAP.CAT"
  A_AXIS_RADIUS = 3396.0
  B_AXIS_RADIUS = 3396.0
  C_AXIS_RADIUS = 3396.0
  CENTER_LATITUDE = -85.288
  CENTER_LONGITUDE = 310.091
  COORDINATE_SYSTEM_NAME = PLANETOGRAPHIC
  COORDINATE_SYSTEM_TYPE = "BODY-FIXED ROTATING"
  EASTERNMOST_LONGITUDE = 46.04
  FIRST_STANDARD_PARALLEL = "N/A"
  LINE_FIRST_PIXEL = 1
  LINE_LAST_PIXEL = 6905
  LINE_PROJECTION_OFFSET = 3410.625
  MAP_PROJECTION_ROTATION = 0.0
  MAP_PROJECTION_TYPE = ORTHOGRAPHIC
  MAP_RESOLUTION = 592.713803866667
  MAP_SCALE = 0.1
  MAXIMUM_LATITUDE = -76.0321
  MINIMUM_LATITUDE = -87.84139999999999
  POSITIVE_LONGITUDE_DIRECTION = EAST
  REFERENCE_LATITUDE = "N/A"
  REFERENCE_LONGITUDE = "N/A"
  SAMPLE_FIRST_PIXEL = 1
  SAMPLE_LAST_PIXEL = 11895
  SAMPLE_PROJECTION_OFFSET = 6194.125
  SECOND_STANDARD_PARALLEL = "N/A"
  WESTERNMOST_LONGITUDE = -104.455
END_OBJECT = IMAGE_MAP_PROJECTION
END
