PDS_VERSION_ID = PDS3
/* FILE DATA ELEMENTS */
RECORD_TYPE = UNDEFINED
/* POINTERS TO DATA OBJECTS */
^IMAGE = ("HP874_0000_S14.TIF")
/* IDENTIFICATION DATA ELEMENTS */
DATA_SET_ID = "MEX-M-HRSC-4-REFDR-MAPPROJECT-EXT9-V4.0"
DATA_SET_NAME = "MARS EXPRESS HRSC MAP PROJECTED REFDR EXTENSION9 V4.0"
DETECTOR_ID = MEX_HRSC_S1
EVENT_TYPE = "MARS-REGIONAL-VARIABLE-Gl-At"
INSTRUMENT_HOST_ID = MEX
INSTRUMENT_HOST_NAME = "MARS EXPRESS"
INSTRUMENT_ID = HRSC
INSTRUMENT_NAME = "HIGH RESOLUTION STEREO CAMERA"
MISSION_NAME = "MARS EXPRESS"
MISSION_PHASE_NAME = ME_Phase_50
PROCESSING_LEVEL_ID = 4
PRODUCT_CREATION_TIME = 2024-08-22T02:21:17.000Z
PRODUCT_ID = "HP874_0000_S14.TIF"
RELEASE_ID = 0016
REVISION_ID = 0000
/* QUALITY DATA ELEMENTS */
DATA_QUALITY_ID = 1
DATA_QUALITY_DESC = "Data calculated based on original SPICE kernels"
/* TIME DATA ELEMENTS */
SPACECRAFT_CLOCK_START_COUNT = "1/0667812689.00362"
SPACECRAFT_CLOCK_STOP_COUNT = "1/0667813779.42183"
START_TIME = 2024-06-30T07:32:18.387Z
STOP_TIME = 2024-06-30T07:41:19.168Z
/* ORBITAL DATA ELEMENTS */
ASCENDING_NODE_LONGITUDE = 94.73
MAXIMUM_RESOLUTION = 0.0639
FOOTPRINT_POINT_LATITUDE = (-74.9569,-75.0845,-75.1769,-75.2361, -75.2368,-75.35,-75.986,-76.6297, -77.2636,-77.9049,-78.5349,-79.1616, -79.7931,-80.4137,-81.0371,-81.958, -82.5706,-83.1806,-83.7874,-84.3898, -84.9863,-85.5769,-86.4534,-87.0255, -87.5813,-88.1097,-88.7791,-89.0102, -88.7789,-88.3607,-87.865,-87.3367, -86.7929,-86.2421,-85.6857,-85.1289, -84.5721,-83.7365,-83.183,-82.6303, -82.0788,-81.5303,-80.9836,-79.8969, -78.8191,-78.008,-77.208,-75.883, -75.6207,-75.3613,-75.5049,-75.5559, -75.5466,-75.5232,-75.437,-75.2791, -75.2688,-75.2657,-76.2834,-77.3101, -78.3477,-79.3889,-80.4324,-81.4743, -81.9976,-82.7762,-83.2883,-83.7941, -84.292,-84.7776,-85.4746,-85.9097, -86.4902,-86.8054,-87.0417,-87.1755, -87.1916,-86.9913,-86.728,-86.3862, -85.9842,-85.5362,-85.0556,-84.2925, -83.4833,-82.9261,-82.0744,-81.4933, -80.905,-80.3093,-79.4038,-78.7956, -78.1842,-77.5687,-76.9499,-76.3256, -75.6974,-75.3831,-74.9569)
FOOTPRINT_POINT_LONGITUDE = (300.783,297.72,294.534,290.594,290.487 ,290.093,289.917,289.691,289.473, 289.194,288.925,288.629,288.267,287.901 ,287.458,286.727,286.129,285.425, 284.588,283.581,282.359,280.827,277.556 ,274.336,269.651,262.309,240.024, 211.628,166.57,150.022,140.674,134.951, 131.155,128.468,126.48,124.944,123.723, 122.302,121.54,120.894,120.338,119.85, 119.42,118.694,118.103,117.742,117.412, 116.943,116.857,116.772,112.72,109.287, 105.281,102.887,99.9652,96.544,96.3567, 96.289,95.5849,94.7361,93.6985,92.4209, 90.822,88.7834,87.5333,85.2949,83.5013, 81.3957,78.8962,75.908,70.1929,65.2731, 55.6391,47.3934,37.4988,26.2895,14.3451 ,357.389,347.751,339.745,333.213, 327.906,323.6,318.557,314.703,312.627, 310.073,308.655,307.42,306.337,304.945, 304.146,303.432,302.791,302.213,301.689 ,301.214,300.992,300.783)
ORBIT_NUMBER = 25874
ORBITAL_ECCENTRICITY = 0.574
ORBITAL_INCLINATION = 87.08
ORBITAL_SEMIMAJOR_AXIS = 8826.16
PERIAPSIS_ALTITUDE = 366.06
PERIAPSIS_ARGUMENT_ANGLE = 209.96
PERIAPSIS_TIME = 2024-06-30T07:21:02.000Z
SPACECRAFT_ORIENTATION = (0.0,-1.0,0.0)
^MEX_ORIENTATION_DESC = "MEX_ORIENTATION_DESC.TXT"
SPACECRAFT_POINTING_MODE = ACROSSTRACK
^MEX_POINTING_DESC = "MEX_POINTING_DESC.TXT"
RIGHT_ASCENSION = -1e+32
DECLINATION = -1e+32
OFFSET_ANGLE = -1.832
SPACECRAFT_SOLAR_DISTANCE = 2.09594e+08
TARGET_NAME = MARS
/* CAMERA DATA ELEMENTS */
DETECTOR_TEMPERATURE = 17.351
FOCAL_PLANE_TEMPERATURE = 8.9911
INST_CMPRS_NAME = "DISCRETE COSINE TRANSFORMATION (DCT)"
INST_CMPRS_RATIO = 9.25845
INST_CMPRS_QUALITY = 0
INST_CMPRS_QUANTZ_TBL_ID = 0
INSTRUMENT_TEMPERATURE = 11.234
LENS_TEMPERATURE = 9.3989
MACROPIXEL_SIZE = 2
MISSING_FRAMES = 0
PIXEL_SUBSAMPLING_FLAG = N
SIGNAL_CHAIN_ID = 1
/* RADIOMETRIC DATA ELEMENTS */
BANDWIDTH = 180.0
CENTER_FILTER_WAVELENGTH = 677.0
RADIANCE_OFFSET = 3.50995
RADIANCE_SCALING_FACTOR = 0.0510538
REFLECTANCE_SCALING_FACTOR = 0.00117012
MEX:REFLECTANCE_OFFSET = 0.0804458
/* IMAGE OBJECT DEFINITIONS */
OBJECT = IMAGE
  INTERCHANGE_FORMAT = BINARY
  LINES = 29975
  LINE_SAMPLES = 25539
  SAMPLE_TYPE = UNSIGNED_INTEGER
  SAMPLE_BITS = 8
  BANDS = 1
  BAND_STORAGE_TYPE = BAND_SEQUENTIAL
  MAXIMUM = 255
  MEAN = 86.195
  MINIMUM = 1
  STANDARD_DEVIATION = 70.7209
END_OBJECT = IMAGE
/* MAP OBJECT DEFINITIONS */
OBJECT = IMAGE_MAP_PROJECTION
  ^DATA_SET_MAP_PROJECTION_CATALOG= "DSMAP.CAT"
  A_AXIS_RADIUS = 3396.0
  B_AXIS_RADIUS = 3396.0
  C_AXIS_RADIUS = 3396.0
  CENTER_LATITUDE = -88.3368
  CENTER_LONGITUDE = 72.277
  COORDINATE_SYSTEM_NAME = PLANETOGRAPHIC
  COORDINATE_SYSTEM_TYPE = "BODY-FIXED ROTATING"
  EASTERNMOST_LONGITUDE = 360.0
  FIRST_STANDARD_PARALLEL = "N/A"
  LINE_FIRST_PIXEL = 1
  LINE_LAST_PIXEL = 29975
  LINE_PROJECTION_OFFSET = 14371.75
  MAP_PROJECTION_ROTATION = 0.0
  MAP_PROJECTION_TYPE = ORTHOGRAPHIC
  MAP_RESOLUTION = 1185.42760773333
  MAP_SCALE = 0.05
  MAXIMUM_LATITUDE = -74.9569
  MINIMUM_LATITUDE = -90.0
  POSITIVE_LONGITUDE_DIRECTION = EAST
  REFERENCE_LATITUDE = "N/A"
  REFERENCE_LONGITUDE = "N/A"
  SAMPLE_FIRST_PIXEL = 1
  SAMPLE_LAST_PIXEL = 25539
  SAMPLE_PROJECTION_OFFSET = 13219.25
  SECOND_STANDARD_PARALLEL = "N/A"
  WESTERNMOST_LONGITUDE = 0.0
END_OBJECT = IMAGE_MAP_PROJECTION
END
