PDS_VERSION_ID = PDS3
/* FILE DATA ELEMENTS */
RECORD_TYPE = UNDEFINED
/* POINTERS TO DATA OBJECTS */
^IMAGE = ("HP872_0000_BL4.TIF")
/* IDENTIFICATION DATA ELEMENTS */
DATA_SET_ID = "MEX-M-HRSC-4-REFDR-MAPPROJECT-EXT9-V4.0"
DATA_SET_NAME = "MARS EXPRESS HRSC MAP PROJECTED REFDR EXTENSION9 V4.0"
DETECTOR_ID = MEX_HRSC_BLUE
EVENT_TYPE = "MARS-TERMINATOR-CALIBRATION-Tc"
INSTRUMENT_HOST_ID = MEX
INSTRUMENT_HOST_NAME = "MARS EXPRESS"
INSTRUMENT_ID = HRSC
INSTRUMENT_NAME = "HIGH RESOLUTION STEREO CAMERA"
MISSION_NAME = "MARS EXPRESS"
MISSION_PHASE_NAME = ME_Phase_50
PROCESSING_LEVEL_ID = 4
PRODUCT_CREATION_TIME = 2024-08-22T02:21:17.000Z
PRODUCT_ID = "HP872_0000_BL4.TIF"
RELEASE_ID = 0016
REVISION_ID = 0000
/* QUALITY DATA ELEMENTS */
DATA_QUALITY_ID = 1
DATA_QUALITY_DESC = "Data calculated based on original SPICE kernels"
/* TIME DATA ELEMENTS */
SPACECRAFT_CLOCK_START_COUNT = "1/0667773517.00335"
SPACECRAFT_CLOCK_STOP_COUNT = "1/0667773915.59879"
START_TIME = 2024-06-29T20:41:43.938Z
STOP_TIME = 2024-06-29T20:44:41.378Z
/* ORBITAL DATA ELEMENTS */
ASCENDING_NODE_LONGITUDE = 94.76
MAXIMUM_RESOLUTION = 0.8369
FOOTPRINT_POINT_LATITUDE = (-7.23978,-8.3863,-9.66373,-11.1665, -12.8917,-14.8537,-17.0824,-19.6286, -22.5815,-26.1089,-30.5668,-33.411, -37.078,-39.5367,-43.1422,-47.549, -44.5938,-45.8951,-42.2707,-36.7076, -33.3673,-30.6796,-26.3227,-22.7663, -19.7053,-16.9859,-14.5135,-12.2435, -8.26136,-4.48379,-1.23345,2.68609, 5.52561,8.2229,10.7847,13.2281,15.5637, 17.7936,19.9097,21.911,23.7697,25.4441, 26.187,26.8427,27.3852,27.7658,27.9008, 27.5962,27.0945,26.0271,25.6625,29.0797 ,31.7043,33.4009,35.5369,39.9609, 44.2352,49.1527,52.972,51.4567,55.2886, 57.2927,57.3352,57.4825,64.6601,67.8476 ,71.7913,72.5866,72.6039,72.2134, 70.8073,69.029,67.1245,65.1887,63.2695, 61.3889,59.5515,56.0157,52.6349,49.3866 ,46.2609,43.2123,40.2316,37.2926, 34.3746,31.4608,28.5317,25.5661,22.5409 ,19.4295,16.1969,12.8026,9.18712, 5.26673,3.14705,0.882682,-1.56965, -4.2724,-5.75891,-7.23978)
FOOTPRINT_POINT_LONGITUDE = (232.95,236.778,239.883,242.782,245.52, 248.13,250.641,253.072,255.44,257.76, 260.03,261.129,262.156,262.59,262.825, 262.358,262.702,268.306,270.352,271.3, 272.055,272.734,273.963,275.09,276.156, 277.181,278.179,279.161,281.127,283.037 ,285.039,287.536,289.658,291.877, 294.227,296.737,299.442,302.387,305.648 ,309.278,313.398,318.155,320.851, 323.832,327.162,330.973,335.468,341.116 ,344.83,349.909,354.72,357.626,357.801, 360.629,363.541,362.594,364.962,371.802 ,360.002,368.992,369.168,374.909, 376.605,376.733,380.666,389.432,366.585 ,353.161,342.365,333.509,319.939, 310.199,302.914,297.239,292.676,288.908 ,285.718,280.552,276.46,273.067,270.148 ,267.562,265.213,263.034,260.979, 259.005,257.078,255.171,253.253,251.295 ,249.258,247.103,244.769,242.169, 240.721,239.133,237.358,235.323,234.162 ,232.95)
ORBIT_NUMBER = 25872
ORBITAL_ECCENTRICITY = 0.574
ORBITAL_INCLINATION = 87.07
ORBITAL_SEMIMAJOR_AXIS = 8826.12
PERIAPSIS_ALTITUDE = 366.41
PERIAPSIS_ARGUMENT_ANGLE = 210.3
PERIAPSIS_TIME = 2024-06-29T17:22:47.000Z
SPACECRAFT_ORIENTATION = (0.0,-1.0,0.0)
^MEX_ORIENTATION_DESC = "MEX_ORIENTATION_DESC.TXT"
SPACECRAFT_POINTING_MODE = FIXED
^MEX_POINTING_DESC = "MEX_POINTING_DESC.TXT"
RIGHT_ASCENSION = -1e+32
DECLINATION = -1e+32
OFFSET_ANGLE = -1e+32
SPACECRAFT_SOLAR_DISTANCE = 2.09532e+08
TARGET_NAME = MARS
/* CAMERA DATA ELEMENTS */
DETECTOR_TEMPERATURE = 17.9627
FOCAL_PLANE_TEMPERATURE = 8.9911
INST_CMPRS_NAME = "DISCRETE COSINE TRANSFORMATION (DCT)"
INST_CMPRS_RATIO = 8.01353
INST_CMPRS_QUALITY = 0
INST_CMPRS_QUANTZ_TBL_ID = 0
INSTRUMENT_TEMPERATURE = 10.8262
LENS_TEMPERATURE = 8.1755
MACROPIXEL_SIZE = 2
MISSING_FRAMES = 0
PIXEL_SUBSAMPLING_FLAG = N
SIGNAL_CHAIN_ID = 2
/* RADIOMETRIC DATA ELEMENTS */
BANDWIDTH = 76.0
CENTER_FILTER_WAVELENGTH = 444.0
RADIANCE_OFFSET = 0.0
RADIANCE_SCALING_FACTOR = 0.00849292
REFLECTANCE_SCALING_FACTOR = 0.000383154
MEX:REFLECTANCE_OFFSET = 0.0
/* IMAGE OBJECT DEFINITIONS */
OBJECT = IMAGE
  INTERCHANGE_FORMAT = BINARY
  LINES = 6949
  LINE_SAMPLES = 7096
  SAMPLE_TYPE = UNSIGNED_INTEGER
  SAMPLE_BITS = 8
  BANDS = 1
  BAND_STORAGE_TYPE = BAND_SEQUENTIAL
  MAXIMUM = 255
  MEAN = 121.536
  MINIMUM = 1
  STANDARD_DEVIATION = 57.985
END_OBJECT = IMAGE
/* MAP OBJECT DEFINITIONS */
OBJECT = IMAGE_MAP_PROJECTION
  ^DATA_SET_MAP_PROJECTION_CATALOG= "DSMAP.CAT"
  A_AXIS_RADIUS = 3396.0
  B_AXIS_RADIUS = 3396.0
  C_AXIS_RADIUS = 3396.0
  CENTER_LATITUDE = 29.3921
  CENTER_LONGITUDE = 284.032
  COORDINATE_SYSTEM_NAME = PLANETOGRAPHIC
  COORDINATE_SYSTEM_TYPE = "BODY-FIXED ROTATING"
  EASTERNMOST_LONGITUDE = 29.432
  FIRST_STANDARD_PARALLEL = "N/A"
  LINE_FIRST_PIXEL = 1
  LINE_LAST_PIXEL = 6949
  LINE_PROJECTION_OFFSET = 3602.25
  MAP_PROJECTION_ROTATION = 0.0
  MAP_PROJECTION_TYPE = ORTHOGRAPHIC
  MAP_RESOLUTION = 74.08922548333329
  MAP_SCALE = 0.8
  MAXIMUM_LATITUDE = 72.6039
  MINIMUM_LATITUDE = -47.549
  POSITIVE_LONGITUDE_DIRECTION = EAST
  REFERENCE_LATITUDE = "N/A"
  REFERENCE_LONGITUDE = "N/A"
  SAMPLE_FIRST_PIXEL = 1
  SAMPLE_LAST_PIXEL = 7096
  SAMPLE_PROJECTION_OFFSET = 3350.25
  SECOND_STANDARD_PARALLEL = "N/A"
  WESTERNMOST_LONGITUDE = -127.05
END_OBJECT = IMAGE_MAP_PROJECTION
END
