PDS_VERSION_ID = PDS3
/* FILE DATA ELEMENTS */
RECORD_TYPE = UNDEFINED
/* POINTERS TO DATA OBJECTS */
^IMAGE = ("HP858_0000_GR4.TIF")
/* IDENTIFICATION DATA ELEMENTS */
DATA_SET_ID = "MEX-M-HRSC-4-REFDR-MAPPROJECT-EXT9-V4.0"
DATA_SET_NAME = "MARS EXPRESS HRSC MAP PROJECTED REFDR EXTENSION9 V4.0"
DETECTOR_ID = MEX_HRSC_GREEN
EVENT_TYPE = "MARS-TERMINATOR-CALIBRATION-Tc"
INSTRUMENT_HOST_ID = MEX
INSTRUMENT_HOST_NAME = "MARS EXPRESS"
INSTRUMENT_ID = HRSC
INSTRUMENT_NAME = "HIGH RESOLUTION STEREO CAMERA"
MISSION_NAME = "MARS EXPRESS"
MISSION_PHASE_NAME = ME_Phase_50
PROCESSING_LEVEL_ID = 4
PRODUCT_CREATION_TIME = 2024-08-22T02:21:17.000Z
PRODUCT_ID = "HP858_0000_GR4.TIF"
RELEASE_ID = 0016
REVISION_ID = 0000
/* QUALITY DATA ELEMENTS */
DATA_QUALITY_ID = 1
DATA_QUALITY_DESC = "Data calculated based on original SPICE kernels"
/* TIME DATA ELEMENTS */
SPACECRAFT_CLOCK_START_COUNT = "1/0667417002.65105"
SPACECRAFT_CLOCK_STOP_COUNT = "1/0667417427.00296"
START_TIME = 2024-06-25T17:38:54.290Z
STOP_TIME = 2024-06-25T17:42:30.306Z
/* ORBITAL DATA ELEMENTS */
ASCENDING_NODE_LONGITUDE = 95.01
MAXIMUM_RESOLUTION = 0.705
FOOTPRINT_POINT_LATITUDE = (-49.4953,-49.5267,-49.5899,-53.6204, -55.8178,-58.9668,-62.2205,-62.2103, -60.8144,-57.5921,-55.313,-51.9191, -47.4495,-44.6265,-40.7547,-38.4237, -34.6474,-31.8813,-29.6316,-27.0602, -23.6913,-21.2221,-18.3575,-14.6623, -9.40512,-6.77764,-3.84319,-1.48573, 1.61327,4.27807,6.75638,9.52362,12.5294 ,14.9646,17.5541,19.46,21.8672,24.719, 26.7096,28.2898,30.3438,32.156,33.7105, 34.5935,34.9697,37.7604,42.741,45.3176, 48.3588,52.2108,55.0867,56.6775,59.6159 ,61.9141,65.9805,68.3263,71.6448, 74.6233,71.5111,66.9553,63.8803,59.2647 ,55.6291,51.4823,49.0151,46.265,43.3821 ,39.7505,37.3785,33.7661,30.6622, 27.5785,25.1633,22.2666,19.2128,16.5187 ,12.8682,8.65686,5.38712,2.7223, 0.338176,-4.17682,-7.05064,-8.92702, -11.8977,-13.6323,-17.8461,-21.0116, -23.0895,-24.4638,-26.0157,-27.8824, -29.1011,-31.6619,-34.9265,-36.5095, -39.6932,-42.7383,-46.3389,-49.4953)
FOOTPRINT_POINT_LONGITUDE = (223.382,223.348,223.604,228.933, 233.772,240.737,244.168,252.49,257.791, 260.701,262.522,264.979,267.881,269.571 ,271.744,273.006,275.001,276.442, 277.596,278.909,280.631,281.904,283.4, 285.375,288.381,289.889,291.673,293.205 ,295.321,297.256,299.172,301.461, 304.161,306.556,309.358,311.612,314.741 ,318.99,322.425,325.535,330.304,335.606 ,341.806,347.013,350.46,353.804,352.202 ,350.995,351.091,350.475,350.64,349.086 ,348.062,344.906,343.346,339.941, 329.358,328.366,314.431,304.741,300.102 ,294.674,291.213,287.823,286.007, 284.142,282.288,280.059,278.652,276.592 ,274.85,273.144,271.81,270.207,268.496, 266.959,264.822,262.25,260.148,258.354, 256.671,253.255,250.884,249.236,246.435 ,244.675,239.916,235.739,232.631,230.37 ,227.565,223.735,220.861,215.871, 215.213,217.985,218.712,220.413,221.208 ,223.382)
ORBIT_NUMBER = 25858
ORBITAL_ECCENTRICITY = 0.574
ORBITAL_INCLINATION = 87.07
ORBITAL_SEMIMAJOR_AXIS = 8823.84
PERIAPSIS_ALTITUDE = 365.84
PERIAPSIS_ARGUMENT_ANGLE = 212.66
PERIAPSIS_TIME = 2024-06-25T15:35:22.000Z
SPACECRAFT_ORIENTATION = (0.0,-1.0,0.0)
^MEX_ORIENTATION_DESC = "MEX_ORIENTATION_DESC.TXT"
SPACECRAFT_POINTING_MODE = FIXED
^MEX_POINTING_DESC = "MEX_POINTING_DESC.TXT"
RIGHT_ASCENSION = -1e+32
DECLINATION = -1e+32
OFFSET_ANGLE = -1e+32
SPACECRAFT_SOLAR_DISTANCE = 2.09115e+08
TARGET_NAME = MARS
/* CAMERA DATA ELEMENTS */
DETECTOR_TEMPERATURE = 18.3705
FOCAL_PLANE_TEMPERATURE = 9.195
INST_CMPRS_NAME = "DISCRETE COSINE TRANSFORMATION (DCT)"
INST_CMPRS_RATIO = 9.30061
INST_CMPRS_QUALITY = 0
INST_CMPRS_QUANTZ_TBL_ID = 0
INSTRUMENT_TEMPERATURE = 11.234
LENS_TEMPERATURE = 9.6028
MACROPIXEL_SIZE = 2
MISSING_FRAMES = 0
PIXEL_SUBSAMPLING_FLAG = N
SIGNAL_CHAIN_ID = 2
/* RADIOMETRIC DATA ELEMENTS */
BANDWIDTH = 88.0
CENTER_FILTER_WAVELENGTH = 538.0
RADIANCE_OFFSET = 0.0
RADIANCE_SCALING_FACTOR = 0.0179684
REFLECTANCE_SCALING_FACTOR = 0.000676553
MEX:REFLECTANCE_OFFSET = 0.0
/* IMAGE OBJECT DEFINITIONS */
OBJECT = IMAGE
  INTERCHANGE_FORMAT = BINARY
  LINES = 7844
  LINE_SAMPLES = 6554
  SAMPLE_TYPE = UNSIGNED_INTEGER
  SAMPLE_BITS = 8
  BANDS = 1
  BAND_STORAGE_TYPE = BAND_SEQUENTIAL
  MAXIMUM = 255
  MEAN = 133.209
  MINIMUM = 1
  STANDARD_DEVIATION = 36.8288
END_OBJECT = IMAGE
/* MAP OBJECT DEFINITIONS */
OBJECT = IMAGE_MAP_PROJECTION
  ^DATA_SET_MAP_PROJECTION_CATALOG= "DSMAP.CAT"
  A_AXIS_RADIUS = 3396.0
  B_AXIS_RADIUS = 3396.0
  C_AXIS_RADIUS = 3396.0
  CENTER_LATITUDE = 6.35313
  CENTER_LONGITUDE = 279.14
  COORDINATE_SYSTEM_NAME = PLANETOGRAPHIC
  COORDINATE_SYSTEM_TYPE = "BODY-FIXED ROTATING"
  EASTERNMOST_LONGITUDE = 353.804
  FIRST_STANDARD_PARALLEL = "N/A"
  LINE_FIRST_PIXEL = 1
  LINE_LAST_PIXEL = 7844
  LINE_PROJECTION_OFFSET = 3950.75
  MAP_PROJECTION_ROTATION = 0.0
  MAP_PROJECTION_TYPE = ORTHOGRAPHIC
  MAP_RESOLUTION = 74.08922548333329
  MAP_SCALE = 0.8
  MAXIMUM_LATITUDE = 74.6233
  MINIMUM_LATITUDE = -62.2205
  POSITIVE_LONGITUDE_DIRECTION = EAST
  REFERENCE_LATITUDE = "N/A"
  REFERENCE_LONGITUDE = "N/A"
  SAMPLE_FIRST_PIXEL = 1
  SAMPLE_LAST_PIXEL = 6554
  SAMPLE_PROJECTION_OFFSET = 3261.25
  SECOND_STANDARD_PARALLEL = "N/A"
  WESTERNMOST_LONGITUDE = 215.213
END_OBJECT = IMAGE_MAP_PROJECTION
END
