PDS_VERSION_ID = PDS3
/* FILE DATA ELEMENTS */
RECORD_TYPE = UNDEFINED
/* POINTERS TO DATA OBJECTS */
^IMAGE = ("HP855_0000_GR4.TIF")
/* IDENTIFICATION DATA ELEMENTS */
DATA_SET_ID = "MEX-M-HRSC-4-REFDR-MAPPROJECT-EXT9-V4.0"
DATA_SET_NAME = "MARS EXPRESS HRSC MAP PROJECTED REFDR EXTENSION9 V4.0"
DETECTOR_ID = MEX_HRSC_GREEN
EVENT_TYPE = "MARS-TERMINATOR-CALIBRATION-Tc"
INSTRUMENT_HOST_ID = MEX
INSTRUMENT_HOST_NAME = "MARS EXPRESS"
INSTRUMENT_ID = HRSC
INSTRUMENT_NAME = "HIGH RESOLUTION STEREO CAMERA"
MISSION_NAME = "MARS EXPRESS"
MISSION_PHASE_NAME = ME_Phase_50
PROCESSING_LEVEL_ID = 4
PRODUCT_CREATION_TIME = 2024-08-22T02:21:17.000Z
PRODUCT_ID = "HP855_0000_GR4.TIF"
RELEASE_ID = 0016
REVISION_ID = 0000
/* QUALITY DATA ELEMENTS */
DATA_QUALITY_ID = 1
DATA_QUALITY_DESC = "Data calculated based on original SPICE kernels"
/* TIME DATA ELEMENTS */
SPACECRAFT_CLOCK_START_COUNT = "1/0667338071.64133"
SPACECRAFT_CLOCK_STOP_COUNT = "1/0667338199.23574"
START_TIME = 2024-06-24T19:42:01.296Z
STOP_TIME = 2024-06-24T19:43:26.780Z
/* ORBITAL DATA ELEMENTS */
ASCENDING_NODE_LONGITUDE = 95.07
MAXIMUM_RESOLUTION = 0.4188
FOOTPRINT_POINT_LATITUDE = (-23.7163,-23.9493,-24.1295,-24.3044, -24.4742,-24.6392,-24.7996,-24.9555, -25.1068,-25.2538,-25.5355,-25.8005, -26.0498,-26.284,-26.5033,-26.7084, -26.8293,-26.9893,-27.0969,-27.1178, -27.1217,-25.5797,-24.6993,-23.8185, -22.9367,-22.0533,-21.1674,-20.2785, -19.3856,-18.4884,-17.5855,-16.6761, -15.76,-14.8358,-13.9025,-12.9591, -12.0044,-11.0373,-10.0568,-9.0622, -8.05254,-7.02281,-5.97442,-4.90613, -3.8154,-3.53825,-3.42445,-3.28992, -3.15522,-3.05908,-2.95638,-2.84618, -2.72745,-2.60122,-2.4656,-2.3228, -2.17201,-2.01598,-1.85286,-1.6832, -1.50516,-1.31856,-1.12358,-0.92016, -0.708689,-0.486905,-0.255161,-0.014968 ,0.236615,0.499241,0.842859,0.914612, 0.938855,0.0376451,-1.13707,-2.28541, -3.40648,-4.50129,-5.57132,-6.61917, -7.64631,-8.6573,-9.65196,-10.6318, -11.597,-12.5506,-13.4937,-14.4269, -15.3507,-16.2671,-17.1755,-18.0777, -18.9747,-19.8674,-20.7558,-21.6412, -22.5242,-23.4055,-23.6256,-23.7163)
FOOTPRINT_POINT_LONGITUDE = (223.163,224.197,225.018,225.832,226.64 ,227.444,228.244,229.04,229.833,230.624 ,232.197,233.76,235.317,236.872,238.427 ,239.984,240.961,242.332,243.315, 243.512,243.573,243.722,243.809,243.897 ,243.986,244.077,244.17,244.264,244.36, 244.458,244.559,244.662,244.768,244.876 ,244.988,245.103,245.221,245.343,245.47 ,245.6,245.734,245.875,246.021,246.172, 246.33,246.37,246.387,245.068,243.935, 243.181,242.428,241.677,240.926,240.175 ,239.423,238.67,237.915,237.158,236.399 ,235.637,234.87,234.099,233.323,232.543 ,231.758,230.967,230.169,229.365, 228.552,227.73,226.688,226.477,226.401, 226.375,226.333,226.285,226.229,226.165 ,226.092,226.011,225.921,225.825, 225.722,225.612,225.493,225.368,225.236 ,225.096,224.948,224.794,224.63,224.458 ,224.278,224.09,223.892,223.684,223.467 ,223.239,223.181,223.163)
ORBIT_NUMBER = 25855
ORBITAL_ECCENTRICITY = 0.574
ORBITAL_INCLINATION = 87.09
ORBITAL_SEMIMAJOR_AXIS = 8823.76
PERIAPSIS_ALTITUDE = 365.16
PERIAPSIS_ARGUMENT_ANGLE = 213.16
PERIAPSIS_TIME = 2024-06-24T18:38:05.000Z
SPACECRAFT_ORIENTATION = (0.0,-1.0,0.0)
^MEX_ORIENTATION_DESC = "MEX_ORIENTATION_DESC.TXT"
SPACECRAFT_POINTING_MODE = FIXED
^MEX_POINTING_DESC = "MEX_POINTING_DESC.TXT"
RIGHT_ASCENSION = -1e+32
DECLINATION = -1e+32
OFFSET_ANGLE = -1e+32
SPACECRAFT_SOLAR_DISTANCE = 2.09029e+08
TARGET_NAME = MARS
/* CAMERA DATA ELEMENTS */
DETECTOR_TEMPERATURE = 17.9627
FOCAL_PLANE_TEMPERATURE = 9.3989
INST_CMPRS_NAME = "DISCRETE COSINE TRANSFORMATION (DCT)"
INST_CMPRS_RATIO = 7.28283
INST_CMPRS_QUALITY = 0
INST_CMPRS_QUANTZ_TBL_ID = 0
INSTRUMENT_TEMPERATURE = 11.234
LENS_TEMPERATURE = 9.6028
MACROPIXEL_SIZE = 2
MISSING_FRAMES = 0
PIXEL_SUBSAMPLING_FLAG = N
SIGNAL_CHAIN_ID = 2
/* RADIOMETRIC DATA ELEMENTS */
BANDWIDTH = 88.0
CENTER_FILTER_WAVELENGTH = 538.0
RADIANCE_OFFSET = 1.50904
RADIANCE_SCALING_FACTOR = 0.00816824
REFLECTANCE_SCALING_FACTOR = 0.000307292
MEX:REFLECTANCE_OFFSET = 0.0567707
/* IMAGE OBJECT DEFINITIONS */
OBJECT = IMAGE
  INTERCHANGE_FORMAT = BINARY
  LINES = 4140
  LINE_SAMPLES = 3300
  SAMPLE_TYPE = UNSIGNED_INTEGER
  SAMPLE_BITS = 8
  BANDS = 1
  BAND_STORAGE_TYPE = BAND_SEQUENTIAL
  MAXIMUM = 255
  MEAN = 140.885
  MINIMUM = 1
  STANDARD_DEVIATION = 22.4224
END_OBJECT = IMAGE
/* MAP OBJECT DEFINITIONS */
OBJECT = IMAGE_MAP_PROJECTION
  ^DATA_SET_MAP_PROJECTION_CATALOG= "DSMAP.CAT"
  A_AXIS_RADIUS = 3396.0
  B_AXIS_RADIUS = 3396.0
  C_AXIS_RADIUS = 3396.0
  CENTER_LATITUDE = -14.5065
  CENTER_LONGITUDE = 235.095
  COORDINATE_SYSTEM_NAME = PLANETOGRAPHIC
  COORDINATE_SYSTEM_TYPE = "BODY-FIXED ROTATING"
  EASTERNMOST_LONGITUDE = 246.387
  FIRST_STANDARD_PARALLEL = "N/A"
  LINE_FIRST_PIXEL = 1
  LINE_LAST_PIXEL = 4140
  LINE_PROJECTION_OFFSET = 2270.0
  MAP_PROJECTION_ROTATION = 0.0
  MAP_PROJECTION_TYPE = ORTHOGRAPHIC
  MAP_RESOLUTION = 148.178450966667
  MAP_SCALE = 0.4
  MAXIMUM_LATITUDE = 0.938855
  MINIMUM_LATITUDE = -27.1217
  POSITIVE_LONGITUDE_DIRECTION = EAST
  REFERENCE_LATITUDE = "N/A"
  REFERENCE_LONGITUDE = "N/A"
  SAMPLE_FIRST_PIXEL = 1
  SAMPLE_LAST_PIXEL = 3300
  SAMPLE_PROJECTION_OFFSET = 1646.0
  SECOND_STANDARD_PARALLEL = "N/A"
  WESTERNMOST_LONGITUDE = 223.163
END_OBJECT = IMAGE_MAP_PROJECTION
END
