PDS_VERSION_ID = PDS3
/* FILE DATA ELEMENTS */
RECORD_TYPE = UNDEFINED
/* POINTERS TO DATA OBJECTS */
^IMAGE = ("HP827_0000_ND4.TIF")
/* IDENTIFICATION DATA ELEMENTS */
DATA_SET_ID = "MEX-M-HRSC-4-REFDR-MAPPROJECT-EXT9-V4.0"
DATA_SET_NAME = "MARS EXPRESS HRSC MAP PROJECTED REFDR EXTENSION9 V4.0"
DETECTOR_ID = MEX_HRSC_NADIR
EVENT_TYPE = "MARS-TERMINATOR-CALIBRATION-Tc"
INSTRUMENT_HOST_ID = MEX
INSTRUMENT_HOST_NAME = "MARS EXPRESS"
INSTRUMENT_ID = HRSC
INSTRUMENT_NAME = "HIGH RESOLUTION STEREO CAMERA"
MISSION_NAME = "MARS EXPRESS"
MISSION_PHASE_NAME = ME_Phase_50
PROCESSING_LEVEL_ID = 4
PRODUCT_CREATION_TIME = 2024-08-22T02:21:17.000Z
PRODUCT_ID = "HP827_0000_ND4.TIF"
RELEASE_ID = 0016
REVISION_ID = 0000
/* QUALITY DATA ELEMENTS */
DATA_QUALITY_ID = 1
DATA_QUALITY_DESC = "Data calculated based on original SPICE kernels"
/* TIME DATA ELEMENTS */
SPACECRAFT_CLOCK_START_COUNT = "1/0666634341.00328"
SPACECRAFT_CLOCK_STOP_COUNT = "1/0666634448.00864"
START_TIME = 2024-06-16T16:13:30.154Z
STOP_TIME = 2024-06-16T16:14:35.279Z
/* ORBITAL DATA ELEMENTS */
ASCENDING_NODE_LONGITUDE = 95.55
MAXIMUM_RESOLUTION = 0.454
FOOTPRINT_POINT_LATITUDE = (-20.9261,-21.1649,-21.4027,-21.6396, -21.8754,-22.1105,-22.345,-22.579, -22.8126,-23.0455,-23.2776,-23.509, -23.7399,-23.9702,-24.1998,-24.4286, -24.6567,-24.8842,-25.1113,-25.3377, -25.5633,-25.7883,-26.0126,-26.2361, -26.4583,-26.7892,-26.844,-26.8532, -26.0613,-24.6845,-23.9023,-23.1226, -22.3448,-21.5684,-20.793,-20.018, -19.2428,-18.4668,-17.6896,-16.9105, -16.1291,-15.3446,-14.557,-13.566, -12.1646,-11.3565,-10.5407,-9.71808, -8.88486,-8.04213,-7.18235,-6.96969, -6.91949,-6.87169,-6.79745,-6.71291, -6.61981,-6.51789,-6.40933,-6.2981, -6.18271,-6.05786,-5.9224,-5.77879, -5.62994,-5.47527,-5.23507,-5.03191, -4.86417,-4.69368,-4.51912,-4.34216, -4.16148,-3.9775,-3.78929,-3.59837, -3.40307,-3.20399,-3.15347,-3.13673, -4.46792,-5.21715,-5.96011,-6.69613, -7.42585,-8.15018,-8.87002,-9.58502, -10.2961,-11.0031,-11.7068,-13.1059, -14.4959,-15.8796,-17.2598,-18.4668, -19.6745,-20.7123,-20.8855,-20.9261)
FOOTPRINT_POINT_LONGITUDE = (222.09,222.873,223.664,224.463,225.27, 226.086,226.912,227.749,228.597,229.458 ,230.332,231.218,232.119,233.036, 233.969,234.919,235.888,236.877,237.89, 238.926,239.987,241.076,242.198,243.353 ,244.543,246.402,246.722,246.8,246.849, 246.959,247.037,247.126,247.225,247.334 ,247.454,247.585,247.727,247.88,248.043 ,248.216,248.402,248.599,248.802, 249.082,249.511,249.767,250.043,250.33, 250.642,250.97,251.34,251.42,251.44, 250.493,249.257,248.066,246.913,245.798 ,244.715,243.652,242.61,241.603,240.634 ,239.693,238.77,237.865,236.535,235.443 ,234.586,233.738,232.902,232.075,231.26 ,230.454,229.658,228.868,228.087, 227.312,227.12,227.05,226.671,226.46, 226.251,226.045,225.842,225.64,225.441, 225.243,225.046,224.851,224.657,224.271 ,223.887,223.504,223.121,222.784, 222.444,222.15,222.101,222.09)
ORBIT_NUMBER = 25827
ORBITAL_ECCENTRICITY = 0.574
ORBITAL_INCLINATION = 87.09
ORBITAL_SEMIMAJOR_AXIS = 8815.18
PERIAPSIS_ALTITUDE = 363.67
PERIAPSIS_ARGUMENT_ANGLE = 217.95
PERIAPSIS_TIME = 2024-06-16T15:04:15.000Z
SPACECRAFT_ORIENTATION = (0.0,-1.0,0.0)
^MEX_ORIENTATION_DESC = "MEX_ORIENTATION_DESC.TXT"
SPACECRAFT_POINTING_MODE = FIXED
^MEX_POINTING_DESC = "MEX_POINTING_DESC.TXT"
RIGHT_ASCENSION = -1e+32
DECLINATION = -1e+32
OFFSET_ANGLE = -1e+32
SPACECRAFT_SOLAR_DISTANCE = 2.083e+08
TARGET_NAME = MARS
/* CAMERA DATA ELEMENTS */
DETECTOR_TEMPERATURE = 17.9627
FOCAL_PLANE_TEMPERATURE = 8.7872
INST_CMPRS_NAME = "DISCRETE COSINE TRANSFORMATION (DCT)"
INST_CMPRS_RATIO = 8.77768
INST_CMPRS_QUALITY = 0
INST_CMPRS_QUANTZ_TBL_ID = 0
INSTRUMENT_TEMPERATURE = 11.234
LENS_TEMPERATURE = 9.3989
MACROPIXEL_SIZE = 2
MISSING_FRAMES = 0
PIXEL_SUBSAMPLING_FLAG = N
SIGNAL_CHAIN_ID = 0
/* RADIOMETRIC DATA ELEMENTS */
BANDWIDTH = 177.0
CENTER_FILTER_WAVELENGTH = 677.5
RADIANCE_OFFSET = 8.60194
RADIANCE_SCALING_FACTOR = 0.0288265
REFLECTANCE_SCALING_FACTOR = 0.000664468
MEX:REFLECTANCE_OFFSET = 0.19828
/* IMAGE OBJECT DEFINITIONS */
OBJECT = IMAGE
  INTERCHANGE_FORMAT = BINARY
  LINES = 3520
  LINE_SAMPLES = 4184
  SAMPLE_TYPE = UNSIGNED_INTEGER
  SAMPLE_BITS = 8
  BANDS = 1
  BAND_STORAGE_TYPE = BAND_SEQUENTIAL
  MAXIMUM = 255
  MEAN = 136.915
  MINIMUM = 1
  STANDARD_DEVIATION = 30.2586
END_OBJECT = IMAGE
/* MAP OBJECT DEFINITIONS */
OBJECT = IMAGE_MAP_PROJECTION
  ^DATA_SET_MAP_PROJECTION_CATALOG= "DSMAP.CAT"
  A_AXIS_RADIUS = 3396.0
  B_AXIS_RADIUS = 3396.0
  C_AXIS_RADIUS = 3396.0
  CENTER_LATITUDE = -14.8722
  CENTER_LONGITUDE = 234.983
  COORDINATE_SYSTEM_NAME = PLANETOGRAPHIC
  COORDINATE_SYSTEM_TYPE = "BODY-FIXED ROTATING"
  EASTERNMOST_LONGITUDE = 251.44
  FIRST_STANDARD_PARALLEL = "N/A"
  LINE_FIRST_PIXEL = 1
  LINE_LAST_PIXEL = 3520
  LINE_PROJECTION_OFFSET = 1713.0
  MAP_PROJECTION_ROTATION = 0.0
  MAP_PROJECTION_TYPE = ORTHOGRAPHIC
  MAP_RESOLUTION = 148.178450966667
  MAP_SCALE = 0.4
  MAXIMUM_LATITUDE = -3.13673
  MINIMUM_LATITUDE = -26.8532
  POSITIVE_LONGITUDE_DIRECTION = EAST
  REFERENCE_LATITUDE = "N/A"
  REFERENCE_LONGITUDE = "N/A"
  SAMPLE_FIRST_PIXEL = 1
  SAMPLE_LAST_PIXEL = 4184
  SAMPLE_PROJECTION_OFFSET = 1769.0
  SECOND_STANDARD_PARALLEL = "N/A"
  WESTERNMOST_LONGITUDE = 222.09
END_OBJECT = IMAGE_MAP_PROJECTION
END
