PDS_VERSION_ID = PDS3
/* FILE DATA ELEMENTS */
RECORD_TYPE = UNDEFINED
/* POINTERS TO DATA OBJECTS */
^IMAGE = ("HP781_0000_RE4.TIF")
/* IDENTIFICATION DATA ELEMENTS */
DATA_SET_ID = "MEX-M-HRSC-4-REFDR-MAPPROJECT-EXT9-V4.0"
DATA_SET_NAME = "MARS EXPRESS HRSC MAP PROJECTED REFDR EXTENSION9 V4.0"
DETECTOR_ID = MEX_HRSC_RED
EVENT_TYPE = "MARS-REGIONAL-MAPPING-Gl-Pf-La"
INSTRUMENT_HOST_ID = MEX
INSTRUMENT_HOST_NAME = "MARS EXPRESS"
INSTRUMENT_ID = HRSC
INSTRUMENT_NAME = "HIGH RESOLUTION STEREO CAMERA"
MISSION_NAME = "MARS EXPRESS"
MISSION_PHASE_NAME = ME_Phase_50
PROCESSING_LEVEL_ID = 4
PRODUCT_CREATION_TIME = 2024-08-21T23:02:24.000Z
PRODUCT_ID = "HP781_0000_RE4.TIF"
RELEASE_ID = 0015
REVISION_ID = 0000
/* QUALITY DATA ELEMENTS */
DATA_QUALITY_ID = 1
DATA_QUALITY_DESC = "Data calculated based on original SPICE kernels"
/* TIME DATA ELEMENTS */
SPACECRAFT_CLOCK_START_COUNT = "1/0665473933.00344"
SPACECRAFT_CLOCK_STOP_COUNT = "1/0665474280.41657"
START_TIME = 2024-06-03T05:54:39.125Z
STOP_TIME = 2024-06-03T05:58:33.762Z
/* ORBITAL DATA ELEMENTS */
ASCENDING_NODE_LONGITUDE = 96.35
MAXIMUM_RESOLUTION = 0.1094
FOOTPRINT_POINT_LATITUDE = (-75.3352,-75.6021,-75.7533,-75.8948, -76.0267,-76.1493,-76.263,-76.2698, -76.1561,-76.6333,-77.2433,-77.7272, -78.2197,-78.4651,-78.7114,-79.1997, -79.5647,-79.8071,-80.0488,-80.4085, -80.9093,-81.1784,-81.4457,-81.8432, -82.2362,-82.4952,-82.7516,-83.0054, -83.2583,-83.5124,-83.7627,-84.0097, -84.2522,-84.4949,-84.7299,-84.9599, -85.1829,-85.3964,-85.6008,-85.7922, -85.9696,-86.1295,-86.2695,-86.3868, -86.4779,-86.5403,-86.5718,-86.5708, -86.5356,-86.4665,-86.4199,-86.3928, -85.9311,-85.5895,-85.0522,-84.6122, -84.3612,-83.9944,-83.5052,-83.4762, -83.4669,-83.5486,-83.5795,-83.5916, -83.585,-83.5603,-83.5187,-83.4207, -83.3447,-83.2536,-83.1507,-82.97, -82.8353,-82.6901,-82.5368,-82.3745, -82.2048,-82.0284,-81.7548,-81.4696, -81.2723,-81.0738,-80.8698,-80.6596, -80.3387,-80.1188,-79.8943,-79.6666, -79.4335,-79.2053,-78.787,-78.3609, -77.9275,-77.4862,-76.8204,-76.4834, -75.9217,-75.3689,-75.2571,-75.3352)
FOOTPRINT_POINT_LONGITUDE = (94.3329,92.2818,91.0058,89.72,88.4261, 87.1235,85.8109,85.7286,85.6403,86.1367 ,86.8266,87.4314,88.0998,88.4568, 88.8311,89.6297,90.2794,90.7389,91.2213 ,91.9896,93.1712,93.8672,94.6073, 95.8083,97.1327,98.0927,99.1209,100.225 ,101.423,102.733,104.155,105.703, 107.391,109.264,111.306,113.56,116.048, 118.784,121.817,125.156,128.835,132.861 ,137.253,142.002,147.065,152.401, 157.941,163.617,169.265,174.738,177.412 ,178.771,176.12,174.544,172.493,171.118 ,170.431,169.531,168.482,168.424, 168.385,163.892,160.878,157.871,154.882 ,151.931,149.035,144.806,142.117, 139.514,137.014,133.438,131.184,129.029 ,126.984,125.037,123.185,121.434, 118.973,116.701,115.281,113.941,112.661 ,111.438,109.704,108.613,107.571, 106.574,105.622,104.769,103.258,101.859 ,100.561,99.356,97.699,96.9485,95.7902, 94.734,94.5349,94.3329)
ORBIT_NUMBER = 25781
ORBITAL_ECCENTRICITY = 0.574
ORBITAL_INCLINATION = 87.09
ORBITAL_SEMIMAJOR_AXIS = 8802.74
PERIAPSIS_ALTITUDE = 362.53
PERIAPSIS_ARGUMENT_ANGLE = 225.7
PERIAPSIS_TIME = 2024-06-03T05:45:15.000Z
SPACECRAFT_ORIENTATION = (0.0,-1.0,0.0)
^MEX_ORIENTATION_DESC = "MEX_ORIENTATION_DESC.TXT"
SPACECRAFT_POINTING_MODE = INERT
^MEX_POINTING_DESC = "MEX_POINTING_DESC.TXT"
RIGHT_ASCENSION = 327.545
DECLINATION = 58.061
OFFSET_ANGLE = -1e+32
SPACECRAFT_SOLAR_DISTANCE = 2.07384e+08
TARGET_NAME = MARS
/* CAMERA DATA ELEMENTS */
DETECTOR_TEMPERATURE = 18.7783
FOCAL_PLANE_TEMPERATURE = 8.5833
INST_CMPRS_NAME = "DISCRETE COSINE TRANSFORMATION (DCT)"
INST_CMPRS_RATIO = 32.6498
INST_CMPRS_QUALITY = 0
INST_CMPRS_QUANTZ_TBL_ID = 0
INSTRUMENT_TEMPERATURE = 11.4379
LENS_TEMPERATURE = 9.3989
MACROPIXEL_SIZE = 4
MISSING_FRAMES = 0
PIXEL_SUBSAMPLING_FLAG = N
SIGNAL_CHAIN_ID = 2
/* RADIOMETRIC DATA ELEMENTS */
BANDWIDTH = 48.0
CENTER_FILTER_WAVELENGTH = 748.0
RADIANCE_OFFSET = 0.695514
RADIANCE_SCALING_FACTOR = 0.00746204
REFLECTANCE_SCALING_FACTOR = 0.000732381
MEX:REFLECTANCE_OFFSET = 0.0682629
/* IMAGE OBJECT DEFINITIONS */
OBJECT = IMAGE
  INTERCHANGE_FORMAT = BINARY
  LINES = 7811
  LINE_SAMPLES = 6184
  SAMPLE_TYPE = UNSIGNED_INTEGER
  SAMPLE_BITS = 8
  BANDS = 1
  BAND_STORAGE_TYPE = BAND_SEQUENTIAL
  MAXIMUM = 255
  MEAN = 73.5749
  MINIMUM = 1
  STANDARD_DEVIATION = 40.5918
END_OBJECT = IMAGE
/* MAP OBJECT DEFINITIONS */
OBJECT = IMAGE_MAP_PROJECTION
  ^DATA_SET_MAP_PROJECTION_CATALOG= "DSMAP.CAT"
  A_AXIS_RADIUS = 3396.0
  B_AXIS_RADIUS = 3396.0
  C_AXIS_RADIUS = 3396.0
  CENTER_LATITUDE = -81.6451
  CENTER_LONGITUDE = 105.563
  COORDINATE_SYSTEM_NAME = PLANETOGRAPHIC
  COORDINATE_SYSTEM_TYPE = "BODY-FIXED ROTATING"
  EASTERNMOST_LONGITUDE = 178.771
  FIRST_STANDARD_PARALLEL = "N/A"
  LINE_FIRST_PIXEL = 1
  LINE_LAST_PIXEL = 7811
  LINE_PROJECTION_OFFSET = 3577.625
  MAP_PROJECTION_ROTATION = 0.0
  MAP_PROJECTION_TYPE = ORTHOGRAPHIC
  MAP_RESOLUTION = 592.713803866667
  MAP_SCALE = 0.1
  MAXIMUM_LATITUDE = -75.25709999999999
  MINIMUM_LATITUDE = -86.5718
  POSITIVE_LONGITUDE_DIRECTION = EAST
  REFERENCE_LATITUDE = "N/A"
  REFERENCE_LONGITUDE = "N/A"
  SAMPLE_FIRST_PIXEL = 1
  SAMPLE_LAST_PIXEL = 6184
  SAMPLE_PROJECTION_OFFSET = 2730.125
  SECOND_STANDARD_PARALLEL = "N/A"
  WESTERNMOST_LONGITUDE = 85.6403
END_OBJECT = IMAGE_MAP_PROJECTION
END
