PDS_VERSION_ID = PDS3
/* FILE DATA ELEMENTS */
RECORD_TYPE = UNDEFINED
/* POINTERS TO DATA OBJECTS */
^IMAGE = ("HP769_0000_P24.TIF")
/* IDENTIFICATION DATA ELEMENTS */
DATA_SET_ID = "MEX-M-HRSC-4-REFDR-MAPPROJECT-EXT9-V4.0"
DATA_SET_NAME = "MARS EXPRESS HRSC MAP PROJECTED REFDR EXTENSION9 V4.0"
DETECTOR_ID = MEX_HRSC_P2
EVENT_TYPE = "MARS-REGIONAL-MAPPING-Pf"
INSTRUMENT_HOST_ID = MEX
INSTRUMENT_HOST_NAME = "MARS EXPRESS"
INSTRUMENT_ID = HRSC
INSTRUMENT_NAME = "HIGH RESOLUTION STEREO CAMERA"
MISSION_NAME = "MARS EXPRESS"
MISSION_PHASE_NAME = ME_Phase_50
PROCESSING_LEVEL_ID = 4
PRODUCT_CREATION_TIME = 2024-08-21T23:02:24.000Z
PRODUCT_ID = "HP769_0000_P24.TIF"
RELEASE_ID = 0015
REVISION_ID = 0000
/* QUALITY DATA ELEMENTS */
DATA_QUALITY_ID = 1
DATA_QUALITY_DESC = "Data calculated based on original SPICE kernels"
/* TIME DATA ELEMENTS */
SPACECRAFT_CLOCK_START_COUNT = "1/0665172189.00335"
SPACECRAFT_CLOCK_STOP_COUNT = "1/0665172515.65498"
START_TIME = 2024-05-30T18:05:24.729Z
STOP_TIME = 2024-05-30T18:08:55.792Z
/* ORBITAL DATA ELEMENTS */
ASCENDING_NODE_LONGITUDE = 96.55
MAXIMUM_RESOLUTION = 0.0533
FOOTPRINT_POINT_LATITUDE = (-77.1779,-77.4151,-77.5746,-77.7235, -77.8615,-77.9892,-78.1066,-78.1135, -78.0054,-78.5706,-79.0173,-79.4589, -80.0285,-80.4847,-80.7141,-81.0565, -81.2834,-81.622,-81.9582,-82.1809, -82.6198,-82.8393,-83.055,-83.2741, -83.5156,-83.7539,-83.988,-84.334, -84.5597,-84.7799,-84.9945,-85.2025, -85.4041,-85.6962,-85.8804,-86.0535, -86.2163,-86.3638,-86.4961,-86.6096, -86.7024,-86.7719,-86.8279,-86.8308, -86.8053,-86.7516,-86.6194,-86.4995, -86.4304,-86.4252,-86.1142,-85.717, -85.488,-85.1762,-84.9386,-84.6161, -84.1755,-83.7558,-83.7275,-83.7176, -83.8368,-83.8948,-83.9398,-83.9692, -83.9786,-83.9769,-83.9624,-83.9308, -83.8877,-83.7975,-83.6788,-83.5861, -83.4835,-83.3697,-83.2484,-83.1199, -82.9853,-82.8399,-82.6875,-82.5277, -82.361,-82.1881,-81.9168,-81.7295, -81.5442,-81.1973,-80.8361,-80.5554, -80.2718,-80.0792,-79.7838,-79.4857, -79.0847,-78.6804,-78.275,-77.9704, -77.4606,-77.1552,-77.0527,-77.1779)
FOOTPRINT_POINT_LONGITUDE = (242.352,240.365,238.897,237.408, 235.901,234.377,232.835,232.738,232.595 ,233.339,233.989,234.692,235.694, 236.591,237.079,237.858,238.412,239.299 ,240.261,240.949,242.444,243.268, 244.136,245.084,246.214,247.431,248.74, 250.914,252.517,254.253,256.138,258.186 ,260.422,264.221,267.07,270.182,273.623 ,277.355,281.439,285.844,290.564, 295.563,303.445,308.817,314.204,319.489 ,327.094,331.816,334.068,334.226, 331.497,328.655,327.268,325.589,324.474 ,323.114,321.491,320.19,320.108,320.069 ,315.973,313.165,310.355,307.534, 304.679,301.866,299.095,296.346,293.666 ,289.757,286.016,283.623,281.328, 279.113,276.997,274.976,273.044,271.184 ,269.4,267.691,266.054,264.489,262.27, 260.874,259.592,257.389,255.358,253.939 ,252.603,251.755,250.546,249.405, 247.993,246.698,245.509,244.679,243.401 ,242.692,242.464,242.352)
ORBIT_NUMBER = 25769
ORBITAL_ECCENTRICITY = 0.574
ORBITAL_INCLINATION = 87.07
ORBITAL_SEMIMAJOR_AXIS = 8797.68
PERIAPSIS_ALTITUDE = 362.6
PERIAPSIS_ARGUMENT_ANGLE = 227.72
PERIAPSIS_TIME = 2024-05-30T17:56:11.000Z
SPACECRAFT_ORIENTATION = (0.0,-1.0,0.0)
^MEX_ORIENTATION_DESC = "MEX_ORIENTATION_DESC.TXT"
SPACECRAFT_POINTING_MODE = INERT
^MEX_POINTING_DESC = "MEX_POINTING_DESC.TXT"
RIGHT_ASCENSION = 325.164
DECLINATION = 55.321
OFFSET_ANGLE = -1e+32
SPACECRAFT_SOLAR_DISTANCE = 2.07205e+08
TARGET_NAME = MARS
/* CAMERA DATA ELEMENTS */
DETECTOR_TEMPERATURE = 18.3705
FOCAL_PLANE_TEMPERATURE = 8.7872
INST_CMPRS_NAME = "DISCRETE COSINE TRANSFORMATION (DCT)"
INST_CMPRS_RATIO = 9.19702
INST_CMPRS_QUALITY = 0
INST_CMPRS_QUANTZ_TBL_ID = 0
INSTRUMENT_TEMPERATURE = 11.0301
LENS_TEMPERATURE = 8.7872
MACROPIXEL_SIZE = 2
MISSING_FRAMES = 0
PIXEL_SUBSAMPLING_FLAG = N
SIGNAL_CHAIN_ID = 3
/* RADIOMETRIC DATA ELEMENTS */
BANDWIDTH = 177.0
CENTER_FILTER_WAVELENGTH = 676.5
RADIANCE_OFFSET = 2.89007
RADIANCE_SCALING_FACTOR = 0.0358142
REFLECTANCE_SCALING_FACTOR = 0.00081529
MEX:REFLECTANCE_OFFSET = 0.0657908
/* IMAGE OBJECT DEFINITIONS */
OBJECT = IMAGE
  INTERCHANGE_FORMAT = BINARY
  LINES = 13836
  LINE_SAMPLES = 12192
  SAMPLE_TYPE = UNSIGNED_INTEGER
  SAMPLE_BITS = 8
  BANDS = 1
  BAND_STORAGE_TYPE = BAND_SEQUENTIAL
  MAXIMUM = 255
  MEAN = 137.569
  MINIMUM = 1
  STANDARD_DEVIATION = 85.1431
END_OBJECT = IMAGE
/* MAP OBJECT DEFINITIONS */
OBJECT = IMAGE_MAP_PROJECTION
  ^DATA_SET_MAP_PROJECTION_CATALOG= "DSMAP.CAT"
  A_AXIS_RADIUS = 3396.0
  B_AXIS_RADIUS = 3396.0
  C_AXIS_RADIUS = 3396.0
  CENTER_LATITUDE = -82.8967
  CENTER_LONGITUDE = 255.715
  COORDINATE_SYSTEM_NAME = PLANETOGRAPHIC
  COORDINATE_SYSTEM_TYPE = "BODY-FIXED ROTATING"
  EASTERNMOST_LONGITUDE = 334.226
  FIRST_STANDARD_PARALLEL = "N/A"
  LINE_FIRST_PIXEL = 1
  LINE_LAST_PIXEL = 13836
  LINE_PROJECTION_OFFSET = 6414.25
  MAP_PROJECTION_ROTATION = 0.0
  MAP_PROJECTION_TYPE = ORTHOGRAPHIC
  MAP_RESOLUTION = 1185.42760773333
  MAP_SCALE = 0.05
  MAXIMUM_LATITUDE = -77.0527
  MINIMUM_LATITUDE = -86.8308
  POSITIVE_LONGITUDE_DIRECTION = EAST
  REFERENCE_LATITUDE = "N/A"
  REFERENCE_LONGITUDE = "N/A"
  SAMPLE_FIRST_PIXEL = 1
  SAMPLE_LAST_PIXEL = 12192
  SAMPLE_PROJECTION_OFFSET = 5491.25
  SECOND_STANDARD_PARALLEL = "N/A"
  WESTERNMOST_LONGITUDE = 232.595
END_OBJECT = IMAGE_MAP_PROJECTION
END
