PDS_VERSION_ID = PDS3
/* FILE DATA ELEMENTS */
RECORD_TYPE = UNDEFINED
/* POINTERS TO DATA OBJECTS */
^IMAGE = ("HP763_0000_ND4.TIF")
/* IDENTIFICATION DATA ELEMENTS */
DATA_SET_ID = "MEX-M-HRSC-4-REFDR-MAPPROJECT-EXT9-V4.0"
DATA_SET_NAME = "MARS EXPRESS HRSC MAP PROJECTED REFDR EXTENSION9 V4.0"
DETECTOR_ID = MEX_HRSC_NADIR
EVENT_TYPE = "MARS-TERMINATOR-CALIBRATION-Tc"
INSTRUMENT_HOST_ID = MEX
INSTRUMENT_HOST_NAME = "MARS EXPRESS"
INSTRUMENT_ID = HRSC
INSTRUMENT_NAME = "HIGH RESOLUTION STEREO CAMERA"
MISSION_NAME = "MARS EXPRESS"
MISSION_PHASE_NAME = ME_Phase_50
PROCESSING_LEVEL_ID = 4
PRODUCT_CREATION_TIME = 2024-08-21T23:02:24.000Z
PRODUCT_ID = "HP763_0000_ND4.TIF"
RELEASE_ID = 0015
REVISION_ID = 0000
/* QUALITY DATA ELEMENTS */
DATA_QUALITY_ID = 1
DATA_QUALITY_DESC = "Data calculated based on original SPICE kernels"
/* TIME DATA ELEMENTS */
SPACECRAFT_CLOCK_START_COUNT = "1/0665033150.65077"
SPACECRAFT_CLOCK_STOP_COUNT = "1/0665033555.63888"
START_TIME = 2024-05-29T03:28:24.748Z
STOP_TIME = 2024-05-29T03:31:37.747Z
/* ORBITAL DATA ELEMENTS */
ASCENDING_NODE_LONGITUDE = 96.66
MAXIMUM_RESOLUTION = 0.4203
FOOTPRINT_POINT_LATITUDE = (-5.77128,-5.80145,-6.80696,-10.204, -12.8783,-13.682,-14.3141,-10.6041, -6.7172,-1.88858,2.77324,5.45622, 8.98817,13.1464,17.6396,20.4608,22.5553 ,24.8048,27.9667,29.6024,31.7546, 33.4231,35.2392,36.7368,37.5189,37.7906 ,37.8619,37.5874,36.9274,35.8053, 34.5183,32.3301,31.1057,29.408,27.1917, 24.0057,19.8236,16.2497,17.8769,20.1699 ,21.992,24.0708,25.3628,27.8255,32.5001 ,34.7168,35.9431,38.3222,40.8641, 44.3521,41.916,47.3472,42.5995,48.5482, 42.8569,49.3965,43.5927,46.4123,49.88, 54.5356,59.4565,62.6084,66.6237,71.4199 ,74.275,76.2518,77.0848,77.4255,77.0092 ,75.2037,72.9521,70.0236,67.92,64.2514, 62.0148,59.5588,57.253,54.7044,51.9602, 49.1602,46.1854,42.9799,39.4562,35.4644 ,33.0606,30.5305,27.612,24.0094,20.3368 ,17.6205,15.2918,10.6354,8.74462, 5.44744,3.24013,-0.26764,-2.24044, -3.31931,-5.77128)
FOOTPRINT_POINT_LONGITUDE = (184.138,184.126,186.22,190.964,194.947 ,198.978,203.113,205.308,207.682, 210.783,213.972,215.926,218.661,222.189 ,226.307,229.481,232.063,235.021,239.8, 242.671,247.05,251.134,256.795,263.474, 269.168,272.812,278.518,283.507,288.818 ,294.39,299.064,305.092,307.852,311.242 ,315.083,319.794,324.992,328.809, 332.248,334.413,337.495,340.166,341.707 ,344.882,350.321,352.182,355.983, 358.898,1.30555,359.968,4.31147, 0.0267633,5.96963,0.0212254,6.62199, 0.0330182,7.18666,10.1116,11.3326, 6.63416,0.7641,356.299,349.169,336.674, 324.474,309.87,298.209,282.291,267.841, 248.756,236.572,226.384,220.978,213.637 ,209.987,206.465,203.499,200.509,197.55 ,194.741,191.927,189.039,185.982, 182.614,180.611,178.509,176.078,173.038 ,169.866,167.447,165.299,166.792,169.49 ,172.64,174.835,178.276,180.312,181.634 ,184.138)
ORBIT_NUMBER = 25763
ORBITAL_ECCENTRICITY = 0.574
ORBITAL_INCLINATION = 87.08
ORBITAL_SEMIMAJOR_AXIS = 8798.37
PERIAPSIS_ALTITUDE = 362.41
PERIAPSIS_ARGUMENT_ANGLE = 228.75
PERIAPSIS_TIME = 2024-05-29T00:01:50.000Z
SPACECRAFT_ORIENTATION = (0.0,1.0,0.0)
^MEX_ORIENTATION_DESC = "MEX_ORIENTATION_DESC.TXT"
SPACECRAFT_POINTING_MODE = FIXED
^MEX_POINTING_DESC = "MEX_POINTING_DESC.TXT"
RIGHT_ASCENSION = -1e+32
DECLINATION = -1e+32
OFFSET_ANGLE = -1e+32
SPACECRAFT_SOLAR_DISTANCE = 2.07125e+08
TARGET_NAME = MARS
/* CAMERA DATA ELEMENTS */
DETECTOR_TEMPERATURE = 18.3705
FOCAL_PLANE_TEMPERATURE = 9.195
INST_CMPRS_NAME = "DISCRETE COSINE TRANSFORMATION (DCT)"
INST_CMPRS_RATIO = 11.4595
INST_CMPRS_QUALITY = 0
INST_CMPRS_QUANTZ_TBL_ID = 0
INSTRUMENT_TEMPERATURE = 11.4379
LENS_TEMPERATURE = 8.9911
MACROPIXEL_SIZE = 1
MISSING_FRAMES = 0
PIXEL_SUBSAMPLING_FLAG = N
SIGNAL_CHAIN_ID = 0
/* RADIOMETRIC DATA ELEMENTS */
BANDWIDTH = 177.0
CENTER_FILTER_WAVELENGTH = 677.5
RADIANCE_OFFSET = 0.0
RADIANCE_SCALING_FACTOR = 0.0215966
REFLECTANCE_SCALING_FACTOR = 0.00049222
MEX:REFLECTANCE_OFFSET = 0.0
/* IMAGE OBJECT DEFINITIONS */
OBJECT = IMAGE
  INTERCHANGE_FORMAT = BINARY
  LINES = 12533
  LINE_SAMPLES = 16021
  SAMPLE_TYPE = UNSIGNED_INTEGER
  SAMPLE_BITS = 8
  BANDS = 1
  BAND_STORAGE_TYPE = BAND_SEQUENTIAL
  MAXIMUM = 255
  MEAN = 120.114
  MINIMUM = 1
  STANDARD_DEVIATION = 106.009
END_OBJECT = IMAGE
/* MAP OBJECT DEFINITIONS */
OBJECT = IMAGE_MAP_PROJECTION
  ^DATA_SET_MAP_PROJECTION_CATALOG= "DSMAP.CAT"
  A_AXIS_RADIUS = 3396.0
  B_AXIS_RADIUS = 3396.0
  C_AXIS_RADIUS = 3396.0
  CENTER_LATITUDE = 51.23
  CENTER_LONGITUDE = 242.835
  COORDINATE_SYSTEM_NAME = PLANETOGRAPHIC
  COORDINATE_SYSTEM_TYPE = "BODY-FIXED ROTATING"
  EASTERNMOST_LONGITUDE = 360.0
  FIRST_STANDARD_PARALLEL = "N/A"
  LINE_FIRST_PIXEL = 1
  LINE_LAST_PIXEL = 12533
  LINE_PROJECTION_OFFSET = 6872.0
  MAP_PROJECTION_ROTATION = 0.0
  MAP_PROJECTION_TYPE = ORTHOGRAPHIC
  MAP_RESOLUTION = 148.178450966667
  MAP_SCALE = 0.4
  MAXIMUM_LATITUDE = 90.0
  MINIMUM_LATITUDE = -14.3141
  POSITIVE_LONGITUDE_DIRECTION = EAST
  REFERENCE_LATITUDE = "N/A"
  REFERENCE_LONGITUDE = "N/A"
  SAMPLE_FIRST_PIXEL = 1
  SAMPLE_LAST_PIXEL = 16021
  SAMPLE_PROJECTION_OFFSET = 7967.0
  SECOND_STANDARD_PARALLEL = "N/A"
  WESTERNMOST_LONGITUDE = 0.0
END_OBJECT = IMAGE_MAP_PROJECTION
END
