PDS_VERSION_ID = PDS3
/* FILE DATA ELEMENTS */
RECORD_TYPE = UNDEFINED
/* POINTERS TO DATA OBJECTS */
^IMAGE = ("HP762_0000_P24.TIF")
/* IDENTIFICATION DATA ELEMENTS */
DATA_SET_ID = "MEX-M-HRSC-4-REFDR-MAPPROJECT-EXT9-V4.0"
DATA_SET_NAME = "MARS EXPRESS HRSC MAP PROJECTED REFDR EXTENSION9 V4.0"
DETECTOR_ID = MEX_HRSC_P2
EVENT_TYPE = "MARS-REGIONAL-MAPPING-Gl-Pf-La"
INSTRUMENT_HOST_ID = MEX
INSTRUMENT_HOST_NAME = "MARS EXPRESS"
INSTRUMENT_ID = HRSC
INSTRUMENT_NAME = "HIGH RESOLUTION STEREO CAMERA"
MISSION_NAME = "MARS EXPRESS"
MISSION_PHASE_NAME = ME_Phase_50
PROCESSING_LEVEL_ID = 4
PRODUCT_CREATION_TIME = 2024-08-21T23:02:24.000Z
PRODUCT_ID = "HP762_0000_P24.TIF"
RELEASE_ID = 0015
REVISION_ID = 0000
/* QUALITY DATA ELEMENTS */
DATA_QUALITY_ID = 1
DATA_QUALITY_DESC = "Data calculated based on original SPICE kernels"
/* TIME DATA ELEMENTS */
SPACECRAFT_CLOCK_START_COUNT = "1/0664996155.64179"
SPACECRAFT_CLOCK_STOP_COUNT = "1/0664996468.35295"
START_TIME = 2024-05-28T17:11:26.971Z
STOP_TIME = 2024-05-28T17:14:50.378Z
/* ORBITAL DATA ELEMENTS */
ASCENDING_NODE_LONGITUDE = 96.68
MAXIMUM_RESOLUTION = 0.0506
FOOTPRINT_POINT_LATITUDE = (-77.4303,-77.6324,-77.7682,-77.8946, -78.0116,-78.1193,-78.2178,-78.2237, -78.1366,-78.4636,-78.8963,-79.3382, -79.7833,-80.2294,-80.6783,-81.0179, -81.4709,-81.9259,-82.2685,-82.497, -82.7263,-82.9544,-83.1817,-83.4062, -83.6312,-83.8529,-84.0718,-84.2874, -84.6082,-84.8181,-85.024,-85.2456, -85.4688,-85.7917,-85.998,-86.1921, -86.3756,-86.5465,-86.7016,-86.8393, -86.9586,-87.0558,-87.1285,-87.1739, -87.19,-87.1757,-87.1309,-87.0562, -86.9532,-86.8916,-86.8719,-86.5943, -86.139,-85.8686,-85.4927,-85.1095, -84.85,-84.5619,-84.3237,-84.2971, -84.2877,-84.3903,-84.4407,-84.4715, -84.4881,-84.4904,-84.4637,-84.4284, -84.3785,-84.2761,-84.1931,-84.0465, -83.934,-83.8135,-83.6805,-83.5379, -83.3859,-83.2278,-83.0801,-82.9272, -82.7671,-82.6041,-82.4361,-82.2632, -81.9052,-81.6272,-81.4378,-81.2437, -81.0523,-80.8568,-80.4631,-79.9662, -79.4647,-79.0603,-78.6568,-78.152, -77.748,-77.445,-77.343,-77.4303)
FOOTPRINT_POINT_LONGITUDE = (235.865,233.928,232.498,231.048, 229.582,228.099,226.6,226.506,226.355, 226.737,227.277,227.879,228.542,229.271 ,230.081,230.751,231.735,232.843, 233.772,234.444,235.164,235.932,236.754 ,237.628,238.574,239.584,240.665, 241.824,243.752,245.169,246.701,248.536 ,250.619,254.164,256.861,259.803, 263.066,266.676,270.629,274.949,279.689 ,284.8,290.274,296.013,301.91,307.889, 313.756,319.433,324.818,327.381,328.129 ,325.575,322.263,320.654,318.767, 317.158,316.203,315.261,314.557,314.482 ,314.444,310.006,307.016,303.975, 300.935,297.931,293.468,290.555,287.711 ,283.581,280.932,277.112,274.674, 272.335,270.085,267.932,265.874,263.936 ,262.288,260.71,259.199,257.756,256.376 ,255.057,252.592,250.885,249.81,248.783 ,247.815,246.888,245.172,243.241, 241.522,240.277,239.138,237.841,236.892 ,236.23,236.017,235.865)
ORBIT_NUMBER = 25762
ORBITAL_ECCENTRICITY = 0.574
ORBITAL_INCLINATION = 87.07
ORBITAL_SEMIMAJOR_AXIS = 8795.15
PERIAPSIS_ALTITUDE = 362.38
PERIAPSIS_ARGUMENT_ANGLE = 228.9
PERIAPSIS_TIME = 2024-05-28T17:02:41.000Z
SPACECRAFT_ORIENTATION = (0.0,-1.0,0.0)
^MEX_ORIENTATION_DESC = "MEX_ORIENTATION_DESC.TXT"
SPACECRAFT_POINTING_MODE = INERT
^MEX_POINTING_DESC = "MEX_POINTING_DESC.TXT"
RIGHT_ASCENSION = 322.094
DECLINATION = 57.062
OFFSET_ANGLE = -1e+32
SPACECRAFT_SOLAR_DISTANCE = 2.07112e+08
TARGET_NAME = MARS
/* CAMERA DATA ELEMENTS */
DETECTOR_TEMPERATURE = 18.7783
FOCAL_PLANE_TEMPERATURE = 8.7872
INST_CMPRS_NAME = "DISCRETE COSINE TRANSFORMATION (DCT)"
INST_CMPRS_RATIO = 8.98286
INST_CMPRS_QUALITY = 0
INST_CMPRS_QUANTZ_TBL_ID = 0
INSTRUMENT_TEMPERATURE = 11.0301
LENS_TEMPERATURE = 8.9911
MACROPIXEL_SIZE = 2
MISSING_FRAMES = 0
PIXEL_SUBSAMPLING_FLAG = N
SIGNAL_CHAIN_ID = 3
/* RADIOMETRIC DATA ELEMENTS */
BANDWIDTH = 177.0
CENTER_FILTER_WAVELENGTH = 676.5
RADIANCE_OFFSET = 2.95638
RADIANCE_SCALING_FACTOR = 0.0368743
REFLECTANCE_SCALING_FACTOR = 0.000838673
MEX:REFLECTANCE_OFFSET = 0.0672403
/* IMAGE OBJECT DEFINITIONS */
OBJECT = IMAGE
  INTERCHANGE_FORMAT = BINARY
  LINES = 13875
  LINE_SAMPLES = 11281
  SAMPLE_TYPE = UNSIGNED_INTEGER
  SAMPLE_BITS = 8
  BANDS = 1
  BAND_STORAGE_TYPE = BAND_SEQUENTIAL
  MAXIMUM = 255
  MEAN = 130.314
  MINIMUM = 1
  STANDARD_DEVIATION = 85.961
END_OBJECT = IMAGE
/* MAP OBJECT DEFINITIONS */
OBJECT = IMAGE_MAP_PROJECTION
  ^DATA_SET_MAP_PROJECTION_CATALOG= "DSMAP.CAT"
  A_AXIS_RADIUS = 3396.0
  B_AXIS_RADIUS = 3396.0
  C_AXIS_RADIUS = 3396.0
  CENTER_LATITUDE = -83.07899999999999
  CENTER_LONGITUDE = 247.966
  COORDINATE_SYSTEM_NAME = PLANETOGRAPHIC
  COORDINATE_SYSTEM_TYPE = "BODY-FIXED ROTATING"
  EASTERNMOST_LONGITUDE = 328.129
  FIRST_STANDARD_PARALLEL = "N/A"
  LINE_FIRST_PIXEL = 1
  LINE_LAST_PIXEL = 13875
  LINE_PROJECTION_OFFSET = 6424.25
  MAP_PROJECTION_ROTATION = 0.0
  MAP_PROJECTION_TYPE = ORTHOGRAPHIC
  MAP_RESOLUTION = 1185.42760773333
  MAP_SCALE = 0.05
  MAXIMUM_LATITUDE = -77.343
  MINIMUM_LATITUDE = -87.19
  POSITIVE_LONGITUDE_DIRECTION = EAST
  REFERENCE_LATITUDE = "N/A"
  REFERENCE_LONGITUDE = "N/A"
  SAMPLE_FIRST_PIXEL = 1
  SAMPLE_LAST_PIXEL = 11281
  SAMPLE_PROJECTION_OFFSET = 5083.25
  SECOND_STANDARD_PARALLEL = "N/A"
  WESTERNMOST_LONGITUDE = 226.355
END_OBJECT = IMAGE_MAP_PROJECTION
END
