PDS_VERSION_ID = PDS3
/* FILE DATA ELEMENTS */
RECORD_TYPE = UNDEFINED
/* POINTERS TO DATA OBJECTS */
^IMAGE = ("HP760_0000_BL4.TIF")
/* IDENTIFICATION DATA ELEMENTS */
DATA_SET_ID = "MEX-M-HRSC-4-REFDR-MAPPROJECT-EXT9-V4.0"
DATA_SET_NAME = "MARS EXPRESS HRSC MAP PROJECTED REFDR EXTENSION9 V4.0"
DETECTOR_ID = MEX_HRSC_BLUE
EVENT_TYPE = "MARS-REGIONAL-MAPPING-Gl-Pf-La"
INSTRUMENT_HOST_ID = MEX
INSTRUMENT_HOST_NAME = "MARS EXPRESS"
INSTRUMENT_ID = HRSC
INSTRUMENT_NAME = "HIGH RESOLUTION STEREO CAMERA"
MISSION_NAME = "MARS EXPRESS"
MISSION_PHASE_NAME = ME_Phase_50
PROCESSING_LEVEL_ID = 4
PRODUCT_CREATION_TIME = 2024-08-21T23:02:24.000Z
PRODUCT_ID = "HP760_0000_BL4.TIF"
RELEASE_ID = 0015
REVISION_ID = 0000
/* QUALITY DATA ELEMENTS */
DATA_QUALITY_ID = 1
DATA_QUALITY_DESC = "Data calculated based on original SPICE kernels"
/* TIME DATA ELEMENTS */
SPACECRAFT_CLOCK_START_COUNT = "1/0664945830.65124"
SPACECRAFT_CLOCK_STOP_COUNT = "1/0664946144.16065"
START_TIME = 2024-05-28T03:12:10.876Z
STOP_TIME = 2024-05-28T03:15:35.501Z
/* ORBITAL DATA ELEMENTS */
ASCENDING_NODE_LONGITUDE = 96.71
MAXIMUM_RESOLUTION = 0.0878
FOOTPRINT_POINT_LATITUDE = (-75.4535,-75.6175,-75.7106,-75.7977, -75.8788,-75.9542,-76.0239,-76.0281, -75.9821,-76.5534,-77.0124,-77.3588, -77.8247,-78.2941,-78.7692,-79.0068, -79.366,-79.6068,-79.847,-80.0895, -80.3334,-80.5761,-80.8212,-81.067, -81.3114,-81.5585,-81.8052,-82.052, -82.3005,-82.5475,-82.92,-83.1667, -83.5375,-83.7825,-84.0279,-84.2707, -84.6316,-84.8677,-85.1016,-85.3295, -85.5507,-85.8665,-86.0642,-86.2499, -86.4217,-86.6488,-86.7764,-86.8922, -86.9802,-87.0339,-87.0472,-87.0484, -86.4694,-86.0468,-85.7152,-85.2139, -84.5352,-84.5107,-84.5025,-84.488, -84.4532,-84.3713,-84.3008,-84.217, -84.1208,-84.0118,-83.8909,-83.758, -83.5386,-83.3808,-83.2143,-83.0426, -82.7717,-82.5852,-82.3898,-82.1952, -81.9956,-81.7938,-81.5888,-81.3804, -81.1713,-80.8526,-80.6396,-80.4238, -80.206,-79.9916,-79.7735,-79.4457, -79.2259,-79.0058,-78.7871,-78.5669, -78.1281,-77.6885,-77.2514,-76.5931, -76.1601,-75.5086,-75.3998,-75.4535)
FOOTPRINT_POINT_LONGITUDE = (76.4777,74.7296,73.6475,72.5612, 71.4724,70.3796,69.2834,69.2148,69.1611 ,69.6592,70.0936,70.444,70.9489,71.5013 ,72.1109,72.437,72.9596,73.3319,73.722, 74.1364,74.5758,75.0375,75.5305,76.0543 ,76.607,77.2015,77.8338,78.5092,79.2378 ,80.0151,81.3013,82.2403,83.8045, 84.9554,86.2189,87.5941,89.9161,91.6534 ,93.5844,95.7113,98.0564,102.036, 105.034,108.34,111.977,118.092,122.615, 128.017,133.954,140.176,143.353,143.798 ,143.947,144.032,144.088,144.156, 144.234,144.237,144.216,139.085,135.698 ,130.989,128.158,125.401,122.727, 120.146,117.663,115.285,111.917,109.798 ,107.784,105.895,103.252,101.618, 100.085,98.6346,97.257,95.964,94.739, 93.5797,92.4893,90.9524,90.0013,89.0947 ,88.2436,87.4203,86.639,85.5487,84.8627 ,84.2073,83.5859,82.9893,81.8728, 80.8453,79.9107,78.6484,77.8676,76.8295 ,76.6653,76.4777)
ORBIT_NUMBER = 25760
ORBITAL_ECCENTRICITY = 0.574
ORBITAL_INCLINATION = 87.09
ORBITAL_SEMIMAJOR_AXIS = 8795.94
PERIAPSIS_ALTITUDE = 361.42
PERIAPSIS_ARGUMENT_ANGLE = 229.27
PERIAPSIS_TIME = 2024-05-28T03:04:36.000Z
SPACECRAFT_ORIENTATION = (0.0,-1.0,0.0)
^MEX_ORIENTATION_DESC = "MEX_ORIENTATION_DESC.TXT"
SPACECRAFT_POINTING_MODE = INERT
^MEX_POINTING_DESC = "MEX_POINTING_DESC.TXT"
RIGHT_ASCENSION = 322.7
DECLINATION = 59.037
OFFSET_ANGLE = -1e+32
SPACECRAFT_SOLAR_DISTANCE = 2.07087e+08
TARGET_NAME = MARS
/* CAMERA DATA ELEMENTS */
DETECTOR_TEMPERATURE = 18.5744
FOCAL_PLANE_TEMPERATURE = 8.5833
INST_CMPRS_NAME = "DISCRETE COSINE TRANSFORMATION (DCT)"
INST_CMPRS_RATIO = 26.0944
INST_CMPRS_QUALITY = 0
INST_CMPRS_QUANTZ_TBL_ID = 0
INSTRUMENT_TEMPERATURE = 11.4379
LENS_TEMPERATURE = 8.7872
MACROPIXEL_SIZE = 4
MISSING_FRAMES = 0
PIXEL_SUBSAMPLING_FLAG = N
SIGNAL_CHAIN_ID = 2
/* RADIOMETRIC DATA ELEMENTS */
BANDWIDTH = 76.0
CENTER_FILTER_WAVELENGTH = 444.0
RADIANCE_OFFSET = 0.41349
RADIANCE_SCALING_FACTOR = 0.00579118
REFLECTANCE_SCALING_FACTOR = 0.00025517
MEX:REFLECTANCE_OFFSET = 0.0182191
/* IMAGE OBJECT DEFINITIONS */
OBJECT = IMAGE
  INTERCHANGE_FORMAT = BINARY
  LINES = 7623
  LINE_SAMPLES = 5050
  SAMPLE_TYPE = UNSIGNED_INTEGER
  SAMPLE_BITS = 8
  BANDS = 1
  BAND_STORAGE_TYPE = BAND_SEQUENTIAL
  MAXIMUM = 255
  MEAN = 51.1926
  MINIMUM = 1
  STANDARD_DEVIATION = 34.9733
END_OBJECT = IMAGE
/* MAP OBJECT DEFINITIONS */
OBJECT = IMAGE_MAP_PROJECTION
  ^DATA_SET_MAP_PROJECTION_CATALOG= "DSMAP.CAT"
  A_AXIS_RADIUS = 3396.0
  B_AXIS_RADIUS = 3396.0
  C_AXIS_RADIUS = 3396.0
  CENTER_LATITUDE = -81.526
  CENTER_LONGITUDE = 85.1161
  COORDINATE_SYSTEM_NAME = PLANETOGRAPHIC
  COORDINATE_SYSTEM_TYPE = "BODY-FIXED ROTATING"
  EASTERNMOST_LONGITUDE = 144.237
  FIRST_STANDARD_PARALLEL = "N/A"
  LINE_FIRST_PIXEL = 1
  LINE_LAST_PIXEL = 7623
  LINE_PROJECTION_OFFSET = 3528.375
  MAP_PROJECTION_ROTATION = 0.0
  MAP_PROJECTION_TYPE = ORTHOGRAPHIC
  MAP_RESOLUTION = 592.713803866667
  MAP_SCALE = 0.1
  MAXIMUM_LATITUDE = -75.3998
  MINIMUM_LATITUDE = -87.0484
  POSITIVE_LONGITUDE_DIRECTION = EAST
  REFERENCE_LATITUDE = "N/A"
  REFERENCE_LONGITUDE = "N/A"
  SAMPLE_FIRST_PIXEL = 1
  SAMPLE_LAST_PIXEL = 5050
  SAMPLE_PROJECTION_OFFSET = 2257.125
  SECOND_STANDARD_PARALLEL = "N/A"
  WESTERNMOST_LONGITUDE = 69.1611
END_OBJECT = IMAGE_MAP_PROJECTION
END
