PDS_VERSION_ID = PDS3
/* FILE DATA ELEMENTS */
RECORD_TYPE = UNDEFINED
/* POINTERS TO DATA OBJECTS */
^IMAGE = ("HP753_0000_P14.TIF")
/* IDENTIFICATION DATA ELEMENTS */
DATA_SET_ID = "MEX-M-HRSC-4-REFDR-MAPPROJECT-EXT9-V4.0"
DATA_SET_NAME = "MARS EXPRESS HRSC MAP PROJECTED REFDR EXTENSION9 V4.0"
DETECTOR_ID = MEX_HRSC_P1
EVENT_TYPE = "MARS-REGIONAL-MAPPING-Gl-Pf-La"
INSTRUMENT_HOST_ID = MEX
INSTRUMENT_HOST_NAME = "MARS EXPRESS"
INSTRUMENT_ID = HRSC
INSTRUMENT_NAME = "HIGH RESOLUTION STEREO CAMERA"
MISSION_NAME = "MARS EXPRESS"
MISSION_PHASE_NAME = ME_Phase_50
PROCESSING_LEVEL_ID = 4
PRODUCT_CREATION_TIME = 2024-08-21T23:02:24.000Z
PRODUCT_ID = "HP753_0000_P14.TIF"
RELEASE_ID = 0015
REVISION_ID = 0000
/* QUALITY DATA ELEMENTS */
DATA_QUALITY_ID = 1
DATA_QUALITY_DESC = "Data calculated based on original SPICE kernels"
/* TIME DATA ELEMENTS */
SPACECRAFT_CLOCK_START_COUNT = "1/0664769810.65142"
SPACECRAFT_CLOCK_STOP_COUNT = "1/0664770114.26200"
START_TIME = 2024-05-26T02:17:53.084Z
STOP_TIME = 2024-05-26T02:20:58.050Z
/* ORBITAL DATA ELEMENTS */
ASCENDING_NODE_LONGITUDE = 96.83
MAXIMUM_RESOLUTION = 0.0407
FOOTPRINT_POINT_LATITUDE = (-76.1526,-76.2694,-76.3481,-76.4216, -76.4901,-76.5535,-76.612,-76.6155, -76.6377,-77.0789,-77.529,-78.0911, -78.4334,-78.7752,-79.2342,-79.4658, -79.6971,-79.9277,-80.2791,-80.5131, -80.7503,-81.1017,-81.3375,-81.5734, -81.9304,-82.1682,-82.4049,-82.644, -83.002,-83.2391,-83.4785,-83.7163, -83.9519,-84.1884,-84.4226,-84.6537, -84.8848,-85.1114,-85.3336,-85.5543, -85.8726,-86.1686,-86.3529,-86.5267, -86.6843,-86.8864,-86.9932,-87.0743, -87.1408,-87.1471,-87.1471,-86.7209, -86.472,-86.2218,-85.7861,-85.4622, -85.0665,-84.8084,-84.7848,-84.7764, -84.7874,-84.7809,-84.7568,-84.7159, -84.6252,-84.5457,-84.4003,-84.2882, -84.0984,-83.9596,-83.8119,-83.6565, -83.4936,-83.3238,-83.1493,-82.9694, -82.6903,-82.5004,-82.306,-82.1083, -81.9096,-81.7074,-81.5024,-81.2979, -80.9863,-80.6723,-80.4623,-80.2505, -79.9321,-79.6137,-79.3996,-78.9734, -78.6527,-78.225,-77.7989,-77.3718, -76.9485,-76.3135,-76.2086,-76.1526)
FOOTPRINT_POINT_LONGITUDE = (71.5373,70.0664,68.992,67.9142,66.834, 65.7509,64.665,64.5971,64.5909,65.0007, 65.4505,66.0634,66.4681,66.8984,67.5222 ,67.8591,68.2115,68.5803,69.1782, 69.6027,70.0562,70.777,71.2958,71.8463, 72.7458,73.3947,74.0846,74.8311,76.0546 ,76.9443,77.9166,78.9659,80.0982, 81.3421,82.6965,84.1714,85.809,87.6022, 89.5766,91.7964,95.5837,99.9673,103.295 ,107.041,111.168,118.173,123.362, 128.947,137.882,140.957,142.571,142.48, 142.445,142.428,142.404,142.389,142.369 ,142.361,142.361,142.351,139.001, 135.677,132.382,129.179,124.481,121.51, 117.247,114.581,110.795,108.475,106.225 ,104.124,102.18,100.292,98.5239,96.8569 ,94.5209,93.088,91.7297,90.4434,89.2363 ,88.0928,87.0052,85.9898,84.5547,83.231 ,82.4071,81.62,80.5108,79.4888,78.8392, 77.6377,76.8041,75.7716,74.8287,73.9562 ,73.1565,72.052,71.8828,71.5373)
ORBIT_NUMBER = 25753
ORBITAL_ECCENTRICITY = 0.574
ORBITAL_INCLINATION = 87.09
ORBITAL_SEMIMAJOR_AXIS = 8794.04
PERIAPSIS_ALTITUDE = 361.18
PERIAPSIS_ARGUMENT_ANGLE = 230.45
PERIAPSIS_TIME = 2024-05-26T02:11:04.000Z
SPACECRAFT_ORIENTATION = (0.0,-1.0,0.0)
^MEX_ORIENTATION_DESC = "MEX_ORIENTATION_DESC.TXT"
SPACECRAFT_POINTING_MODE = INERT
^MEX_POINTING_DESC = "MEX_POINTING_DESC.TXT"
RIGHT_ASCENSION = 321.222
DECLINATION = 58.557
OFFSET_ANGLE = -1e+32
SPACECRAFT_SOLAR_DISTANCE = 2.07006e+08
TARGET_NAME = MARS
/* CAMERA DATA ELEMENTS */
DETECTOR_TEMPERATURE = 17.351
FOCAL_PLANE_TEMPERATURE = 8.7872
INST_CMPRS_NAME = "DISCRETE COSINE TRANSFORMATION (DCT)"
INST_CMPRS_RATIO = 13.902
INST_CMPRS_QUALITY = 0
INST_CMPRS_QUANTZ_TBL_ID = 0
INSTRUMENT_TEMPERATURE = 11.234
LENS_TEMPERATURE = 9.3989
MACROPIXEL_SIZE = 2
MISSING_FRAMES = 0
PIXEL_SUBSAMPLING_FLAG = N
SIGNAL_CHAIN_ID = 3
/* RADIOMETRIC DATA ELEMENTS */
BANDWIDTH = 174.0
CENTER_FILTER_WAVELENGTH = 675.0
RADIANCE_OFFSET = 2.78102
RADIANCE_SCALING_FACTOR = 0.0311088
REFLECTANCE_SCALING_FACTOR = 0.000717023
MEX:REFLECTANCE_OFFSET = 0.0640994
/* IMAGE OBJECT DEFINITIONS */
OBJECT = IMAGE
  INTERCHANGE_FORMAT = BINARY
  LINES = 14721
  LINE_SAMPLES = 9917
  SAMPLE_TYPE = UNSIGNED_INTEGER
  SAMPLE_BITS = 8
  BANDS = 1
  BAND_STORAGE_TYPE = BAND_SEQUENTIAL
  MAXIMUM = 255
  MEAN = 61.4915
  MINIMUM = 1
  STANDARD_DEVIATION = 38.9161
END_OBJECT = IMAGE
/* MAP OBJECT DEFINITIONS */
OBJECT = IMAGE_MAP_PROJECTION
  ^DATA_SET_MAP_PROJECTION_CATALOG= "DSMAP.CAT"
  A_AXIS_RADIUS = 3396.0
  B_AXIS_RADIUS = 3396.0
  C_AXIS_RADIUS = 3396.0
  CENTER_LATITUDE = -82.04349999999999
  CENTER_LONGITUDE = 80.83629999999999
  COORDINATE_SYSTEM_NAME = PLANETOGRAPHIC
  COORDINATE_SYSTEM_TYPE = "BODY-FIXED ROTATING"
  EASTERNMOST_LONGITUDE = 142.571
  FIRST_STANDARD_PARALLEL = "N/A"
  LINE_FIRST_PIXEL = 1
  LINE_LAST_PIXEL = 14721
  LINE_PROJECTION_OFFSET = 6823.25
  MAP_PROJECTION_ROTATION = 0.0
  MAP_PROJECTION_TYPE = ORTHOGRAPHIC
  MAP_RESOLUTION = 1185.42760773333
  MAP_SCALE = 0.05
  MAXIMUM_LATITUDE = -76.15260000000001
  MINIMUM_LATITUDE = -87.14709999999999
  POSITIVE_LONGITUDE_DIRECTION = EAST
  REFERENCE_LATITUDE = "N/A"
  REFERENCE_LONGITUDE = "N/A"
  SAMPLE_FIRST_PIXEL = 1
  SAMPLE_LAST_PIXEL = 9917
  SAMPLE_PROJECTION_OFFSET = 4451.75
  SECOND_STANDARD_PARALLEL = "N/A"
  WESTERNMOST_LONGITUDE = 64.5909
END_OBJECT = IMAGE_MAP_PROJECTION
END
