PDS_VERSION_ID = PDS3
/* FILE DATA ELEMENTS */
RECORD_TYPE = UNDEFINED
/* POINTERS TO DATA OBJECTS */
^IMAGE = ("HP748_0000_S14.TIF")
/* IDENTIFICATION DATA ELEMENTS */
DATA_SET_ID = "MEX-M-HRSC-4-REFDR-MAPPROJECT-EXT9-V4.0"
DATA_SET_NAME = "MARS EXPRESS HRSC MAP PROJECTED REFDR EXTENSION9 V4.0"
DETECTOR_ID = MEX_HRSC_S1
EVENT_TYPE = "MARS-REGIONAL-MAPPING-Gl-Pf-La"
INSTRUMENT_HOST_ID = MEX
INSTRUMENT_HOST_NAME = "MARS EXPRESS"
INSTRUMENT_ID = HRSC
INSTRUMENT_NAME = "HIGH RESOLUTION STEREO CAMERA"
MISSION_NAME = "MARS EXPRESS"
MISSION_PHASE_NAME = ME_Phase_50
PROCESSING_LEVEL_ID = 4
PRODUCT_CREATION_TIME = 2024-08-21T23:02:24.000Z
PRODUCT_ID = "HP748_0000_S14.TIF"
RELEASE_ID = 0015
REVISION_ID = 0000
/* QUALITY DATA ELEMENTS */
DATA_QUALITY_ID = 1
DATA_QUALITY_DESC = "Data calculated based on original SPICE kernels"
/* TIME DATA ELEMENTS */
SPACECRAFT_CLOCK_START_COUNT = "1/0664644081.00349"
SPACECRAFT_CLOCK_STOP_COUNT = "1/0664644370.06489"
START_TIME = 2024-05-24T15:22:09.679Z
STOP_TIME = 2024-05-24T15:24:57.957Z
/* ORBITAL DATA ELEMENTS */
ASCENDING_NODE_LONGITUDE = 96.92
MAXIMUM_RESOLUTION = 0.0405
FOOTPRINT_POINT_LATITUDE = (-76.9272,-77.0388,-77.1074,-77.1716, -77.231,-77.3303,-77.3333,-77.3868, -77.9113,-78.2321,-78.6557,-79.0869, -79.4117,-79.8475,-80.287,-80.6177, -80.8378,-81.0618,-81.286,-81.5099, -81.7334,-81.959,-82.186,-82.4126, -82.6388,-82.8665,-83.0955,-83.3239, -83.5515,-83.8988,-84.1281,-84.3527, -84.6966,-84.9229,-85.1471,-85.372, -85.5942,-85.9245,-86.1384,-86.3475, -86.5449,-86.7417,-86.9259,-87.097, -87.3261,-87.4538,-87.5578,-87.6607, -87.6787,-87.684,-87.4494,-87.1055, -86.6745,-86.3929,-85.8486,-85.4756, -85.4534,-85.4455,-85.4318,-85.4015, -85.3544,-85.2918,-85.2143,-85.1237, -85.0205,-84.8437,-84.7136,-84.574, -84.35,-84.193,-84.0278,-83.8579, -83.6839,-83.5049,-83.3215,-83.1372, -82.9485,-82.7569,-82.4657,-82.27, -82.0724,-81.872,-81.673,-81.4723, -81.2697,-81.0664,-80.8646,-80.6614, -80.4573,-80.15,-79.7429,-79.5378, -79.2303,-78.8237,-78.415,-78.0101, -77.6061,-77.1024,-77.0026,-76.9272)
FOOTPRINT_POINT_LONGITUDE = (221.307,219.692,218.605,217.511, 216.412,214.333,214.263,214.216,214.666 ,214.96,215.379,215.839,216.212,216.747 ,217.343,217.829,218.173,218.542,218.93 ,219.34,219.772,220.234,220.728,221.252 ,221.809,222.408,223.054,223.744, 224.485,225.728,226.638,227.616,229.28, 230.516,231.871,233.381,235.052,237.933 ,240.139,242.616,245.347,248.523, 252.077,256.073,263.088,268.434,274.348 ,284.113,287.489,288.954,289.334, 289.743,290.161,290.393,290.772,291.012 ,291.032,291.024,285.733,282.236, 278.857,275.59,272.406,269.4,266.511, 262.418,259.866,257.468,254.141,252.126 ,250.171,248.349,246.648,245.048, 243.542,242.148,240.818,239.571,237.825 ,236.752,235.743,234.771,233.868, 233.011,232.193,231.418,230.688,229.992 ,229.33,228.389,227.245,226.706,225.941 ,225.004,224.139,223.348,222.619, 221.779,221.622,221.307)
ORBIT_NUMBER = 25748
ORBITAL_ECCENTRICITY = 0.574
ORBITAL_INCLINATION = 87.08
ORBITAL_SEMIMAJOR_AXIS = 8790.58
PERIAPSIS_ALTITUDE = 362.07
PERIAPSIS_ARGUMENT_ANGLE = 231.27
PERIAPSIS_TIME = 2024-05-24T15:15:36.000Z
SPACECRAFT_ORIENTATION = (0.0,-1.0,0.0)
^MEX_ORIENTATION_DESC = "MEX_ORIENTATION_DESC.TXT"
SPACECRAFT_POINTING_MODE = INERT
^MEX_POINTING_DESC = "MEX_POINTING_DESC.TXT"
RIGHT_ASCENSION = 315.916
DECLINATION = 57.543
OFFSET_ANGLE = -1e+32
SPACECRAFT_SOLAR_DISTANCE = 2.06953e+08
TARGET_NAME = MARS
/* CAMERA DATA ELEMENTS */
DETECTOR_TEMPERATURE = 17.351
FOCAL_PLANE_TEMPERATURE = 8.7872
INST_CMPRS_NAME = "DISCRETE COSINE TRANSFORMATION (DCT)"
INST_CMPRS_RATIO = 7.74336
INST_CMPRS_QUALITY = 0
INST_CMPRS_QUANTZ_TBL_ID = 0
INSTRUMENT_TEMPERATURE = 11.234
LENS_TEMPERATURE = 8.9911
MACROPIXEL_SIZE = 2
MISSING_FRAMES = 0
PIXEL_SUBSAMPLING_FLAG = N
SIGNAL_CHAIN_ID = 1
/* RADIOMETRIC DATA ELEMENTS */
BANDWIDTH = 180.0
CENTER_FILTER_WAVELENGTH = 677.0
RADIANCE_OFFSET = 3.29717
RADIANCE_SCALING_FACTOR = 0.0469998
REFLECTANCE_SCALING_FACTOR = 0.00105022
MEX:REFLECTANCE_OFFSET = 0.073676
/* IMAGE OBJECT DEFINITIONS */
OBJECT = IMAGE
  INTERCHANGE_FORMAT = BINARY
  LINES = 14038
  LINE_SAMPLES = 8807
  SAMPLE_TYPE = UNSIGNED_INTEGER
  SAMPLE_BITS = 8
  BANDS = 1
  BAND_STORAGE_TYPE = BAND_SEQUENTIAL
  MAXIMUM = 255
  MEAN = 99.206
  MINIMUM = 1
  STANDARD_DEVIATION = 72.9666
END_OBJECT = IMAGE
/* MAP OBJECT DEFINITIONS */
OBJECT = IMAGE_MAP_PROJECTION
  ^DATA_SET_MAP_PROJECTION_CATALOG= "DSMAP.CAT"
  A_AXIS_RADIUS = 3396.0
  B_AXIS_RADIUS = 3396.0
  C_AXIS_RADIUS = 3396.0
  CENTER_LATITUDE = -82.563
  CENTER_LONGITUDE = 229.369
  COORDINATE_SYSTEM_NAME = PLANETOGRAPHIC
  COORDINATE_SYSTEM_TYPE = "BODY-FIXED ROTATING"
  EASTERNMOST_LONGITUDE = 291.032
  FIRST_STANDARD_PARALLEL = "N/A"
  LINE_FIRST_PIXEL = 1
  LINE_LAST_PIXEL = 14038
  LINE_PROJECTION_OFFSET = 6523.25
  MAP_PROJECTION_ROTATION = 0.0
  MAP_PROJECTION_TYPE = ORTHOGRAPHIC
  MAP_RESOLUTION = 1185.42760773333
  MAP_SCALE = 0.05
  MAXIMUM_LATITUDE = -76.9272
  MINIMUM_LATITUDE = -87.684
  POSITIVE_LONGITUDE_DIRECTION = EAST
  REFERENCE_LATITUDE = "N/A"
  REFERENCE_LONGITUDE = "N/A"
  SAMPLE_FIRST_PIXEL = 1
  SAMPLE_LAST_PIXEL = 8807
  SAMPLE_PROJECTION_OFFSET = 3983.25
  SECOND_STANDARD_PARALLEL = "N/A"
  WESTERNMOST_LONGITUDE = 214.216
END_OBJECT = IMAGE_MAP_PROJECTION
END
