PDS_VERSION_ID = PDS3
/* FILE DATA ELEMENTS */
RECORD_TYPE = UNDEFINED
/* POINTERS TO DATA OBJECTS */
^IMAGE = ("HP746_0000_BL4.TIF")
/* IDENTIFICATION DATA ELEMENTS */
DATA_SET_ID = "MEX-M-HRSC-4-REFDR-MAPPROJECT-EXT9-V4.0"
DATA_SET_NAME = "MARS EXPRESS HRSC MAP PROJECTED REFDR EXTENSION9 V4.0"
DETECTOR_ID = MEX_HRSC_BLUE
EVENT_TYPE = "MARS-REGIONAL-MAPPING-Gl-Pf-La"
INSTRUMENT_HOST_ID = MEX
INSTRUMENT_HOST_NAME = "MARS EXPRESS"
INSTRUMENT_ID = HRSC
INSTRUMENT_NAME = "HIGH RESOLUTION STEREO CAMERA"
MISSION_NAME = "MARS EXPRESS"
MISSION_PHASE_NAME = ME_Phase_50
PROCESSING_LEVEL_ID = 4
PRODUCT_CREATION_TIME = 2024-08-21T23:02:24.000Z
PRODUCT_ID = "HP746_0000_BL4.TIF"
RELEASE_ID = 0015
REVISION_ID = 0000
/* QUALITY DATA ELEMENTS */
DATA_QUALITY_ID = 1
DATA_QUALITY_DESC = "Data calculated based on original SPICE kernels"
/* TIME DATA ELEMENTS */
SPACECRAFT_CLOCK_START_COUNT = "1/0664593781.00339"
SPACECRAFT_CLOCK_STOP_COUNT = "1/0664594081.48323"
START_TIME = 2024-05-24T01:24:38.848Z
STOP_TIME = 2024-05-24T01:27:56.055Z
/* ORBITAL DATA ELEMENTS */
ASCENDING_NODE_LONGITUDE = 96.95
MAXIMUM_RESOLUTION = 0.0847
FOOTPRINT_POINT_LATITUDE = (-76.535,-76.6932,-76.7759,-76.8531, -76.9788,-77.0442,-77.0478,-77.0047, -77.4518,-77.8966,-78.4642,-78.9193, -79.4971,-79.7278,-79.9618,-80.196, -80.5465,-80.7834,-81.0207,-81.2572, -81.4954,-81.8545,-82.093,-82.3344, -82.5753,-82.8157,-83.1793,-83.42, -83.7832,-84.0237,-84.2644,-84.5047, -84.7423,-84.9801,-85.2148,-85.562, -85.7883,-86.1191,-86.3304,-86.5342, -86.7263,-86.989,-87.1416,-87.3294, -87.4534,-87.5043,-87.4948,-87.4772, -87.4733,-86.9731,-86.6209,-86.199, -85.9528,-85.6153,-85.1168,-85.0939, -85.0866,-85.1197,-85.1194,-85.1013, -85.0653,-85.0123,-84.9423,-84.8575, -84.7575,-84.6457,-84.4533,-84.314, -84.1619,-84.0048,-83.8394,-83.6689, -83.401,-83.2183,-83.0288,-82.8352, -82.6394,-82.3378,-82.1352,-81.9287, -81.7207,-81.5126,-81.3019,-80.9851, -80.772,-80.4511,-80.2375,-80.022, -79.806,-79.5923,-79.3771,-79.1613, -78.8384,-78.4077,-78.0858,-77.6575, -77.0247,-76.5959,-76.4908,-76.535)
FOOTPRINT_POINT_LONGITUDE = (66.1841,64.2477,63.1299,62.0047, 59.9491,58.7335,58.6618,58.5577,58.941, 59.3477,59.9208,60.4258,61.1332,61.4393 ,61.7651,62.1075,62.6538,63.0481, 63.4662,63.9063,64.376,65.1399,65.6885, 66.2804,66.9129,67.591,68.7122,69.529, 70.8939,71.8972,72.9993,74.2062,75.5235 ,76.9854,78.5995,81.3666,83.4768, 87.1407,89.9571,93.1471,96.7455,103.04, 107.862,116.164,125.496,135.49,142.246, 145.584,146.162,144.372,143.436,142.547 ,142.115,141.603,140.977,140.951, 140.921,135.768,132.312,128.87,125.465, 122.122,118.886,115.773,112.791,109.953 ,105.967,103.481,101.148,98.946,96.862, 94.9197,92.2005,90.5336,88.9627,87.4906 ,86.1077,84.179,82.9938,81.8711,80.8112 ,79.8141,78.8654,77.5426,76.7199, 75.5581,74.8383,74.1508,73.4916,72.8715 ,72.2774,71.7061,70.906,69.9136,69.2271 ,68.3737,67.204,66.5065,66.3413, 66.1841)
ORBIT_NUMBER = 25746
ORBITAL_ECCENTRICITY = 0.574
ORBITAL_INCLINATION = 87.09
ORBITAL_SEMIMAJOR_AXIS = 8792.27
PERIAPSIS_ALTITUDE = 361.01
PERIAPSIS_ARGUMENT_ANGLE = 231.64
PERIAPSIS_TIME = 2024-05-24T01:17:29.000Z
SPACECRAFT_ORIENTATION = (0.0,-1.0,0.0)
^MEX_ORIENTATION_DESC = "MEX_ORIENTATION_DESC.TXT"
SPACECRAFT_POINTING_MODE = INERT
^MEX_POINTING_DESC = "MEX_POINTING_DESC.TXT"
RIGHT_ASCENSION = 318.352
DECLINATION = 58.014
OFFSET_ANGLE = -1e+32
SPACECRAFT_SOLAR_DISTANCE = 2.06933e+08
TARGET_NAME = MARS
/* CAMERA DATA ELEMENTS */
DETECTOR_TEMPERATURE = 18.5744
FOCAL_PLANE_TEMPERATURE = 8.7872
INST_CMPRS_NAME = "DISCRETE COSINE TRANSFORMATION (DCT)"
INST_CMPRS_RATIO = 18.3024
INST_CMPRS_QUALITY = 0
INST_CMPRS_QUANTZ_TBL_ID = 0
INSTRUMENT_TEMPERATURE = 11.0301
LENS_TEMPERATURE = 8.9911
MACROPIXEL_SIZE = 4
MISSING_FRAMES = 0
PIXEL_SUBSAMPLING_FLAG = N
SIGNAL_CHAIN_ID = 2
/* RADIOMETRIC DATA ELEMENTS */
BANDWIDTH = 76.0
CENTER_FILTER_WAVELENGTH = 444.0
RADIANCE_OFFSET = 0.413219
RADIANCE_SCALING_FACTOR = 0.0066019
REFLECTANCE_SCALING_FACTOR = 0.000290459
MEX:REFLECTANCE_OFFSET = 0.0181801
/* IMAGE OBJECT DEFINITIONS */
OBJECT = IMAGE
  INTERCHANGE_FORMAT = BINARY
  LINES = 7420
  LINE_SAMPLES = 4817
  SAMPLE_TYPE = UNSIGNED_INTEGER
  SAMPLE_BITS = 8
  BANDS = 1
  BAND_STORAGE_TYPE = BAND_SEQUENTIAL
  MAXIMUM = 255
  MEAN = 56.7812
  MINIMUM = 2
  STANDARD_DEVIATION = 43.7922
END_OBJECT = IMAGE
/* MAP OBJECT DEFINITIONS */
OBJECT = IMAGE_MAP_PROJECTION
  ^DATA_SET_MAP_PROJECTION_CATALOG= "DSMAP.CAT"
  A_AXIS_RADIUS = 3396.0
  B_AXIS_RADIUS = 3396.0
  C_AXIS_RADIUS = 3396.0
  CENTER_LATITUDE = -82.43040000000001
  CENTER_LONGITUDE = 75.01739999999999
  COORDINATE_SYSTEM_NAME = PLANETOGRAPHIC
  COORDINATE_SYSTEM_TYPE = "BODY-FIXED ROTATING"
  EASTERNMOST_LONGITUDE = 146.162
  FIRST_STANDARD_PARALLEL = "N/A"
  LINE_FIRST_PIXEL = 1
  LINE_LAST_PIXEL = 7420
  LINE_PROJECTION_OFFSET = 3430.125
  MAP_PROJECTION_ROTATION = 0.0
  MAP_PROJECTION_TYPE = ORTHOGRAPHIC
  MAP_RESOLUTION = 592.713803866667
  MAP_SCALE = 0.1
  MAXIMUM_LATITUDE = -76.49079999999999
  MINIMUM_LATITUDE = -87.5043
  POSITIVE_LONGITUDE_DIRECTION = EAST
  REFERENCE_LATITUDE = "N/A"
  REFERENCE_LONGITUDE = "N/A"
  SAMPLE_FIRST_PIXEL = 1
  SAMPLE_LAST_PIXEL = 4817
  SAMPLE_PROJECTION_OFFSET = 2161.625
  SECOND_STANDARD_PARALLEL = "N/A"
  WESTERNMOST_LONGITUDE = 58.5577
END_OBJECT = IMAGE_MAP_PROJECTION
END
