PDS_VERSION_ID = PDS3
/* FILE DATA ELEMENTS */
RECORD_TYPE = UNDEFINED
/* POINTERS TO DATA OBJECTS */
^IMAGE = ("HP734_0000_P24.TIF")
/* IDENTIFICATION DATA ELEMENTS */
DATA_SET_ID = "MEX-M-HRSC-4-REFDR-MAPPROJECT-EXT9-V4.0"
DATA_SET_NAME = "MARS EXPRESS HRSC MAP PROJECTED REFDR EXTENSION9 V4.0"
DETECTOR_ID = MEX_HRSC_P2
EVENT_TYPE = "MARS-REGIONAL-MAPPING-Gl-Pf-La"
INSTRUMENT_HOST_ID = MEX
INSTRUMENT_HOST_NAME = "MARS EXPRESS"
INSTRUMENT_ID = HRSC
INSTRUMENT_NAME = "HIGH RESOLUTION STEREO CAMERA"
MISSION_NAME = "MARS EXPRESS"
MISSION_PHASE_NAME = ME_Phase_50
PROCESSING_LEVEL_ID = 4
PRODUCT_CREATION_TIME = 2024-08-21T23:02:24.000Z
PRODUCT_ID = "HP734_0000_P24.TIF"
RELEASE_ID = 0015
REVISION_ID = 0000
/* QUALITY DATA ELEMENTS */
DATA_QUALITY_ID = 1
DATA_QUALITY_DESC = "Data calculated based on original SPICE kernels"
/* TIME DATA ELEMENTS */
SPACECRAFT_CLOCK_START_COUNT = "1/0664292101.00379"
SPACECRAFT_CLOCK_STOP_COUNT = "1/0664292473.60376"
START_TIME = 2024-05-20T13:37:16.012Z
STOP_TIME = 2024-05-20T13:41:32.603Z
/* ORBITAL DATA ELEMENTS */
ASCENDING_NODE_LONGITUDE = 97.16
MAXIMUM_RESOLUTION = 0.0525
FOOTPRINT_POINT_LATITUDE = (-83.4061,-83.4507,-83.4772,-83.4844, -83.471,-83.4358,-83.3499,-83.3449, -83.2236,-83.6797,-84.2916,-84.9094, -85.5294,-85.8437,-86.153,-86.4633, -86.7755,-87.0858,-87.3871,-87.6828, -87.9715,-88.2452,-88.4982,-88.7163, -88.8796,-88.9713,-88.9108,-88.7665, -88.5632,-88.322,-87.9191,-87.6341, -87.341,-87.0422,-86.5874,-86.2803, -85.9715,-85.6616,-85.1948,-84.8816, -84.2551,-83.627,-83.312,-82.6815, -82.2081,-81.8923,-81.2609,-80.7871, -80.6287,-80.5965,-80.6175,-80.6081, -80.5605,-80.5043,-80.4198,-80.3149, -80.3077,-80.306,-80.7757,-81.4006, -82.025,-82.6475,-83.1148,-83.4246, -83.7332,-84.0416,-84.3472,-84.9501, -85.2501,-85.5488,-85.8436,-86.1354, -86.4229,-86.7049,-86.9811,-87.245, -87.497,-87.7308,-87.9415,-88.2575, -88.3614,-88.3257,-88.1567,-87.9858, -87.7803,-87.5491,-87.2971,-87.0311, -86.7552,-86.4701,-86.1784,-85.883, -85.5851,-85.2864,-84.687,-84.0888, -83.4939,-83.3452,-83.4061)
FOOTPRINT_POINT_LONGITUDE = (208.264,205.305,202.259,199.134, 195.949,192.722,188.242,188.038,187.196 ,186.571,185.569,184.307,182.643, 181.642,180.409,178.962,177.292,175.286 ,172.758,169.594,165.55,160.193,152.96, 143.042,129.701,104.137,86.928,72.6106, 61.8066,53.937,45.7674,41.9346,38.9443, 36.5569,33.8138,32.3238,31.0783,30.0349 ,28.7278,27.9512,26.7195,25.7399, 25.3039,24.5507,24.0651,23.7709,23.2627 ,22.9262,22.8083,22.7875,19.7559, 15.4959,11.9178,9.35949,6.5277,3.79432, 3.62685,3.56587,3.07812,2.33985,1.48677 ,0.484561,359.618,358.968,358.251, 357.461,356.578,354.477,353.23,351.817, 350.199,348.334,346.165,343.618,340.597 ,336.982,332.612,327.301,320.827, 303.715,287.608,270.738,255.834,247.651 ,240.856,235.29,230.664,226.87,223.738, 221.088,218.84,216.924,215.264,213.838, 211.48,209.633,208.146,207.818,208.264)
ORBIT_NUMBER = 25734
ORBITAL_ECCENTRICITY = 0.574
ORBITAL_INCLINATION = 87.08
ORBITAL_SEMIMAJOR_AXIS = 8786.48
PERIAPSIS_ALTITUDE = 361.86
PERIAPSIS_ARGUMENT_ANGLE = 233.63
PERIAPSIS_TIME = 2024-05-20T13:28:16.000Z
SPACECRAFT_ORIENTATION = (0.0,-1.0,0.0)
^MEX_ORIENTATION_DESC = "MEX_ORIENTATION_DESC.TXT"
SPACECRAFT_POINTING_MODE = INERT
^MEX_POINTING_DESC = "MEX_POINTING_DESC.TXT"
RIGHT_ASCENSION = 296.167
DECLINATION = 45.049
OFFSET_ANGLE = -1e+32
SPACECRAFT_SOLAR_DISTANCE = 2.06829e+08
TARGET_NAME = MARS
/* CAMERA DATA ELEMENTS */
DETECTOR_TEMPERATURE = 18.7783
FOCAL_PLANE_TEMPERATURE = 8.7872
INST_CMPRS_NAME = "DISCRETE COSINE TRANSFORMATION (DCT)"
INST_CMPRS_RATIO = 9.77821
INST_CMPRS_QUALITY = 0
INST_CMPRS_QUANTZ_TBL_ID = 0
INSTRUMENT_TEMPERATURE = 11.6418
LENS_TEMPERATURE = 9.3989
MACROPIXEL_SIZE = 2
MISSING_FRAMES = 0
PIXEL_SUBSAMPLING_FLAG = N
SIGNAL_CHAIN_ID = 3
/* RADIOMETRIC DATA ELEMENTS */
BANDWIDTH = 177.0
CENTER_FILTER_WAVELENGTH = 676.5
RADIANCE_OFFSET = 4.31417
RADIANCE_SCALING_FACTOR = 0.0396189
REFLECTANCE_SCALING_FACTOR = 0.000898629
MEX:REFLECTANCE_OFFSET = 0.0978533
/* IMAGE OBJECT DEFINITIONS */
OBJECT = IMAGE
  INTERCHANGE_FORMAT = BINARY
  LINES = 19049
  LINE_SAMPLES = 8502
  SAMPLE_TYPE = UNSIGNED_INTEGER
  SAMPLE_BITS = 8
  BANDS = 1
  BAND_STORAGE_TYPE = BAND_SEQUENTIAL
  MAXIMUM = 255
  MEAN = 198.628
  MINIMUM = 1
  STANDARD_DEVIATION = 83.1496
END_OBJECT = IMAGE
/* MAP OBJECT DEFINITIONS */
OBJECT = IMAGE_MAP_PROJECTION
  ^DATA_SET_MAP_PROJECTION_CATALOG= "DSMAP.CAT"
  A_AXIS_RADIUS = 3396.0
  B_AXIS_RADIUS = 3396.0
  C_AXIS_RADIUS = 3396.0
  CENTER_LATITUDE = -88.7487
  CENTER_LONGITUDE = 358.469
  COORDINATE_SYSTEM_NAME = PLANETOGRAPHIC
  COORDINATE_SYSTEM_TYPE = "BODY-FIXED ROTATING"
  EASTERNMOST_LONGITUDE = 360.0
  FIRST_STANDARD_PARALLEL = "N/A"
  LINE_FIRST_PIXEL = 1
  LINE_LAST_PIXEL = 19049
  LINE_PROJECTION_OFFSET = 9781.75
  MAP_PROJECTION_ROTATION = 0.0
  MAP_PROJECTION_TYPE = ORTHOGRAPHIC
  MAP_RESOLUTION = 1185.42760773333
  MAP_SCALE = 0.05
  MAXIMUM_LATITUDE = -80.306
  MINIMUM_LATITUDE = -90.0
  POSITIVE_LONGITUDE_DIRECTION = EAST
  REFERENCE_LATITUDE = "N/A"
  REFERENCE_LONGITUDE = "N/A"
  SAMPLE_FIRST_PIXEL = 1
  SAMPLE_LAST_PIXEL = 8502
  SAMPLE_PROJECTION_OFFSET = 3871.75
  SECOND_STANDARD_PARALLEL = "N/A"
  WESTERNMOST_LONGITUDE = 0.0
END_OBJECT = IMAGE_MAP_PROJECTION
END
