PDS_VERSION_ID = PDS3
/* FILE DATA ELEMENTS */
RECORD_TYPE = UNDEFINED
/* POINTERS TO DATA OBJECTS */
^IMAGE = ("HP734_0000_GR4.TIF")
/* IDENTIFICATION DATA ELEMENTS */
DATA_SET_ID = "MEX-M-HRSC-4-REFDR-MAPPROJECT-EXT9-V4.0"
DATA_SET_NAME = "MARS EXPRESS HRSC MAP PROJECTED REFDR EXTENSION9 V4.0"
DETECTOR_ID = MEX_HRSC_GREEN
EVENT_TYPE = "MARS-REGIONAL-MAPPING-Gl-Pf-La"
INSTRUMENT_HOST_ID = MEX
INSTRUMENT_HOST_NAME = "MARS EXPRESS"
INSTRUMENT_ID = HRSC
INSTRUMENT_NAME = "HIGH RESOLUTION STEREO CAMERA"
MISSION_NAME = "MARS EXPRESS"
MISSION_PHASE_NAME = ME_Phase_50
PROCESSING_LEVEL_ID = 4
PRODUCT_CREATION_TIME = 2024-08-21T23:02:24.000Z
PRODUCT_ID = "HP734_0000_GR4.TIF"
RELEASE_ID = 0015
REVISION_ID = 0000
/* QUALITY DATA ELEMENTS */
DATA_QUALITY_ID = 1
DATA_QUALITY_DESC = "Data calculated based on original SPICE kernels"
/* TIME DATA ELEMENTS */
SPACECRAFT_CLOCK_START_COUNT = "1/0664292101.00379"
SPACECRAFT_CLOCK_STOP_COUNT = "1/0664292473.60376"
START_TIME = 2024-05-20T13:36:28.360Z
STOP_TIME = 2024-05-20T13:40:28.588Z
/* ORBITAL DATA ELEMENTS */
ASCENDING_NODE_LONGITUDE = 97.16
MAXIMUM_RESOLUTION = 0.0922
FOOTPRINT_POINT_LATITUDE = (-83.2412,-83.3431,-83.3938,-83.3977, -83.3705,-83.3686,-83.3316,-83.9034, -84.4794,-85.0599,-85.6466,-86.2379, -86.9782,-87.2736,-87.5689,-87.8595, -88.1456,-88.42,-88.7932,-88.9873, -89.1194,-89.0629,-88.8011,-88.5568, -88.2837,-87.9935,-87.6926,-87.2285, -86.914,-86.4359,-86.1153,-85.7925, -85.4691,-84.9809,-84.6553,-84.3278, -84.0004,-83.671,-83.3435,-83.0166, -82.6857,-82.1772,-81.6823,-81.3522, -81.0218,-80.6906,-80.5254,-80.4919, -80.5469,-80.5934,-80.5898,-80.571, -80.5233,-80.457,-80.4525,-80.4528, -80.9422,-81.4308,-81.7554,-82.0798, -82.4032,-82.7402,-83.0618,-83.3837, -83.8621,-84.1803,-84.4979,-84.8134, -85.1264,-85.5913,-86.0489,-86.3486, -86.6429,-86.9302,-87.2086,-87.4746, -87.7244,-87.9517,-88.1486,-88.3044, -88.4068,-88.4453,-88.4155,-88.3212, -88.1739,-87.986,-87.7696,-87.5318, -87.281,-86.8851,-86.614,-86.06, -85.4977,-84.9328,-84.3703,-83.809, -83.3885,-83.2493,-83.2412)
FOOTPRINT_POINT_LONGITUDE = (207.701,202.715,197.428,194.693,190.14 ,189.963,189.081,188.382,187.525, 186.451,185.024,183.164,179.72,177.873, 175.482,172.472,168.481,163.014,150.184 ,136.694,107.525,86.9519,64.1586, 54.5282,47.818,43.0033,39.4308,35.5675, 33.6342,31.4193,30.2263,29.2398,28.3775 ,27.3277,26.7145,26.2015,25.7305, 25.3367,24.9404,24.5655,24.2838,23.8455 ,23.479,23.2567,23.0516,22.8675,22.7755 ,22.7582,20.2335,15.501,12.4098,10.403, 7.45062,4.74345,4.58702,4.53304,4.02778 ,3.46106,3.05034,2.60161,2.11835, 1.56935,0.995799,0.343321,359.293, 358.477,357.536,356.493,355.332,353.277 ,350.743,348.708,346.319,343.477, 340.075,335.916,330.824,324.532,316.798 ,307.443,296.552,284.659,272.697, 261.717,252.285,244.474,238.159,233.016 ,228.852,223.94,221.346,217.275,214.241 ,211.927,210.097,208.623,207.686, 207.403,207.701)
ORBIT_NUMBER = 25734
ORBITAL_ECCENTRICITY = 0.574
ORBITAL_INCLINATION = 87.08
ORBITAL_SEMIMAJOR_AXIS = 8786.48
PERIAPSIS_ALTITUDE = 361.86
PERIAPSIS_ARGUMENT_ANGLE = 233.63
PERIAPSIS_TIME = 2024-05-20T13:28:16.000Z
SPACECRAFT_ORIENTATION = (0.0,-1.0,0.0)
^MEX_ORIENTATION_DESC = "MEX_ORIENTATION_DESC.TXT"
SPACECRAFT_POINTING_MODE = INERT
^MEX_POINTING_DESC = "MEX_POINTING_DESC.TXT"
RIGHT_ASCENSION = 296.167
DECLINATION = 45.049
OFFSET_ANGLE = -1e+32
SPACECRAFT_SOLAR_DISTANCE = 2.06829e+08
TARGET_NAME = MARS
/* CAMERA DATA ELEMENTS */
DETECTOR_TEMPERATURE = 18.3705
FOCAL_PLANE_TEMPERATURE = 8.7872
INST_CMPRS_NAME = "DISCRETE COSINE TRANSFORMATION (DCT)"
INST_CMPRS_RATIO = 6.47511
INST_CMPRS_QUALITY = 0
INST_CMPRS_QUANTZ_TBL_ID = 0
INSTRUMENT_TEMPERATURE = 11.6418
LENS_TEMPERATURE = 9.3989
MACROPIXEL_SIZE = 4
MISSING_FRAMES = 0
MISSING_FRAMES = 1
PIXEL_SUBSAMPLING_FLAG = N
SIGNAL_CHAIN_ID = 2
/* RADIOMETRIC DATA ELEMENTS */
BANDWIDTH = 88.0
CENTER_FILTER_WAVELENGTH = 538.0
RADIANCE_OFFSET = 1.54977
RADIANCE_SCALING_FACTOR = 0.0331927
REFLECTANCE_SCALING_FACTOR = 0.00122251
MEX:REFLECTANCE_OFFSET = 0.0570792
/* IMAGE OBJECT DEFINITIONS */
OBJECT = IMAGE
  INTERCHANGE_FORMAT = BINARY
  LINES = 9525
  LINE_SAMPLES = 4251
  SAMPLE_TYPE = UNSIGNED_INTEGER
  SAMPLE_BITS = 8
  BANDS = 1
  BAND_STORAGE_TYPE = BAND_SEQUENTIAL
  MAXIMUM = 255
  MEAN = 146.452
  MINIMUM = 1
  STANDARD_DEVIATION = 70.5095
END_OBJECT = IMAGE
/* MAP OBJECT DEFINITIONS */
OBJECT = IMAGE_MAP_PROJECTION
  ^DATA_SET_MAP_PROJECTION_CATALOG= "DSMAP.CAT"
  A_AXIS_RADIUS = 3396.0
  B_AXIS_RADIUS = 3396.0
  C_AXIS_RADIUS = 3396.0
  CENTER_LATITUDE = -88.7487
  CENTER_LONGITUDE = 358.469
  COORDINATE_SYSTEM_NAME = PLANETOGRAPHIC
  COORDINATE_SYSTEM_TYPE = "BODY-FIXED ROTATING"
  EASTERNMOST_LONGITUDE = 360.0
  FIRST_STANDARD_PARALLEL = "N/A"
  LINE_FIRST_PIXEL = 1
  LINE_LAST_PIXEL = 9525
  LINE_PROJECTION_OFFSET = 4890.625
  MAP_PROJECTION_ROTATION = 0.0
  MAP_PROJECTION_TYPE = ORTHOGRAPHIC
  MAP_RESOLUTION = 592.713803866667
  MAP_SCALE = 0.1
  MAXIMUM_LATITUDE = -80.4525
  MINIMUM_LATITUDE = -90.0
  POSITIVE_LONGITUDE_DIRECTION = EAST
  REFERENCE_LATITUDE = "N/A"
  REFERENCE_LONGITUDE = "N/A"
  SAMPLE_FIRST_PIXEL = 1
  SAMPLE_LAST_PIXEL = 4251
  SAMPLE_PROJECTION_OFFSET = 1935.625
  SECOND_STANDARD_PARALLEL = "N/A"
  WESTERNMOST_LONGITUDE = 0.0
END_OBJECT = IMAGE_MAP_PROJECTION
END
