PDS_VERSION_ID = PDS3
/* FILE DATA ELEMENTS */
RECORD_TYPE = UNDEFINED
/* POINTERS TO DATA OBJECTS */
^IMAGE = ("HP732_0009_S14.TIF")
/* IDENTIFICATION DATA ELEMENTS */
DATA_SET_ID = "MEX-M-HRSC-4-REFDR-MAPPROJECT-EXT9-V4.0"
DATA_SET_NAME = "MARS EXPRESS HRSC MAP PROJECTED REFDR EXTENSION9 V4.0"
DETECTOR_ID = MEX_HRSC_S1
EVENT_TYPE = "MARS-REGIONAL-MAPPING-Pf-La"
INSTRUMENT_HOST_ID = MEX
INSTRUMENT_HOST_NAME = "MARS EXPRESS"
INSTRUMENT_ID = HRSC
INSTRUMENT_NAME = "HIGH RESOLUTION STEREO CAMERA"
MISSION_NAME = "MARS EXPRESS"
MISSION_PHASE_NAME = ME_Phase_50
PROCESSING_LEVEL_ID = 4
PRODUCT_CREATION_TIME = 2024-08-21T23:02:24.000Z
PRODUCT_ID = "HP732_0009_S14.TIF"
RELEASE_ID = 0015
REVISION_ID = 0000
/* QUALITY DATA ELEMENTS */
DATA_QUALITY_ID = 1
DATA_QUALITY_DESC = "Data calculated based on original SPICE kernels"
/* TIME DATA ELEMENTS */
SPACECRAFT_CLOCK_START_COUNT = "1/0664241725.00354"
SPACECRAFT_CLOCK_STOP_COUNT = "1/0664242003.12613"
START_TIME = 2024-05-19T23:36:13.627Z
STOP_TIME = 2024-05-19T23:38:58.095Z
/* ORBITAL DATA ELEMENTS */
ASCENDING_NODE_LONGITUDE = 97.19
MAXIMUM_RESOLUTION = 0.0391
FOOTPRINT_POINT_LATITUDE = (-78.2175,-78.3085,-78.3763,-78.4585, -78.5159,-78.6084,-78.6113,-78.67, -79.0831,-79.5034,-80.0344,-80.4592, -80.9981,-81.3211,-81.7583,-81.9773, -82.1961,-82.4154,-82.6355,-82.8563, -83.0778,-83.2993,-83.5204,-83.747, -83.9697,-84.1924,-84.4153,-84.6415, -84.9779,-85.2011,-85.4244,-85.6483, -85.8705,-86.0887,-86.3067,-86.5226, -86.7322,-86.9363,-87.2337,-87.4191, -87.5919,-87.7509,-87.8864,-87.9973, -88.108,-88.1364,-88.1265,-88.0382, -87.9905,-87.9657,-87.701,-87.3717, -87.0967,-86.7586,-86.3772,-85.9515, -85.9312,-85.9241,-85.9823,-86.0215, -86.0414,-86.0422,-86.025,-85.9659, -85.9058,-85.8298,-85.7406,-85.6384, -85.5245,-85.3981,-85.2622,-85.1178, -84.9654,-84.8074,-84.6437,-84.3867, -84.2104,-83.9404,-83.7552,-83.5661, -83.3782,-83.0905,-82.8954,-82.699, -82.5044,-82.208,-82.0083,-81.8085, -81.6102,-81.3102,-81.0076,-80.8061, -80.4058,-79.901,-79.5016,-79.0011, -78.6984,-78.4031,-78.3035,-78.2175)
FOOTPRINT_POINT_LONGITUDE = (55.6274,54.2093,53.0601,51.5327, 50.3565,48.1932,48.118,47.9981,48.354, 48.7458,49.2803,49.7583,50.4319,50.8772 ,51.5369,51.8968,52.2773,52.6795, 53.1122,53.5774,54.0718,54.5991,55.1631 ,55.7794,56.4439,57.1596,57.9331, 58.7856,60.2148,61.2804,62.4585,63.7764 ,65.2394,66.866,68.7105,70.8042,73.1673 ,75.8576,80.7293,84.5893,89.0424, 94.2544,100.144,106.786,118.189,126.322 ,134.651,146.773,150.508,152.174, 149.067,146.152,144.262,142.422,140.783 ,139.359,139.298,139.264,135.43,131.518 ,127.593,123.706,119.818,114.165, 110.578,107.077,103.812,100.694,97.773, 94.9169,92.2311,89.745,87.4284,85.2809, 83.2803,80.5048,78.8121,76.4941,75.0602 ,73.7095,72.4709,70.7378,69.6621, 68.6492,67.7152,66.3947,65.5701,64.7946 ,64.0657,63.0361,62.0764,61.4783, 60.3713,59.1155,58.2169,57.1939,56.6173 ,56.0953,55.9222,55.6274)
ORBIT_NUMBER = 25732
ORBITAL_ECCENTRICITY = 0.574
ORBITAL_INCLINATION = 87.08
ORBITAL_SEMIMAJOR_AXIS = 8788.8
PERIAPSIS_ALTITUDE = 360.91
PERIAPSIS_ARGUMENT_ANGLE = 233.99
PERIAPSIS_TIME = 2024-05-19T23:30:05.000Z
SPACECRAFT_ORIENTATION = (0.0,-1.0,0.0)
^MEX_ORIENTATION_DESC = "MEX_ORIENTATION_DESC.TXT"
SPACECRAFT_POINTING_MODE = INERT
^MEX_POINTING_DESC = "MEX_POINTING_DESC.TXT"
RIGHT_ASCENSION = 311.55
DECLINATION = 56.346
OFFSET_ANGLE = -1e+32
SPACECRAFT_SOLAR_DISTANCE = 2.06814e+08
TARGET_NAME = MARS
/* CAMERA DATA ELEMENTS */
DETECTOR_TEMPERATURE = 17.7588
FOCAL_PLANE_TEMPERATURE = 9.6028
INST_CMPRS_NAME = "DISCRETE COSINE TRANSFORMATION (DCT)"
INST_CMPRS_RATIO = 7.42964
INST_CMPRS_QUALITY = 0
INST_CMPRS_QUANTZ_TBL_ID = 0
INSTRUMENT_TEMPERATURE = 12.2535
LENS_TEMPERATURE = 10.0106
MACROPIXEL_SIZE = 2
MISSING_FRAMES = 0
PIXEL_SUBSAMPLING_FLAG = N
SIGNAL_CHAIN_ID = 1
/* RADIOMETRIC DATA ELEMENTS */
BANDWIDTH = 180.0
CENTER_FILTER_WAVELENGTH = 677.0
RADIANCE_OFFSET = 3.25645
RADIANCE_SCALING_FACTOR = 0.0419295
REFLECTANCE_SCALING_FACTOR = 0.000935665
MEX:REFLECTANCE_OFFSET = 0.0726684
/* IMAGE OBJECT DEFINITIONS */
OBJECT = IMAGE
  INTERCHANGE_FORMAT = BINARY
  LINES = 13689
  LINE_SAMPLES = 8684
  SAMPLE_TYPE = UNSIGNED_INTEGER
  SAMPLE_BITS = 8
  BANDS = 1
  BAND_STORAGE_TYPE = BAND_SEQUENTIAL
  MAXIMUM = 255
  MEAN = 85.7029
  MINIMUM = 1
  STANDARD_DEVIATION = 54.3685
END_OBJECT = IMAGE
/* MAP OBJECT DEFINITIONS */
OBJECT = IMAGE_MAP_PROJECTION
  ^DATA_SET_MAP_PROJECTION_CATALOG= "DSMAP.CAT"
  A_AXIS_RADIUS = 3396.0
  B_AXIS_RADIUS = 3396.0
  C_AXIS_RADIUS = 3396.0
  CENTER_LATITUDE = -83.7642
  CENTER_LONGITUDE = 64.73439999999999
  COORDINATE_SYSTEM_NAME = PLANETOGRAPHIC
  COORDINATE_SYSTEM_TYPE = "BODY-FIXED ROTATING"
  EASTERNMOST_LONGITUDE = 152.174
  FIRST_STANDARD_PARALLEL = "N/A"
  LINE_FIRST_PIXEL = 1
  LINE_LAST_PIXEL = 13689
  LINE_PROJECTION_OFFSET = 6367.25
  MAP_PROJECTION_ROTATION = 0.0
  MAP_PROJECTION_TYPE = ORTHOGRAPHIC
  MAP_RESOLUTION = 1185.42760773333
  MAP_SCALE = 0.05
  MAXIMUM_LATITUDE = -78.2175
  MINIMUM_LATITUDE = -88.13639999999999
  POSITIVE_LONGITUDE_DIRECTION = EAST
  REFERENCE_LATITUDE = "N/A"
  REFERENCE_LONGITUDE = "N/A"
  SAMPLE_FIRST_PIXEL = 1
  SAMPLE_LAST_PIXEL = 8684
  SAMPLE_PROJECTION_OFFSET = 3956.75
  SECOND_STANDARD_PARALLEL = "N/A"
  WESTERNMOST_LONGITUDE = 47.9981
END_OBJECT = IMAGE_MAP_PROJECTION
END
