PDS_VERSION_ID = PDS3
/* FILE DATA ELEMENTS */
RECORD_TYPE = UNDEFINED
/* POINTERS TO DATA OBJECTS */
^IMAGE = ("HP731_0000_S14.TIF")
/* IDENTIFICATION DATA ELEMENTS */
DATA_SET_ID = "MEX-M-HRSC-4-REFDR-MAPPROJECT-EXT9-V4.0"
DATA_SET_NAME = "MARS EXPRESS HRSC MAP PROJECTED REFDR EXTENSION9 V4.0"
DETECTOR_ID = MEX_HRSC_S1
EVENT_TYPE = "MARS-REGIONAL-MAPPING-Gl-Pf-La"
INSTRUMENT_HOST_ID = MEX
INSTRUMENT_HOST_NAME = "MARS EXPRESS"
INSTRUMENT_ID = HRSC
INSTRUMENT_NAME = "HIGH RESOLUTION STEREO CAMERA"
MISSION_NAME = "MARS EXPRESS"
MISSION_PHASE_NAME = ME_Phase_50
PROCESSING_LEVEL_ID = 4
PRODUCT_CREATION_TIME = 2024-08-21T23:02:24.000Z
PRODUCT_ID = "HP731_0000_S14.TIF"
RELEASE_ID = 0015
REVISION_ID = 0000
/* QUALITY DATA ELEMENTS */
DATA_QUALITY_ID = 1
DATA_QUALITY_DESC = "Data calculated based on original SPICE kernels"
/* TIME DATA ELEMENTS */
SPACECRAFT_CLOCK_START_COUNT = "1/0664216749.65243"
SPACECRAFT_CLOCK_STOP_COUNT = "1/0664217076.30418"
START_TIME = 2024-05-19T16:39:58.549Z
STOP_TIME = 2024-05-19T16:42:47.957Z
/* ORBITAL DATA ELEMENTS */
ASCENDING_NODE_LONGITUDE = 97.2
MAXIMUM_RESOLUTION = 0.0495
FOOTPRINT_POINT_LATITUDE = (-87.8059,-88.0972,-88.3858,-88.6677, -88.9331,-89.1616,-89.3289,-89.3301, -89.3745,-89.8812,-89.642,-89.1769, -88.7027,-88.2263,-87.8677,-87.3884, -87.1481,-86.9076,-86.4283,-86.1875, -85.9464,-85.7045,-85.4627,-85.2196, -84.9778,-84.7354,-84.3705,-84.1245, -83.8768,-83.6322,-83.3886,-83.145, -82.9019,-82.6579,-82.4133,-82.17, -81.9263,-81.6821,-81.3138,-81.0682, -80.822,-80.5763,-80.3282,-80.0823, -79.8346,-79.4626,-79.2152,-78.9673, -78.5944,-78.4698,-78.4012,-78.4543, -78.4762,-78.4877,-78.4928,-78.4897, -78.4677,-78.43,-78.3996,-78.3964, -78.3959,-78.6388,-79.0024,-79.2432, -79.4833,-79.8431,-80.2012,-80.4414, -80.6798,-80.9174,-81.1545,-81.3911, -81.7452,-81.9803,-82.2148,-82.4487, -82.7982,-83.1457,-83.3775,-83.7214, -83.9494,-84.1756,-84.4003,-84.6238, -84.8455,-85.0663,-85.2839,-85.8164, -86.2264,-86.6184,-86.985,-87.2376, -87.5983,-87.7659,-87.9141,-87.9544, -87.8967,-87.8648,-87.8059)
FOOTPRINT_POINT_LONGITUDE = (210.223,207.365,203.432,197.742, 189.013,174.862,141.886,140.091,132.224 ,62.139,342.079,331.14,328.157,326.779, 326.168,325.629,325.437,325.275,324.982 ,324.878,324.789,324.718,324.652, 324.607,324.549,324.502,324.448,324.44, 324.443,324.42,324.39,324.361,324.329, 324.305,324.285,324.258,324.234,324.213 ,324.194,324.181,324.172,324.16,324.159 ,324.147,324.143,324.138,324.132, 324.128,324.124,324.123,324.123,321.674 ,320.103,318.826,317.005,315.755, 313.431,311.288,309.97,309.839,309.792, 309.576,309.235,308.997,308.749,308.355 ,307.933,307.628,307.312,306.98,306.631 ,306.262,305.667,305.243,304.793, 304.314,303.538,302.684,302.058,301.043 ,300.303,299.508,298.65,297.719,296.708 ,295.597,294.393,290.846,287.318, 282.948,277.483,272.47,261.943,254.151, 242.164,225.714,216.004,212.924, 210.223)
ORBIT_NUMBER = 25731
ORBITAL_ECCENTRICITY = 0.574
ORBITAL_INCLINATION = 87.08
ORBITAL_SEMIMAJOR_AXIS = 8787.82
PERIAPSIS_ALTITUDE = 361.62
PERIAPSIS_ARGUMENT_ANGLE = 234.16
PERIAPSIS_TIME = 2024-05-19T16:31:01.000Z
SPACECRAFT_ORIENTATION = (0.0,-1.0,0.0)
^MEX_ORIENTATION_DESC = "MEX_ORIENTATION_DESC.TXT"
SPACECRAFT_POINTING_MODE = INERT
^MEX_POINTING_DESC = "MEX_POINTING_DESC.TXT"
RIGHT_ASCENSION = 301.285
DECLINATION = 43.247
OFFSET_ANGLE = -1e+32
SPACECRAFT_SOLAR_DISTANCE = 2.06807e+08
TARGET_NAME = MARS
/* CAMERA DATA ELEMENTS */
DETECTOR_TEMPERATURE = 17.5549
FOCAL_PLANE_TEMPERATURE = 8.7872
INST_CMPRS_NAME = "DISCRETE COSINE TRANSFORMATION (DCT)"
INST_CMPRS_RATIO = 7.44717
INST_CMPRS_QUALITY = 0
INST_CMPRS_QUANTZ_TBL_ID = 0
INSTRUMENT_TEMPERATURE = 11.234
LENS_TEMPERATURE = 8.7872
MACROPIXEL_SIZE = 2
MISSING_FRAMES = 0
PIXEL_SUBSAMPLING_FLAG = N
SIGNAL_CHAIN_ID = 1
/* RADIOMETRIC DATA ELEMENTS */
BANDWIDTH = 180.0
CENTER_FILTER_WAVELENGTH = 677.0
RADIANCE_OFFSET = 6.49604
RADIANCE_SCALING_FACTOR = 0.0546324
REFLECTANCE_SCALING_FACTOR = 0.00121905
MEX:REFLECTANCE_OFFSET = 0.14495
/* IMAGE OBJECT DEFINITIONS */
OBJECT = IMAGE
  INTERCHANGE_FORMAT = BINARY
  LINES = 14713
  LINE_SAMPLES = 5657
  SAMPLE_TYPE = UNSIGNED_INTEGER
  SAMPLE_BITS = 8
  BANDS = 1
  BAND_STORAGE_TYPE = BAND_SEQUENTIAL
  MAXIMUM = 255
  MEAN = 200.436
  MINIMUM = 1
  STANDARD_DEVIATION = 35.1023
END_OBJECT = IMAGE
/* MAP OBJECT DEFINITIONS */
OBJECT = IMAGE_MAP_PROJECTION
  ^DATA_SET_MAP_PROJECTION_CATALOG= "DSMAP.CAT"
  A_AXIS_RADIUS = 3396.0
  B_AXIS_RADIUS = 3396.0
  C_AXIS_RADIUS = 3396.0
  CENTER_LATITUDE = -84.50749999999999
  CENTER_LONGITUDE = 311.263
  COORDINATE_SYSTEM_NAME = PLANETOGRAPHIC
  COORDINATE_SYSTEM_TYPE = "BODY-FIXED ROTATING"
  EASTERNMOST_LONGITUDE = 360.0
  FIRST_STANDARD_PARALLEL = "N/A"
  LINE_FIRST_PIXEL = 1
  LINE_LAST_PIXEL = 14713
  LINE_PROJECTION_OFFSET = 7373.25
  MAP_PROJECTION_ROTATION = 0.0
  MAP_PROJECTION_TYPE = ORTHOGRAPHIC
  MAP_RESOLUTION = 1185.42760773333
  MAP_SCALE = 0.05
  MAXIMUM_LATITUDE = -78.3959
  MINIMUM_LATITUDE = -90.0
  POSITIVE_LONGITUDE_DIRECTION = EAST
  REFERENCE_LATITUDE = "N/A"
  REFERENCE_LONGITUDE = "N/A"
  SAMPLE_FIRST_PIXEL = 1
  SAMPLE_LAST_PIXEL = 5657
  SAMPLE_PROJECTION_OFFSET = 2582.75
  SECOND_STANDARD_PARALLEL = "N/A"
  WESTERNMOST_LONGITUDE = 0.0
END_OBJECT = IMAGE_MAP_PROJECTION
END
