PDS_VERSION_ID = PDS3
/* FILE DATA ELEMENTS */
RECORD_TYPE = UNDEFINED
/* POINTERS TO DATA OBJECTS */
^IMAGE = ("HP729_0000_ND4.TIF")
/* IDENTIFICATION DATA ELEMENTS */
DATA_SET_ID = "MEX-M-HRSC-4-REFDR-MAPPROJECT-EXT9-V4.0"
DATA_SET_NAME = "MARS EXPRESS HRSC MAP PROJECTED REFDR EXTENSION9 V4.0"
DETECTOR_ID = MEX_HRSC_NADIR
EVENT_TYPE = "MARS-TERMINATOR-CALIBRATION-Tc"
INSTRUMENT_HOST_ID = MEX
INSTRUMENT_HOST_NAME = "MARS EXPRESS"
INSTRUMENT_ID = HRSC
INSTRUMENT_NAME = "HIGH RESOLUTION STEREO CAMERA"
MISSION_NAME = "MARS EXPRESS"
MISSION_PHASE_NAME = ME_Phase_50
PROCESSING_LEVEL_ID = 4
PRODUCT_CREATION_TIME = 2024-08-21T23:02:24.000Z
PRODUCT_ID = "HP729_0000_ND4.TIF"
RELEASE_ID = 0015
REVISION_ID = 0000
/* QUALITY DATA ELEMENTS */
DATA_QUALITY_ID = 1
DATA_QUALITY_DESC = "Data calculated based on original SPICE kernels"
/* TIME DATA ELEMENTS */
SPACECRAFT_CLOCK_START_COUNT = "1/0664174415.64177"
SPACECRAFT_CLOCK_STOP_COUNT = "1/0664174854.60816"
START_TIME = 2024-05-19T04:56:15.581Z
STOP_TIME = 2024-05-19T04:59:51.567Z
/* ORBITAL DATA ELEMENTS */
ASCENDING_NODE_LONGITUDE = 97.24
MAXIMUM_RESOLUTION = 0.3818
FOOTPRINT_POINT_LATITUDE = (70.5454,73.4143,76.268,77.6137,77.7403 ,76.1954,73.6347,70.7374,67.7208,64.634 ,61.4681,58.168,54.632,52.2108,51.696, 51.0641,52.2092,52.8077,53.1018,53.1454 ,52.7487,52.0832,51.2406,50.2762, 48.1081,45.7456,43.2678,40.7137,38.1016 ,35.4369,32.7177,29.9361,27.0793, 24.1311,21.0698,17.864,14.4773,10.8611, 6.92835,2.57077,0.175523,-2.41052, -5.23513,-8.3038,-11.8749,-16.2043, -18.7796,-21.8581,-25.8979,-33.1126, -34.7245,-34.9922,-30.7117,-26.2665, -24.9943,-25.1945,-26.4074,-27.3535, -28.4232,-23.3821,-20.2721,-18.8547, -16.2761,-14.3086,-10.9552,-6.1794, -2.81012,-0.232881,1.97016,5.72527, 8.93372,11.7945,14.4148,19.1486,23.4296 ,27.4138,31.198,34.8527,38.428,41.9659, 45.5102,49.0965,52.7676,56.5732,60.5742 ,64.853,69.5316,74.7944,77.733,80.9149, 84.2604,86.2174,84.8723,81.7281,75.7881 ,73.0956,72.8284,72.125,70.5454)
FOOTPRINT_POINT_LONGITUDE = (334.054,338.902,349.716,3.39803, 15.6691,33.3526,43.1933,48.3555,50.8581 ,51.7252,51.4564,50.2656,48.1476, 46.2315,45.7749,44.0163,50.3349,55.4731 ,59.915,67.4125,73.6467,78.9639,83.5865 ,87.6476,94.4982,100.068,104.714, 108.673,112.106,115.132,117.838,120.289 ,122.536,124.623,126.583,128.446, 130.242,131.998,133.746,135.527,136.447 ,137.401,138.403,139.465,140.642, 142.011,142.809,143.747,144.963,147.138 ,154.218,154.331,154.667,158.778, 162.186,166.473,169.436,170.655,171.706 ,175.504,178.33,181.992,183.466,188.912 ,188.348,184.72,182.069,180.224,178.746 ,176.408,174.573,173.048,171.73,169.53, 167.717,166.165,164.808,163.592,162.49, 161.489,160.605,159.802,159.104,158.541 ,158.172,158.127,158.729,160.933, 163.625,169.283,184.716,239.129,274.331 ,293.345,303.28,319.972,329.521,339.929 ,334.054)
ORBIT_NUMBER = 25729
ORBITAL_ECCENTRICITY = 0.574
ORBITAL_INCLINATION = 87.07
ORBITAL_SEMIMAJOR_AXIS = 8786.15
PERIAPSIS_ALTITUDE = 362.3
PERIAPSIS_ARGUMENT_ANGLE = 234.47
PERIAPSIS_TIME = 2024-05-19T02:32:44.000Z
SPACECRAFT_ORIENTATION = (0.0,1.0,0.0)
^MEX_ORIENTATION_DESC = "MEX_ORIENTATION_DESC.TXT"
SPACECRAFT_POINTING_MODE = FIXED
^MEX_POINTING_DESC = "MEX_POINTING_DESC.TXT"
RIGHT_ASCENSION = -1e+32
DECLINATION = -1e+32
OFFSET_ANGLE = -1e+32
SPACECRAFT_SOLAR_DISTANCE = 2.06793e+08
TARGET_NAME = MARS
/* CAMERA DATA ELEMENTS */
DETECTOR_TEMPERATURE = 17.9627
FOCAL_PLANE_TEMPERATURE = 8.7872
INST_CMPRS_NAME = "DISCRETE COSINE TRANSFORMATION (DCT)"
INST_CMPRS_RATIO = 9.73118
INST_CMPRS_QUALITY = 0
INST_CMPRS_QUANTZ_TBL_ID = 0
INSTRUMENT_TEMPERATURE = 11.234
LENS_TEMPERATURE = 9.195
MACROPIXEL_SIZE = 1
MISSING_FRAMES = 0
PIXEL_SUBSAMPLING_FLAG = N
SIGNAL_CHAIN_ID = 0
/* RADIOMETRIC DATA ELEMENTS */
BANDWIDTH = 177.0
CENTER_FILTER_WAVELENGTH = 677.5
RADIANCE_OFFSET = 0.0
RADIANCE_SCALING_FACTOR = 0.0674253
REFLECTANCE_SCALING_FACTOR = 0.00153175
MEX:REFLECTANCE_OFFSET = 0.0
/* IMAGE OBJECT DEFINITIONS */
OBJECT = IMAGE
  INTERCHANGE_FORMAT = BINARY
  LINES = 13162
  LINE_SAMPLES = 10871
  SAMPLE_TYPE = UNSIGNED_INTEGER
  SAMPLE_BITS = 8
  BANDS = 1
  BAND_STORAGE_TYPE = BAND_SEQUENTIAL
  MAXIMUM = 246
  MEAN = 82.1879
  MINIMUM = 1
  STANDARD_DEVIATION = 74.6974
END_OBJECT = IMAGE
/* MAP OBJECT DEFINITIONS */
OBJECT = IMAGE_MAP_PROJECTION
  ^DATA_SET_MAP_PROJECTION_CATALOG= "DSMAP.CAT"
  A_AXIS_RADIUS = 3396.0
  B_AXIS_RADIUS = 3396.0
  C_AXIS_RADIUS = 3396.0
  CENTER_LATITUDE = 36.7265
  CENTER_LONGITUDE = 138.938
  COORDINATE_SYSTEM_NAME = PLANETOGRAPHIC
  COORDINATE_SYSTEM_TYPE = "BODY-FIXED ROTATING"
  EASTERNMOST_LONGITUDE = 360.0
  FIRST_STANDARD_PARALLEL = "N/A"
  LINE_FIRST_PIXEL = 1
  LINE_LAST_PIXEL = 13162
  LINE_PROJECTION_OFFSET = 8111.0
  MAP_PROJECTION_ROTATION = 0.0
  MAP_PROJECTION_TYPE = ORTHOGRAPHIC
  MAP_RESOLUTION = 148.178450966667
  MAP_SCALE = 0.4
  MAXIMUM_LATITUDE = 90.0
  MINIMUM_LATITUDE = -34.9922
  POSITIVE_LONGITUDE_DIRECTION = EAST
  REFERENCE_LATITUDE = "N/A"
  REFERENCE_LONGITUDE = "N/A"
  SAMPLE_FIRST_PIXEL = 1
  SAMPLE_LAST_PIXEL = 10871
  SAMPLE_PROJECTION_OFFSET = 5316.0
  SECOND_STANDARD_PARALLEL = "N/A"
  WESTERNMOST_LONGITUDE = 0.0
END_OBJECT = IMAGE_MAP_PROJECTION
END
