PDS_VERSION_ID = PDS3
/* FILE DATA ELEMENTS */
RECORD_TYPE = UNDEFINED
/* POINTERS TO DATA OBJECTS */
^IMAGE = ("HP720_0000_S14.TIF")
/* IDENTIFICATION DATA ELEMENTS */
DATA_SET_ID = "MEX-M-HRSC-4-REFDR-MAPPROJECT-EXT9-V4.0"
DATA_SET_NAME = "MARS EXPRESS HRSC MAP PROJECTED REFDR EXTENSION9 V4.0"
DETECTOR_ID = MEX_HRSC_S1
EVENT_TYPE = "MARS-REGIONAL-MAPPING-Gl-Pf-La"
INSTRUMENT_HOST_ID = MEX
INSTRUMENT_HOST_NAME = "MARS EXPRESS"
INSTRUMENT_ID = HRSC
INSTRUMENT_NAME = "HIGH RESOLUTION STEREO CAMERA"
MISSION_NAME = "MARS EXPRESS"
MISSION_PHASE_NAME = ME_Phase_50
PROCESSING_LEVEL_ID = 4
PRODUCT_CREATION_TIME = 2024-08-21T23:02:24.000Z
PRODUCT_ID = "HP720_0000_S14.TIF"
RELEASE_ID = 0015
REVISION_ID = 0000
/* QUALITY DATA ELEMENTS */
DATA_QUALITY_ID = 1
DATA_QUALITY_DESC = "Data calculated based on original SPICE kernels"
/* TIME DATA ELEMENTS */
SPACECRAFT_CLOCK_START_COUNT = "1/0663940011.64175"
SPACECRAFT_CLOCK_STOP_COUNT = "1/0663940370.31641"
START_TIME = 2024-05-16T11:47:40.489Z
STOP_TIME = 2024-05-16T11:51:20.952Z
/* ORBITAL DATA ELEMENTS */
ASCENDING_NODE_LONGITUDE = 97.4
MAXIMUM_RESOLUTION = 0.0413
FOOTPRINT_POINT_LATITUDE = (-82.9039,-83.0655,-83.1954,-83.3019, -83.304,-83.3512,-83.9063,-84.4623, -85.0296,-85.7459,-86.3252,-86.7683, -87.0648,-87.3578,-87.6585,-87.961, -88.2624,-88.5664,-88.8675,-89.1714, -89.4747,-89.7536,-89.7883,-89.5178, -89.2083,-88.8887,-88.5632,-88.2358, -87.9031,-87.5689,-87.2329,-86.8911, -86.3861,-86.0414,-85.6989,-85.3532, -85.0088,-84.6632,-84.1335,-83.6154, -83.2692,-82.7495,-82.4017,-81.8783, -81.3537,-80.8278,-80.6512,-80.6184, -80.6518,-80.6568,-80.6441,-80.6119, -80.5627,-80.4967,-80.4921,-80.4914, -80.9992,-81.3359,-81.6713,-82.005, -82.3364,-82.6657,-82.9932,-83.318, -83.6412,-83.9616,-84.2836,-84.5985, -85.0651,-85.3677,-85.8125,-86.0968, -86.3715,-86.6323,-86.8753,-87.1003, -87.3003,-87.4717,-87.6109,-87.7107, -87.7688,-87.7819,-87.7506,-87.6769, -87.5664,-87.4249,-87.1639,-86.9664, -86.7524,-86.527,-86.1751,-85.9305, -85.683,-85.177,-84.663,-84.1435, -83.6234,-83.1017,-82.9706,-82.9039)
FOOTPRINT_POINT_LONGITUDE = (202.147,198.144,193.868,188.457,188.31 ,187.636,187.777,187.945,188.152,188.46 ,188.824,189.128,189.405,189.828, 190.272,190.839,191.634,192.795,194.775 ,197.928,204.779,228.472,315.087, 346.359,354.349,357.932,359.9,361.162, 362.042,362.672,363.143,363.544,363.88, 364.159,364.363,364.568,364.728,364.874 ,365.145,365.281,365.364,365.471,365.54 ,365.639,365.727,365.808,365.837, 365.843,362.802,360.75,357.311,354.87, 352.487,350.167,350.024,349.971,349.204 ,348.643,348.038,347.383,346.674, 345.903,345.06,344.138,343.118,341.992, 340.709,339.3,336.836,334.943,331.563, 328.924,325.874,322.375,318.355,313.679 ,308.344,302.3,295.438,287.989,280.053, 271.904,263.9,256.258,249.293,243.065, 235.069,230.617,226.73,223.354,219.122, 216.718,214.611,211.094,208.284,205.997 ,204.112,202.526,202.166,202.147)
ORBIT_NUMBER = 25720
ORBITAL_ECCENTRICITY = 0.574
ORBITAL_INCLINATION = 87.08
ORBITAL_SEMIMAJOR_AXIS = 8782.59
PERIAPSIS_ALTITUDE = 361.63
PERIAPSIS_ARGUMENT_ANGLE = 235.98
PERIAPSIS_TIME = 2024-05-16T11:40:46.000Z
SPACECRAFT_ORIENTATION = (0.0,-1.0,0.0)
^MEX_ORIENTATION_DESC = "MEX_ORIENTATION_DESC.TXT"
SPACECRAFT_POINTING_MODE = INERT
^MEX_POINTING_DESC = "MEX_POINTING_DESC.TXT"
RIGHT_ASCENSION = 300.573
DECLINATION = 46.749
OFFSET_ANGLE = -1e+32
SPACECRAFT_SOLAR_DISTANCE = 2.0674e+08
TARGET_NAME = MARS
/* CAMERA DATA ELEMENTS */
DETECTOR_TEMPERATURE = 17.5549
FOCAL_PLANE_TEMPERATURE = 8.5833
INST_CMPRS_NAME = "DISCRETE COSINE TRANSFORMATION (DCT)"
INST_CMPRS_RATIO = 11.4381
INST_CMPRS_QUALITY = 0
INST_CMPRS_QUANTZ_TBL_ID = 0
INSTRUMENT_TEMPERATURE = 11.234
LENS_TEMPERATURE = 8.9911
MACROPIXEL_SIZE = 2
MISSING_FRAMES = 0
PIXEL_SUBSAMPLING_FLAG = N
SIGNAL_CHAIN_ID = 1
/* RADIOMETRIC DATA ELEMENTS */
BANDWIDTH = 180.0
CENTER_FILTER_WAVELENGTH = 677.0
RADIANCE_OFFSET = 5.25427
RADIANCE_SCALING_FACTOR = 0.0504279
REFLECTANCE_SCALING_FACTOR = 0.0011245
MEX:REFLECTANCE_OFFSET = 0.117166
/* IMAGE OBJECT DEFINITIONS */
OBJECT = IMAGE
  INTERCHANGE_FORMAT = BINARY
  LINES = 14977
  LINE_SAMPLES = 15661
  SAMPLE_TYPE = UNSIGNED_INTEGER
  SAMPLE_BITS = 8
  BANDS = 1
  BAND_STORAGE_TYPE = BAND_SEQUENTIAL
  MAXIMUM = 255
  MEAN = 174.504
  MINIMUM = 1
  STANDARD_DEVIATION = 86.4119
END_OBJECT = IMAGE
/* MAP OBJECT DEFINITIONS */
OBJECT = IMAGE_MAP_PROJECTION
  ^DATA_SET_MAP_PROJECTION_CATALOG= "DSMAP.CAT"
  A_AXIS_RADIUS = 3396.0
  B_AXIS_RADIUS = 3396.0
  C_AXIS_RADIUS = 3396.0
  CENTER_LATITUDE = -88.3717
  CENTER_LONGITUDE = 317.8
  COORDINATE_SYSTEM_NAME = PLANETOGRAPHIC
  COORDINATE_SYSTEM_TYPE = "BODY-FIXED ROTATING"
  EASTERNMOST_LONGITUDE = 5.843
  FIRST_STANDARD_PARALLEL = "N/A"
  LINE_FIRST_PIXEL = 1
  LINE_LAST_PIXEL = 14977
  LINE_PROJECTION_OFFSET = 7795.75
  MAP_PROJECTION_ROTATION = 0.0
  MAP_PROJECTION_TYPE = ORTHOGRAPHIC
  MAP_RESOLUTION = 1185.42760773333
  MAP_SCALE = 0.05
  MAXIMUM_LATITUDE = -80.4914
  MINIMUM_LATITUDE = -89.78830000000001
  POSITIVE_LONGITUDE_DIRECTION = EAST
  REFERENCE_LATITUDE = "N/A"
  REFERENCE_LONGITUDE = "N/A"
  SAMPLE_FIRST_PIXEL = 1
  SAMPLE_LAST_PIXEL = 15661
  SAMPLE_PROJECTION_OFFSET = 7474.25
  SECOND_STANDARD_PARALLEL = "N/A"
  WESTERNMOST_LONGITUDE = -172.364
END_OBJECT = IMAGE_MAP_PROJECTION
END
