PDS_VERSION_ID = PDS3
/* FILE DATA ELEMENTS */
RECORD_TYPE = UNDEFINED
/* POINTERS TO DATA OBJECTS */
^IMAGE = ("HP718_0000_IR4.TIF")
/* IDENTIFICATION DATA ELEMENTS */
DATA_SET_ID = "MEX-M-HRSC-4-REFDR-MAPPROJECT-EXT9-V4.0"
DATA_SET_NAME = "MARS EXPRESS HRSC MAP PROJECTED REFDR EXTENSION9 V4.0"
DETECTOR_ID = MEX_HRSC_IR
EVENT_TYPE = "MARS-REGIONAL-MAPPING-Gl-Pf-La"
INSTRUMENT_HOST_ID = MEX
INSTRUMENT_HOST_NAME = "MARS EXPRESS"
INSTRUMENT_ID = HRSC
INSTRUMENT_NAME = "HIGH RESOLUTION STEREO CAMERA"
MISSION_NAME = "MARS EXPRESS"
MISSION_PHASE_NAME = ME_Phase_50
PROCESSING_LEVEL_ID = 4
PRODUCT_CREATION_TIME = 2024-08-21T23:02:24.000Z
PRODUCT_ID = "HP718_0000_IR4.TIF"
RELEASE_ID = 0015
REVISION_ID = 0000
/* QUALITY DATA ELEMENTS */
DATA_QUALITY_ID = 1
DATA_QUALITY_DESC = "Data calculated based on original SPICE kernels"
/* TIME DATA ELEMENTS */
SPACECRAFT_CLOCK_START_COUNT = "1/0663889793.65275"
SPACECRAFT_CLOCK_STOP_COUNT = "1/0663890144.00596"
START_TIME = 2024-05-15T21:50:49.995Z
STOP_TIME = 2024-05-15T21:54:13.991Z
/* ORBITAL DATA ELEMENTS */
ASCENDING_NODE_LONGITUDE = 97.43
MAXIMUM_RESOLUTION = 0.0917
FOOTPRINT_POINT_LATITUDE = (-86.0999,-86.4671,-86.7063,-86.9397, -87.1654,-87.3816,-87.6099,-87.622, -87.6713,-88.1019,-88.3966,-88.4711, -88.3729,-88.1239,-87.6679,-87.232, -86.998,-86.6328,-86.3814,-86.125, -85.7291,-85.4618,-85.1893,-84.9127, -84.6344,-84.3504,-84.0649,-83.7756, -83.4833,-83.1898,-82.8955,-82.6003, -82.3043,-82.0076,-81.7101,-81.4121, -81.1134,-80.814,-80.5141,-80.2139, -79.913,-79.6116,-79.3079,-78.8552, -78.552,-78.2467,-77.943,-77.486, -77.3328,-77.2811,-77.2419,-77.1601, -77.0665,-76.9964,-76.9049,-76.7974, -76.7903,-76.7898,-77.2339,-77.6764, -78.1123,-78.408,-78.6983,-78.9885, -79.2765,-79.565,-79.9938,-80.4184, -80.7002,-81.1191,-81.3971,-81.6723, -81.9452,-82.2157,-82.4835,-82.7484, -83.0101,-83.2652,-83.5154,-83.7602, -83.9983,-84.2307,-84.4547,-84.6717, -84.8817,-85.1782,-85.3655,-85.5399, -85.7028,-85.8529,-86.1103,-86.304, -86.4258,-86.4697,-86.4527,-86.3942, -86.2965,-86.165,-86.1143,-86.0999)
FOOTPRINT_POINT_LONGITUDE = (90.491,87.4798,85.0968,82.3408,79.1341 ,75.3756,70.3382,70.0299,69.7452, 82.3376,101.072,119.95,138.688,154.153, 167.818,175.24,178.15,181.777,183.754, 185.502,187.761,189.033,190.185,191.224 ,192.155,193.007,193.777,194.484, 195.132,195.726,196.27,196.772,197.236, 197.666,198.066,198.438,198.785,199.11, 199.415,199.701,199.97,200.224,200.47, 200.802,201.012,201.216,201.403,201.669 ,201.756,201.784,199.836,197.116,194.78 ,193.358,191.744,190.05,189.946,189.909 ,189.381,188.815,188.208,187.774,187.32 ,186.84,186.335,185.801,184.942,184.007 ,183.335,182.247,181.461,180.624, 179.729,178.772,177.746,176.644,175.458 ,174.197,172.842,171.387,169.83,168.148 ,166.35,164.409,162.31,158.876,156.345, 153.654,150.757,147.65,140.858,133.303, 125.15,116.781,110.478,104.416,98.62, 93.2388,91.5323,90.491)
ORBIT_NUMBER = 25718
ORBITAL_ECCENTRICITY = 0.574
ORBITAL_INCLINATION = 87.07
ORBITAL_SEMIMAJOR_AXIS = 8785.08
PERIAPSIS_ALTITUDE = 360.95
PERIAPSIS_ARGUMENT_ANGLE = 236.34
PERIAPSIS_TIME = 2024-05-15T21:42:35.000Z
SPACECRAFT_ORIENTATION = (0.0,-1.0,0.0)
^MEX_ORIENTATION_DESC = "MEX_ORIENTATION_DESC.TXT"
SPACECRAFT_POINTING_MODE = INERT
^MEX_POINTING_DESC = "MEX_POINTING_DESC.TXT"
RIGHT_ASCENSION = 312.045
DECLINATION = 44.722
OFFSET_ANGLE = -1e+32
SPACECRAFT_SOLAR_DISTANCE = 2.0673e+08
TARGET_NAME = MARS
/* CAMERA DATA ELEMENTS */
DETECTOR_TEMPERATURE = 17.5549
FOCAL_PLANE_TEMPERATURE = 8.7872
INST_CMPRS_NAME = "DISCRETE COSINE TRANSFORMATION (DCT)"
INST_CMPRS_RATIO = 10.3433
INST_CMPRS_QUALITY = 0
INST_CMPRS_QUANTZ_TBL_ID = 0
INSTRUMENT_TEMPERATURE = 11.4379
LENS_TEMPERATURE = 8.9911
MACROPIXEL_SIZE = 4
MISSING_FRAMES = 0
PIXEL_SUBSAMPLING_FLAG = N
SIGNAL_CHAIN_ID = 2
/* RADIOMETRIC DATA ELEMENTS */
BANDWIDTH = 81.0
CENTER_FILTER_WAVELENGTH = 955.5
RADIANCE_OFFSET = 1.13201
RADIANCE_SCALING_FACTOR = 0.00860943
REFLECTANCE_SCALING_FACTOR = 0.000793801
MEX:REFLECTANCE_OFFSET = 0.104372
/* IMAGE OBJECT DEFINITIONS */
OBJECT = IMAGE
  INTERCHANGE_FORMAT = BINARY
  LINES = 8325
  LINE_SAMPLES = 4935
  SAMPLE_TYPE = UNSIGNED_INTEGER
  SAMPLE_BITS = 8
  BANDS = 1
  BAND_STORAGE_TYPE = BAND_SEQUENTIAL
  MAXIMUM = 255
  MEAN = 97.2623
  MINIMUM = 1
  STANDARD_DEVIATION = 39.3319
END_OBJECT = IMAGE
/* MAP OBJECT DEFINITIONS */
OBJECT = IMAGE_MAP_PROJECTION
  ^DATA_SET_MAP_PROJECTION_CATALOG= "DSMAP.CAT"
  A_AXIS_RADIUS = 3396.0
  B_AXIS_RADIUS = 3396.0
  C_AXIS_RADIUS = 3396.0
  CENTER_LATITUDE = -84.0877
  CENTER_LONGITUDE = 181.779
  COORDINATE_SYSTEM_NAME = PLANETOGRAPHIC
  COORDINATE_SYSTEM_TYPE = "BODY-FIXED ROTATING"
  EASTERNMOST_LONGITUDE = 201.784
  FIRST_STANDARD_PARALLEL = "N/A"
  LINE_FIRST_PIXEL = 1
  LINE_LAST_PIXEL = 8325
  LINE_PROJECTION_OFFSET = 4281.125
  MAP_PROJECTION_ROTATION = 0.0
  MAP_PROJECTION_TYPE = ORTHOGRAPHIC
  MAP_RESOLUTION = 592.713803866667
  MAP_SCALE = 0.1
  MAXIMUM_LATITUDE = -76.7898
  MINIMUM_LATITUDE = -88.47110000000001
  POSITIVE_LONGITUDE_DIRECTION = EAST
  REFERENCE_LATITUDE = "N/A"
  REFERENCE_LONGITUDE = "N/A"
  SAMPLE_FIRST_PIXEL = 1
  SAMPLE_LAST_PIXEL = 4935
  SAMPLE_PROJECTION_OFFSET = 2353.375
  SECOND_STANDARD_PARALLEL = "N/A"
  WESTERNMOST_LONGITUDE = 69.7452
END_OBJECT = IMAGE_MAP_PROJECTION
END
