PDS_VERSION_ID = PDS3
/* FILE DATA ELEMENTS */
RECORD_TYPE = UNDEFINED
/* POINTERS TO DATA OBJECTS */
^IMAGE = ("HP713_0000_BL4.TIF")
/* IDENTIFICATION DATA ELEMENTS */
DATA_SET_ID = "MEX-M-HRSC-4-REFDR-MAPPROJECT-EXT9-V4.0"
DATA_SET_NAME = "MARS EXPRESS HRSC MAP PROJECTED REFDR EXTENSION9 V4.0"
DETECTOR_ID = MEX_HRSC_BLUE
EVENT_TYPE = "MARS-REGIONAL-MAPPING-Gl-Pf-La"
INSTRUMENT_HOST_ID = MEX
INSTRUMENT_HOST_NAME = "MARS EXPRESS"
INSTRUMENT_ID = HRSC
INSTRUMENT_NAME = "HIGH RESOLUTION STEREO CAMERA"
MISSION_NAME = "MARS EXPRESS"
MISSION_PHASE_NAME = ME_Phase_50
PROCESSING_LEVEL_ID = 4
PRODUCT_CREATION_TIME = 2024-08-21T23:02:24.000Z
PRODUCT_ID = "HP713_0000_BL4.TIF"
RELEASE_ID = 0015
REVISION_ID = 0000
/* QUALITY DATA ELEMENTS */
DATA_QUALITY_ID = 1
DATA_QUALITY_DESC = "Data calculated based on original SPICE kernels"
/* TIME DATA ELEMENTS */
SPACECRAFT_CLOCK_START_COUNT = "1/0663763973.00348"
SPACECRAFT_CLOCK_STOP_COUNT = "1/0663764261.48135"
START_TIME = 2024-05-14T10:54:32.056Z
STOP_TIME = 2024-05-14T10:58:32.911Z
/* ORBITAL DATA ELEMENTS */
ASCENDING_NODE_LONGITUDE = 97.52
MAXIMUM_RESOLUTION = 0.1741
FOOTPRINT_POINT_LATITUDE = (-82.9104,-83.1165,-83.2858,-83.4414, -83.4443,-83.3999,-83.874,-84.1894, -84.5041,-84.818,-85.1312,-85.4432, -85.7535,-86.0635,-86.371,-86.6771, -86.9798,-87.2796,-87.5742,-87.8624, -88.2745,-88.5275,-88.8446,-88.9843, -89.0355,-88.9857,-88.7538,-88.409, -88.1472,-87.8708,-87.4388,-87.1437, -86.8438,-86.5416,-86.2373,-85.9314, -85.6244,-85.3158,-85.0069,-84.697, -84.3869,-83.9193,-83.607,-83.1378, -82.668,-82.3545,-82.0408,-81.5699, -81.2557,-80.7841,-80.6269,-80.5822, -80.55,-80.4662,-80.3891,-80.2654, -80.1624,-80.0317,-80.0236,-80.0193, -80.3197,-80.917,-81.3616,-81.8027, -82.5287,-83.2401,-83.7953,-84.2011, -84.5958,-85.1001,-85.4573,-85.8963, -86.0959,-86.2794,-86.4439,-86.587, -86.7057,-86.8322,-86.8788,-86.8936, -86.876,-86.8265,-86.7466,-86.6387, -86.5049,-86.3475,-86.1706,-85.8744, -85.6584,-85.4296,-85.1911,-84.9438, -84.5577,-84.2925,-84.0223,-83.7472, -83.4676,-83.0413,-82.8976,-82.9104)
FOOTPRINT_POINT_LONGITUDE = (203.555,199.409,194.973,188.903, 188.751,188.121,188.775,189.269,189.82, 190.437,191.135,191.924,192.813,193.874 ,195.086,196.554,198.275,200.416, 203.053,206.46,213.577,220.474,236.163, 251.29,269.504,287.713,308.976,322.325, 328.271,332.717,337.536,339.939,341.864 ,343.471,344.822,345.976,346.975, 347.832,348.605,349.283,349.908,350.678 ,351.125,351.709,352.223,352.532, 352.819,353.21,353.447,353.773,353.873, 353.901,351.947,348.519,346.197,343.234 ,341.18,338.919,338.788,338.699,338.132 ,336.881,335.828,334.659,332.398, 329.648,326.993,324.673,322.004,317.779 ,314.004,307.983,304.478,300.603, 296.355,291.716,286.704,278.583,272.875 ,267.054,261.235,255.539,250.067, 244.912,240.107,235.67,231.634,226.285, 223.137,220.289,217.724,215.407,212.331 ,210.516,208.866,207.36,205.982,204.124 ,203.555,203.555)
ORBIT_NUMBER = 25713
ORBITAL_ECCENTRICITY = 0.574
ORBITAL_INCLINATION = 87.08
ORBITAL_SEMIMAJOR_AXIS = 8780.7
PERIAPSIS_ALTITUDE = 361.45
PERIAPSIS_ARGUMENT_ANGLE = 237.16
PERIAPSIS_TIME = 2024-05-14T10:47:04.000Z
SPACECRAFT_ORIENTATION = (0.0,-1.0,0.0)
^MEX_ORIENTATION_DESC = "MEX_ORIENTATION_DESC.TXT"
SPACECRAFT_POINTING_MODE = INERT
^MEX_POINTING_DESC = "MEX_POINTING_DESC.TXT"
RIGHT_ASCENSION = 306.718
DECLINATION = 48.287
OFFSET_ANGLE = -1e+32
SPACECRAFT_SOLAR_DISTANCE = 2.06709e+08
TARGET_NAME = MARS
/* CAMERA DATA ELEMENTS */
DETECTOR_TEMPERATURE = 18.5744
FOCAL_PLANE_TEMPERATURE = 8.5833
INST_CMPRS_NAME = "DISCRETE COSINE TRANSFORMATION (DCT)"
INST_CMPRS_RATIO = 12.5529
INST_CMPRS_QUALITY = 0
INST_CMPRS_QUANTZ_TBL_ID = 0
INSTRUMENT_TEMPERATURE = 11.234
LENS_TEMPERATURE = 8.7872
MACROPIXEL_SIZE = 8
MISSING_FRAMES = 0
PIXEL_SUBSAMPLING_FLAG = N
SIGNAL_CHAIN_ID = 3
/* RADIOMETRIC DATA ELEMENTS */
BANDWIDTH = 76.0
CENTER_FILTER_WAVELENGTH = 444.0
RADIANCE_OFFSET = 0.612196
RADIANCE_SCALING_FACTOR = 0.0250515
REFLECTANCE_SCALING_FACTOR = 0.00109978
MEX:REFLECTANCE_OFFSET = 0.026876
/* IMAGE OBJECT DEFINITIONS */
OBJECT = IMAGE
  INTERCHANGE_FORMAT = BINARY
  LINES = 3283
  LINE_SAMPLES = 4203
  SAMPLE_TYPE = UNSIGNED_INTEGER
  SAMPLE_BITS = 8
  BANDS = 1
  BAND_STORAGE_TYPE = BAND_SEQUENTIAL
  MAXIMUM = 255
  MEAN = 87.279
  MINIMUM = 1
  STANDARD_DEVIATION = 53.1935
END_OBJECT = IMAGE
/* MAP OBJECT DEFINITIONS */
OBJECT = IMAGE_MAP_PROJECTION
  ^DATA_SET_MAP_PROJECTION_CATALOG= "DSMAP.CAT"
  A_AXIS_RADIUS = 3396.0
  B_AXIS_RADIUS = 3396.0
  C_AXIS_RADIUS = 3396.0
  CENTER_LATITUDE = -87.4943
  CENTER_LONGITUDE = 304.225
  COORDINATE_SYSTEM_NAME = PLANETOGRAPHIC
  COORDINATE_SYSTEM_TYPE = "BODY-FIXED ROTATING"
  EASTERNMOST_LONGITUDE = 353.901
  FIRST_STANDARD_PARALLEL = "N/A"
  LINE_FIRST_PIXEL = 1
  LINE_LAST_PIXEL = 3283
  LINE_PROJECTION_OFFSET = 1687.9375
  MAP_PROJECTION_ROTATION = 0.0
  MAP_PROJECTION_TYPE = ORTHOGRAPHIC
  MAP_RESOLUTION = 296.356901933333
  MAP_SCALE = 0.2
  MAXIMUM_LATITUDE = -80.0193
  MINIMUM_LATITUDE = -89.0355
  POSITIVE_LONGITUDE_DIRECTION = EAST
  REFERENCE_LATITUDE = "N/A"
  REFERENCE_LONGITUDE = "N/A"
  SAMPLE_FIRST_PIXEL = 1
  SAMPLE_LAST_PIXEL = 4203
  SAMPLE_PROJECTION_OFFSET = 2072.6875
  SECOND_STANDARD_PARALLEL = "N/A"
  WESTERNMOST_LONGITUDE = 188.121
END_OBJECT = IMAGE_MAP_PROJECTION
END
