PDS_VERSION_ID = PDS3
/* FILE DATA ELEMENTS */
RECORD_TYPE = UNDEFINED
/* POINTERS TO DATA OBJECTS */
^IMAGE = ("HP707_0000_GR4.TIF")
/* IDENTIFICATION DATA ELEMENTS */
DATA_SET_ID = "MEX-M-HRSC-4-REFDR-MAPPROJECT-EXT9-V4.0"
DATA_SET_NAME = "MARS EXPRESS HRSC MAP PROJECTED REFDR EXTENSION9 V4.0"
DETECTOR_ID = MEX_HRSC_GREEN
EVENT_TYPE = "MARS-TERMINATOR-CALIBRATION-Tc"
INSTRUMENT_HOST_ID = MEX
INSTRUMENT_HOST_NAME = "MARS EXPRESS"
INSTRUMENT_ID = HRSC
INSTRUMENT_NAME = "HIGH RESOLUTION STEREO CAMERA"
MISSION_NAME = "MARS EXPRESS"
MISSION_PHASE_NAME = ME_Phase_50
PROCESSING_LEVEL_ID = 4
PRODUCT_CREATION_TIME = 2024-08-21T23:02:24.000Z
PRODUCT_ID = "HP707_0000_GR4.TIF"
RELEASE_ID = 0015
REVISION_ID = 0000
/* QUALITY DATA ELEMENTS */
DATA_QUALITY_ID = 1
DATA_QUALITY_DESC = "Data calculated based on original SPICE kernels"
/* TIME DATA ELEMENTS */
SPACECRAFT_CLOCK_START_COUNT = "1/0663620137.00352"
SPACECRAFT_CLOCK_STOP_COUNT = "1/0663620589.65210"
START_TIME = 2024-05-12T18:57:53.502Z
STOP_TIME = 2024-05-12T19:01:43.444Z
/* ORBITAL DATA ELEMENTS */
ASCENDING_NODE_LONGITUDE = 97.63
MAXIMUM_RESOLUTION = 0.7123
FOOTPRINT_POINT_LATITUDE = (79.4633,80.651,80.6062,77.0824,74.1994 ,71.2945,68.4152,65.5589,62.6874,59.752 ,56.6776,53.3209,49.2844,46.4419, 45.3612,45.7674,43.6973,45.9964,46.7774 ,47.1053,47.1141,46.6647,45.9587,45.092 ,44.1171,43.066,40.8119,38.4268,35.9561 ,33.4196,30.8236,28.7888,26.0787, 23.2893,20.4058,17.4055,14.2519,10.9105 ,7.33367,3.43464,-0.892655,-3.27973, -5.85584,-8.69548,-11.8824,-15.5693, -20.0759,-22.8542,-26.261,-31.026, -39.3788,-39.0976,-35.7278,-36.9618, -32.4178,-29.4644,-26.9456,-24.8444, -25.2799,-26.9828,-28.2707,-27.231, -23.579,-21.5206,-18.1674,-12.5208, -9.3141,-6.68012,-4.36558,-0.606905, 2.62111,5.50219,8.15732,12.7581,16.9781 ,20.872,24.5322,28.0324,31.4257,34.7526 ,38.0457,41.3414,46.4445,49.9102, 53.5052,57.2903,61.3392,65.7576,68.1543 ,70.7115,73.4641,76.4593,79.7383, 83.1858,84.6548,85.0687,83.3142,78.1079 ,79.4633)
FOOTPRINT_POINT_LONGITUDE = (80.1244,93.8221,117.789,141.644, 147.459,149.968,150.7,150.341,149.208, 147.413,144.931,141.53,136.352,131.737, 129.678,128.938,132.23,141.731,147.459, 152.003,159.254,165.061,169.915,174.107 ,177.778,181.041,186.607,191.223, 195.143,198.539,201.528,203.604,206.074 ,208.329,210.414,212.359,214.192, 215.942,217.634,219.294,220.951,221.792 ,222.649,223.533,224.459,225.453, 226.564,227.197,227.926,228.859,231.355 ,236.221,242.031,243.566,243.745, 245.384,247.987,253.461,259.116,262.403 ,263.935,262.784,266.977,270.827,271.83 ,267.181,264.872,263.094,261.599, 259.355,257.544,256.002,254.623,252.437 ,250.484,248.748,247.169,245.694, 244.284,242.907,241.539,240.172,238.048 ,236.529,234.861,232.968,230.708, 227.796,225.915,223.548,220.374,215.69, 207.613,189.346,168.781,134.595,99.5972 ,75.5599,80.1244)
ORBIT_NUMBER = 25707
ORBITAL_ECCENTRICITY = 0.574
ORBITAL_INCLINATION = 87.09
ORBITAL_SEMIMAJOR_AXIS = 8782.27
PERIAPSIS_ALTITUDE = 360.54
PERIAPSIS_ARGUMENT_ANGLE = 238.18
PERIAPSIS_TIME = 2024-05-12T16:52:30.000Z
SPACECRAFT_ORIENTATION = (0.0,1.0,0.0)
^MEX_ORIENTATION_DESC = "MEX_ORIENTATION_DESC.TXT"
SPACECRAFT_POINTING_MODE = FIXED
^MEX_POINTING_DESC = "MEX_POINTING_DESC.TXT"
RIGHT_ASCENSION = -1e+32
DECLINATION = -1e+32
OFFSET_ANGLE = -1e+32
SPACECRAFT_SOLAR_DISTANCE = 2.0669e+08
TARGET_NAME = MARS
/* CAMERA DATA ELEMENTS */
DETECTOR_TEMPERATURE = 18.5744
FOCAL_PLANE_TEMPERATURE = 9.3989
INST_CMPRS_NAME = "DISCRETE COSINE TRANSFORMATION (DCT)"
INST_CMPRS_RATIO = 10.1594
INST_CMPRS_QUALITY = 0
INST_CMPRS_QUANTZ_TBL_ID = 0
INSTRUMENT_TEMPERATURE = 11.8457
LENS_TEMPERATURE = 9.3989
MACROPIXEL_SIZE = 2
PIXEL_SUBSAMPLING_FLAG = N
SIGNAL_CHAIN_ID = 2
/* RADIOMETRIC DATA ELEMENTS */
BANDWIDTH = 88.0
CENTER_FILTER_WAVELENGTH = 538.0
RADIANCE_OFFSET = 0.0
RADIANCE_SCALING_FACTOR = 0.0191515
REFLECTANCE_SCALING_FACTOR = 0.00070442
MEX:REFLECTANCE_OFFSET = 0.0
/* IMAGE OBJECT DEFINITIONS */
OBJECT = IMAGE
  INTERCHANGE_FORMAT = BINARY
  LINES = 6295
  LINE_SAMPLES = 5572
  SAMPLE_TYPE = UNSIGNED_INTEGER
  SAMPLE_BITS = 8
  BANDS = 1
  BAND_STORAGE_TYPE = BAND_SEQUENTIAL
  MAXIMUM = 254
  MEAN = 100.93
  MINIMUM = 1
  STANDARD_DEVIATION = 75.1326
END_OBJECT = IMAGE
/* MAP OBJECT DEFINITIONS */
OBJECT = IMAGE_MAP_PROJECTION
  ^DATA_SET_MAP_PROJECTION_CATALOG= "DSMAP.CAT"
  A_AXIS_RADIUS = 3396.0
  B_AXIS_RADIUS = 3396.0
  C_AXIS_RADIUS = 3396.0
  CENTER_LATITUDE = 32.1246
  CENTER_LONGITUDE = 223.647
  COORDINATE_SYSTEM_NAME = PLANETOGRAPHIC
  COORDINATE_SYSTEM_TYPE = "BODY-FIXED ROTATING"
  EASTERNMOST_LONGITUDE = 360.0
  FIRST_STANDARD_PARALLEL = "N/A"
  LINE_FIRST_PIXEL = 1
  LINE_LAST_PIXEL = 6295
  LINE_PROJECTION_OFFSET = 4052.75
  MAP_PROJECTION_ROTATION = 0.0
  MAP_PROJECTION_TYPE = ORTHOGRAPHIC
  MAP_RESOLUTION = 74.08922548333329
  MAP_SCALE = 0.8
  MAXIMUM_LATITUDE = 90.0
  MINIMUM_LATITUDE = -39.3788
  POSITIVE_LONGITUDE_DIRECTION = EAST
  REFERENCE_LATITUDE = "N/A"
  REFERENCE_LONGITUDE = "N/A"
  SAMPLE_FIRST_PIXEL = 1
  SAMPLE_LAST_PIXEL = 5572
  SAMPLE_PROJECTION_OFFSET = 3113.75
  SECOND_STANDARD_PARALLEL = "N/A"
  WESTERNMOST_LONGITUDE = 0.0
END_OBJECT = IMAGE_MAP_PROJECTION
END
