PDS_VERSION_ID = PDS3
/* FILE DATA ELEMENTS */
RECORD_TYPE = UNDEFINED
/* POINTERS TO DATA OBJECTS */
^IMAGE = ("HP704_0000_P14.TIF")
/* IDENTIFICATION DATA ELEMENTS */
DATA_SET_ID = "MEX-M-HRSC-4-REFDR-MAPPROJECT-EXT9-V4.0"
DATA_SET_NAME = "MARS EXPRESS HRSC MAP PROJECTED REFDR EXTENSION9 V4.0"
DETECTOR_ID = MEX_HRSC_P1
EVENT_TYPE = "MARS-REGIONAL-MAPPING-Gl-Pf-La"
INSTRUMENT_HOST_ID = MEX
INSTRUMENT_HOST_NAME = "MARS EXPRESS"
INSTRUMENT_ID = HRSC
INSTRUMENT_NAME = "HIGH RESOLUTION STEREO CAMERA"
MISSION_NAME = "MARS EXPRESS"
MISSION_PHASE_NAME = ME_Phase_50
PROCESSING_LEVEL_ID = 4
PRODUCT_CREATION_TIME = 2024-08-21T23:02:24.000Z
PRODUCT_ID = "HP704_0000_P14.TIF"
RELEASE_ID = 0015
REVISION_ID = 0000
/* QUALITY DATA ELEMENTS */
DATA_QUALITY_ID = 1
DATA_QUALITY_DESC = "Data calculated based on original SPICE kernels"
/* TIME DATA ELEMENTS */
SPACECRAFT_CLOCK_START_COUNT = "1/0663537594.65130"
SPACECRAFT_CLOCK_STOP_COUNT = "1/0663538027.53175"
START_TIME = 2024-05-11T20:00:58.428Z
STOP_TIME = 2024-05-11T20:05:30.955Z
/* ORBITAL DATA ELEMENTS */
ASCENDING_NODE_LONGITUDE = 97.67
MAXIMUM_RESOLUTION = 0.0383
FOOTPRINT_POINT_LATITUDE = (-81.8885,-82.0216,-82.1299,-82.2211, -82.2229,-82.2927,-82.8671,-83.4478, -83.8886,-84.4718,-84.7708,-85.3685, -85.8246,-86.1295,-86.4365,-86.8993, -87.209,-87.5233,-87.994,-88.4723, -88.7887,-89.2622,-89.5606,-89.7651, -89.4904,-89.1761,-88.8488,-88.3406, -87.8261,-87.4826,-87.1332,-86.7834, -86.4232,-86.0681,-85.7075,-85.3475, -84.9816,-84.6142,-84.2433,-83.8695, -83.3035,-82.7304,-82.3451,-81.9553, -81.5658,-81.1772,-80.9832,-80.9292, -80.938,-80.9267,-80.8993,-80.8448, -80.7805,-80.7102,-80.7052,-80.7041, -81.0803,-81.4562,-81.8316,-82.3879, -82.9341,-83.2923,-83.6453,-83.9921, -84.3348,-84.669,-84.9979,-85.3183, -85.6307,-85.934,-86.2293,-86.5058, -86.8911,-87.1228,-87.3268,-87.5005, -87.6352,-87.7564,-87.7776,-87.7494, -87.6752,-87.559,-87.4085,-87.2299, -87.0266,-86.6928,-86.4528,-86.2058, -85.951,-85.688,-85.2907,-85.0198, -84.7476,-84.4746,-84.0619,-83.3725, -82.8224,-82.1318,-81.9957,-81.8885)
FOOTPRINT_POINT_LONGITUDE = (32.3757,28.9766,25.3591,20.786,20.6617 ,19.9498,20.0744,20.1938,20.3217, 20.6041,20.7423,21.0829,21.391,21.6366, 21.9065,22.5086,22.978,23.5885,24.8721, 26.9105,29.2108,36.4842,49.9128,97.6879 ,171.058,181.756,186.521,190.268, 192.199,192.945,193.581,194.042,194.434 ,194.738,195.014,195.222,195.413, 195.581,195.728,195.856,196.023,196.163 ,196.246,196.319,196.385,196.443, 196.471,196.478,193.538,191.097,188.698 ,185.92,183.492,181.406,181.268,181.218 ,180.652,180.032,179.352,178.209, 176.896,175.908,174.816,173.604,172.247 ,170.734,169.024,167.092,164.884, 162.347,159.396,156.056,149.95,145.02, 139.367,132.847,125.606,113.49,105.067, 96.6329,88.6922,81.3619,74.8674,69.1877 ,64.2362,58.1227,54.712,51.7936,49.2419 ,46.9989,44.1599,42.5219,41.0731, 39.7776,38.0588,35.7262,34.2032,32.6219 ,32.3451,32.3757)
ORBIT_NUMBER = 25704
ORBITAL_ECCENTRICITY = 0.574
ORBITAL_INCLINATION = 87.07
ORBITAL_SEMIMAJOR_AXIS = 8781.1
PERIAPSIS_ALTITUDE = 360.94
PERIAPSIS_ARGUMENT_ANGLE = 238.69
PERIAPSIS_TIME = 2024-05-11T19:55:16.000Z
SPACECRAFT_ORIENTATION = (0.0,-1.0,0.0)
^MEX_ORIENTATION_DESC = "MEX_ORIENTATION_DESC.TXT"
SPACECRAFT_POINTING_MODE = ACROSSTRACK
^MEX_POINTING_DESC = "MEX_POINTING_DESC.TXT"
RIGHT_ASCENSION = -1e+32
DECLINATION = -1e+32
OFFSET_ANGLE = -1.616
SPACECRAFT_SOLAR_DISTANCE = 2.06683e+08
TARGET_NAME = MARS
/* CAMERA DATA ELEMENTS */
DETECTOR_TEMPERATURE = 17.5549
FOCAL_PLANE_TEMPERATURE = 8.9911
INST_CMPRS_NAME = "DISCRETE COSINE TRANSFORMATION (DCT)"
INST_CMPRS_RATIO = 6.03364
INST_CMPRS_QUALITY = 0
INST_CMPRS_QUANTZ_TBL_ID = 0
INSTRUMENT_TEMPERATURE = 11.234
LENS_TEMPERATURE = 8.9911
MACROPIXEL_SIZE = 2
MISSING_FRAMES = 1
PIXEL_SUBSAMPLING_FLAG = N
SIGNAL_CHAIN_ID = 3
/* RADIOMETRIC DATA ELEMENTS */
BANDWIDTH = 174.0
CENTER_FILTER_WAVELENGTH = 675.0
RADIANCE_OFFSET = 4.30514
RADIANCE_SCALING_FACTOR = 0.0537897
REFLECTANCE_SCALING_FACTOR = 0.00123592
MEX:REFLECTANCE_OFFSET = 0.0989189
/* IMAGE OBJECT DEFINITIONS */
OBJECT = IMAGE
  INTERCHANGE_FORMAT = BINARY
  LINES = 3807
  LINE_SAMPLES = 19900
  SAMPLE_TYPE = UNSIGNED_INTEGER
  SAMPLE_BITS = 8
  BANDS = 1
  BAND_STORAGE_TYPE = BAND_SEQUENTIAL
  MAXIMUM = 255
  MEAN = 113.875
  MINIMUM = 1
  STANDARD_DEVIATION = 43.9117
END_OBJECT = IMAGE
/* MAP OBJECT DEFINITIONS */
OBJECT = IMAGE_MAP_PROJECTION
  ^DATA_SET_MAP_PROJECTION_CATALOG= "DSMAP.CAT"
  A_AXIS_RADIUS = 3396.0
  B_AXIS_RADIUS = 3396.0
  C_AXIS_RADIUS = 3396.0
  CENTER_LATITUDE = -88.7392
  CENTER_LONGITUDE = 110.336
  COORDINATE_SYSTEM_NAME = PLANETOGRAPHIC
  COORDINATE_SYSTEM_TYPE = "BODY-FIXED ROTATING"
  EASTERNMOST_LONGITUDE = 196.478
  FIRST_STANDARD_PARALLEL = "N/A"
  LINE_FIRST_PIXEL = 1
  LINE_LAST_PIXEL = 3807
  LINE_PROJECTION_OFFSET = 2233.25
  MAP_PROJECTION_ROTATION = 0.0
  MAP_PROJECTION_TYPE = ORTHOGRAPHIC
  MAP_RESOLUTION = 1185.42760773333
  MAP_SCALE = 0.05
  MAXIMUM_LATITUDE = -80.7041
  MINIMUM_LATITUDE = -89.7651
  POSITIVE_LONGITUDE_DIRECTION = EAST
  REFERENCE_LATITUDE = "N/A"
  REFERENCE_LONGITUDE = "N/A"
  SAMPLE_FIRST_PIXEL = 1
  SAMPLE_LAST_PIXEL = 19900
  SAMPLE_PROJECTION_OFFSET = 9218.75
  SECOND_STANDARD_PARALLEL = "N/A"
  WESTERNMOST_LONGITUDE = 19.9498
END_OBJECT = IMAGE_MAP_PROJECTION
END
