PDS_VERSION_ID = PDS3
/* FILE DATA ELEMENTS */
RECORD_TYPE = UNDEFINED
/* POINTERS TO DATA OBJECTS */
^IMAGE = ("HP699_0000_S24.TIF")
/* IDENTIFICATION DATA ELEMENTS */
DATA_SET_ID = "MEX-M-HRSC-4-REFDR-MAPPROJECT-EXT9-V4.0"
DATA_SET_NAME = "MARS EXPRESS HRSC MAP PROJECTED REFDR EXTENSION9 V4.0"
DETECTOR_ID = MEX_HRSC_S2
EVENT_TYPE = "MARS-REGIONAL-MAPPING-Gl-Pf-La"
INSTRUMENT_HOST_ID = MEX
INSTRUMENT_HOST_NAME = "MARS EXPRESS"
INSTRUMENT_ID = HRSC
INSTRUMENT_NAME = "HIGH RESOLUTION STEREO CAMERA"
MISSION_NAME = "MARS EXPRESS"
MISSION_PHASE_NAME = ME_Phase_50
PROCESSING_LEVEL_ID = 4
PRODUCT_CREATION_TIME = 2024-08-21T01:11:59.000Z
PRODUCT_ID = "HP699_0000_S24.TIF"
RELEASE_ID = 0014
REVISION_ID = 0000
/* QUALITY DATA ELEMENTS */
DATA_QUALITY_ID = 1
DATA_QUALITY_DESC = "Data calculated based on original SPICE kernels"
/* TIME DATA ELEMENTS */
SPACECRAFT_CLOCK_START_COUNT = "1/0663411905.65284"
SPACECRAFT_CLOCK_STOP_COUNT = "1/0663412245.46123"
START_TIME = 2024-05-10T09:07:49.137Z
STOP_TIME = 2024-05-10T09:11:32.145Z
/* ORBITAL DATA ELEMENTS */
ASCENDING_NODE_LONGITUDE = 97.76
MAXIMUM_RESOLUTION = 0.0475
FOOTPRINT_POINT_LATITUDE = (-83.9288,-84.2574,-84.4861,-84.7053, -84.9141,-85.1122,-85.2986,-85.3098, -85.2326,-85.4271,-85.6199,-85.807, -85.9899,-86.2525,-86.4174,-86.5737, -86.7201,-86.8554,-86.9782,-87.1366, -87.2594,-87.3193,-87.3597,-87.3805, -87.3814,-87.3455,-87.2979,-87.1934, -87.0534,-86.943,-86.8214,-86.6196, -86.4754,-86.3211,-86.1622,-85.9985, -85.8302,-85.6578,-85.4822,-85.3038, -85.0298,-84.8446,-84.4723,-84.0976, -83.6222,-83.2365,-82.9432,-82.4574, -82.3602,-82.3265,-82.2619,-82.1819, -82.0363,-81.926,-81.7855,-81.6097, -81.4041,-81.2392,-81.225,-81.2204, -81.5635,-81.9018,-82.317,-82.641, -82.8782,-83.1093,-83.4097,-83.6959, -83.9001,-84.1569,-84.2777,-84.3929, -84.554,-84.6531,-84.7448,-84.8288, -84.9046,-84.9715,-85.0295,-85.0774, -85.1315,-85.1547,-85.168,-85.1696, -85.1605,-85.1268,-85.0902,-85.0167, -84.9545,-84.8826,-84.7997,-84.7088, -84.607,-84.4991,-84.3817,-84.2547, -84.0523,-83.9136,-83.8416,-83.9288)
FOOTPRINT_POINT_LONGITUDE = (218.164,215.638,213.629,211.461, 209.125,206.606,203.89,203.713,202.888, 204.499,206.274,208.198,210.312,213.864 ,216.492,219.36,222.484,225.876,229.541 ,235.581,242.237,246.988,251.866, 256.842,261.829,269.238,273.986,280.729 ,286.89,290.644,294.1,298.781,301.566, 304.155,306.504,308.65,310.62,312.429, 314.092,315.624,317.714,318.977,321.225 ,323.167,325.263,326.721,327.709,329.17 ,329.439,329.53,327.856,326.016,323.153 ,321.237,319.022,316.539,313.996, 312.155,312.004,311.948,310.439,308.792 ,306.506,304.48,302.836,301.084,298.489 ,295.653,293.355,290.009,288.213, 286.337,283.348,281.26,279.088,276.83, 274.498,272.074,269.602,267.041,263.146 ,260.5,257.838,255.139,252.443,248.422, 245.763,241.866,239.328,236.853,234.433 ,232.098,229.827,227.654,225.555,223.53 ,220.661,218.883,218.027,218.164)
ORBIT_NUMBER = 25699
ORBITAL_ECCENTRICITY = 0.574
ORBITAL_INCLINATION = 87.09
ORBITAL_SEMIMAJOR_AXIS = 8777.28
PERIAPSIS_ALTITUDE = 360.96
PERIAPSIS_ARGUMENT_ANGLE = 239.53
PERIAPSIS_TIME = 2024-05-10T08:59:52.000Z
SPACECRAFT_ORIENTATION = (0.0,-1.0,0.0)
^MEX_ORIENTATION_DESC = "MEX_ORIENTATION_DESC.TXT"
SPACECRAFT_POINTING_MODE = ACROSSTRACK
^MEX_POINTING_DESC = "MEX_POINTING_DESC.TXT"
RIGHT_ASCENSION = -1e+32
DECLINATION = -1e+32
OFFSET_ANGLE = 0.808
SPACECRAFT_SOLAR_DISTANCE = 2.06674e+08
TARGET_NAME = MARS
/* CAMERA DATA ELEMENTS */
DETECTOR_TEMPERATURE = 18.5744
FOCAL_PLANE_TEMPERATURE = 8.7872
INST_CMPRS_NAME = "DISCRETE COSINE TRANSFORMATION (DCT)"
INST_CMPRS_RATIO = 7.25342
INST_CMPRS_QUALITY = 0
INST_CMPRS_QUANTZ_TBL_ID = 0
INSTRUMENT_TEMPERATURE = 11.234
LENS_TEMPERATURE = 9.195
MACROPIXEL_SIZE = 2
MISSING_FRAMES = 0
PIXEL_SUBSAMPLING_FLAG = N
SIGNAL_CHAIN_ID = 1
/* RADIOMETRIC DATA ELEMENTS */
BANDWIDTH = 178.0
CENTER_FILTER_WAVELENGTH = 679.0
RADIANCE_OFFSET = 4.90719
RADIANCE_SCALING_FACTOR = 0.0614563
REFLECTANCE_SCALING_FACTOR = 0.00139017
MEX:REFLECTANCE_OFFSET = 0.111003
/* IMAGE OBJECT DEFINITIONS */
OBJECT = IMAGE
  INTERCHANGE_FORMAT = BINARY
  LINES = 8118
  LINE_SAMPLES = 8590
  SAMPLE_TYPE = UNSIGNED_INTEGER
  SAMPLE_BITS = 8
  BANDS = 1
  BAND_STORAGE_TYPE = BAND_SEQUENTIAL
  MAXIMUM = 255
  MEAN = 181.156
  MINIMUM = 34
  STANDARD_DEVIATION = 36.9802
END_OBJECT = IMAGE
/* MAP OBJECT DEFINITIONS */
OBJECT = IMAGE_MAP_PROJECTION
  ^DATA_SET_MAP_PROJECTION_CATALOG= "DSMAP.CAT"
  A_AXIS_RADIUS = 3396.0
  B_AXIS_RADIUS = 3396.0
  C_AXIS_RADIUS = 3396.0
  CENTER_LATITUDE = -84.9943
  CENTER_LONGITUDE = 299.519
  COORDINATE_SYSTEM_NAME = PLANETOGRAPHIC
  COORDINATE_SYSTEM_TYPE = "BODY-FIXED ROTATING"
  EASTERNMOST_LONGITUDE = 329.53
  FIRST_STANDARD_PARALLEL = "N/A"
  LINE_FIRST_PIXEL = 1
  LINE_LAST_PIXEL = 8118
  LINE_PROJECTION_OFFSET = 4123.75
  MAP_PROJECTION_ROTATION = 0.0
  MAP_PROJECTION_TYPE = ORTHOGRAPHIC
  MAP_RESOLUTION = 1185.42760773333
  MAP_SCALE = 0.05
  MAXIMUM_LATITUDE = -81.2204
  MINIMUM_LATITUDE = -87.3814
  POSITIVE_LONGITUDE_DIRECTION = EAST
  REFERENCE_LATITUDE = "N/A"
  REFERENCE_LONGITUDE = "N/A"
  SAMPLE_FIRST_PIXEL = 1
  SAMPLE_LAST_PIXEL = 8590
  SAMPLE_PROJECTION_OFFSET = 4279.75
  SECOND_STANDARD_PARALLEL = "N/A"
  WESTERNMOST_LONGITUDE = 202.888
END_OBJECT = IMAGE_MAP_PROJECTION
END
