PDS_VERSION_ID = PDS3
/* FILE DATA ELEMENTS */
RECORD_TYPE = UNDEFINED
/* POINTERS TO DATA OBJECTS */
^IMAGE = ("HP697_0000_IR4.TIF")
/* IDENTIFICATION DATA ELEMENTS */
DATA_SET_ID = "MEX-M-HRSC-4-REFDR-MAPPROJECT-EXT9-V4.0"
DATA_SET_NAME = "MARS EXPRESS HRSC MAP PROJECTED REFDR EXTENSION9 V4.0"
DETECTOR_ID = MEX_HRSC_IR
EVENT_TYPE = "MARS-REGIONAL-MAPPING-Gl-Pf-La"
INSTRUMENT_HOST_ID = MEX
INSTRUMENT_HOST_NAME = "MARS EXPRESS"
INSTRUMENT_ID = HRSC
INSTRUMENT_NAME = "HIGH RESOLUTION STEREO CAMERA"
MISSION_NAME = "MARS EXPRESS"
MISSION_PHASE_NAME = ME_Phase_50
PROCESSING_LEVEL_ID = 4
PRODUCT_CREATION_TIME = 2024-08-21T01:11:59.000Z
PRODUCT_ID = "HP697_0000_IR4.TIF"
RELEASE_ID = 0014
REVISION_ID = 0000
/* QUALITY DATA ELEMENTS */
DATA_QUALITY_ID = 1
DATA_QUALITY_DESC = "Data calculated based on original SPICE kernels"
/* TIME DATA ELEMENTS */
SPACECRAFT_CLOCK_START_COUNT = "1/0663361565.00328"
SPACECRAFT_CLOCK_STOP_COUNT = "1/0663361988.29779"
START_TIME = 2024-05-09T19:07:00.661Z
STOP_TIME = 2024-05-09T19:08:47.587Z
/* ORBITAL DATA ELEMENTS */
ASCENDING_NODE_LONGITUDE = 97.79
MAXIMUM_RESOLUTION = 0.0752
FOOTPRINT_POINT_LATITUDE = (-81.8405,-81.9161,-81.9869,-82.0529, -82.1136,-82.1687,-82.218,-82.2457, -82.2483,-82.3398,-82.659,-82.9161, -83.1775,-83.3719,-83.6287,-83.8919, -84.0237,-84.1551,-84.4109,-84.6714, -84.8044,-84.9381,-85.0723,-85.2729, -85.5352,-85.6677,-85.87,-86.0048, -86.1395,-86.2741,-86.4085,-86.543, -86.6783,-86.8115,-87.0139,-87.1485, -87.2823,-87.4812,-87.6145,-87.7478, -87.8799,-88.0104,-88.2027,-88.3902, -88.5717,-88.6863,-88.7941,-88.8449, -88.8467,-88.7207,-88.6032,-88.4671, -88.3434,-88.218,-88.0126,-87.8692, -87.7248,-87.5803,-87.4518,-87.3231, -87.1943,-87.1783,-87.1725,-87.1291, -87.0516,-86.9921,-86.9268,-86.8575, -86.7836,-86.7049,-86.5791,-86.4904, -86.3986,-86.305,-86.2082,-86.0583, -85.9562,-85.8511,-85.7438,-85.5829, -85.4736,-85.3646,-85.1945,-85.0796, -84.9647,-84.8509,-84.7351,-84.6188, -84.4433,-84.2669,-84.0296,-83.7322, -83.4311,-83.1298,-82.8906,-82.589, -82.3467,-81.9829,-81.9227,-81.8405)
FOOTPRINT_POINT_LONGITUDE = (30.9361,29.4349,27.8912,26.3035, 24.6742,23.0037,21.2899,20.1979,20.0878 ,19.5896,19.8537,20.097,20.3323,20.5296 ,20.8248,21.1421,21.3119,21.4916,21.919 ,22.3522,22.5851,22.8304,23.0848, 23.4955,24.1351,24.4715,25.0274,25.4308 ,25.8612,26.3218,26.8146,27.3436, 27.9175,28.5789,29.6514,30.4466,31.3219 ,32.8109,33.9645,35.2541,36.7037, 38.3439,41.2444,44.8589,49.466,53.2265, 57.6805,60.2106,60.3066,64.8179,68.1462 ,71.2569,73.5699,75.5525,78.2416, 79.7974,81.1404,82.3251,83.2614,84.0974 ,84.854,84.9441,84.9483,82.1631,78.1537 ,75.604,73.1533,70.8546,68.664,66.5707, 63.6203,61.7737,60.0262,58.3923,56.8372 ,54.655,53.2993,52.0041,50.7732,49.0758 ,48.012,47.0111,45.5723,44.6703,43.8163 ,43.016,42.2462,41.5116,40.4705,39.4973 ,38.2951,36.9365,35.7023,34.5848, 33.7741,32.8349,32.1383,31.1807,31.0316 ,30.9361)
ORBIT_NUMBER = 25697
ORBITAL_ECCENTRICITY = 0.574
ORBITAL_INCLINATION = 87.07
ORBITAL_SEMIMAJOR_AXIS = 8779.13
PERIAPSIS_ALTITUDE = 360.91
PERIAPSIS_ARGUMENT_ANGLE = 239.87
PERIAPSIS_TIME = 2024-05-09T19:01:42.000Z
SPACECRAFT_ORIENTATION = (0.0,-1.0,0.0)
^MEX_ORIENTATION_DESC = "MEX_ORIENTATION_DESC.TXT"
SPACECRAFT_POINTING_MODE = ACROSSTRACK
^MEX_POINTING_DESC = "MEX_POINTING_DESC.TXT"
RIGHT_ASCENSION = -1e+32
DECLINATION = -1e+32
OFFSET_ANGLE = -1.078
SPACECRAFT_SOLAR_DISTANCE = 2.06672e+08
TARGET_NAME = MARS
/* CAMERA DATA ELEMENTS */
DETECTOR_TEMPERATURE = 17.5549
FOCAL_PLANE_TEMPERATURE = 8.7872
INST_CMPRS_NAME = "DISCRETE COSINE TRANSFORMATION (DCT)"
INST_CMPRS_RATIO = 8.69588
INST_CMPRS_QUALITY = 0
INST_CMPRS_QUANTZ_TBL_ID = 0
INSTRUMENT_TEMPERATURE = 11.4379
LENS_TEMPERATURE = 8.9911
MACROPIXEL_SIZE = 4
MISSING_FRAMES = 0
PIXEL_SUBSAMPLING_FLAG = N
SIGNAL_CHAIN_ID = 2
/* RADIOMETRIC DATA ELEMENTS */
BANDWIDTH = 81.0
CENTER_FILTER_WAVELENGTH = 955.5
RADIANCE_OFFSET = 1.24611
RADIANCE_SCALING_FACTOR = 0.00989873
REFLECTANCE_SCALING_FACTOR = 0.000912156
MEX:REFLECTANCE_OFFSET = 0.114828
/* IMAGE OBJECT DEFINITIONS */
OBJECT = IMAGE
  INTERCHANGE_FORMAT = BINARY
  LINES = 2732
  LINE_SAMPLES = 1778
  SAMPLE_TYPE = UNSIGNED_INTEGER
  SAMPLE_BITS = 8
  BANDS = 1
  BAND_STORAGE_TYPE = BAND_SEQUENTIAL
  MAXIMUM = 227
  MEAN = 128.333
  MINIMUM = 1
  STANDARD_DEVIATION = 30.8022
END_OBJECT = IMAGE
/* MAP OBJECT DEFINITIONS */
OBJECT = IMAGE_MAP_PROJECTION
  ^DATA_SET_MAP_PROJECTION_CATALOG= "DSMAP.CAT"
  A_AXIS_RADIUS = 3396.0
  B_AXIS_RADIUS = 3396.0
  C_AXIS_RADIUS = 3396.0
  CENTER_LATITUDE = -84.2174
  CENTER_LONGITUDE = 30.3923
  COORDINATE_SYSTEM_NAME = PLANETOGRAPHIC
  COORDINATE_SYSTEM_TYPE = "BODY-FIXED ROTATING"
  EASTERNMOST_LONGITUDE = 84.9483
  FIRST_STANDARD_PARALLEL = "N/A"
  LINE_FIRST_PIXEL = 1
  LINE_LAST_PIXEL = 2732
  LINE_PROJECTION_OFFSET = 1330.625
  MAP_PROJECTION_ROTATION = 0.0
  MAP_PROJECTION_TYPE = ORTHOGRAPHIC
  MAP_RESOLUTION = 592.713803866667
  MAP_SCALE = 0.1
  MAXIMUM_LATITUDE = -81.84050000000001
  MINIMUM_LATITUDE = -88.8467
  POSITIVE_LONGITUDE_DIRECTION = EAST
  REFERENCE_LATITUDE = "N/A"
  REFERENCE_LONGITUDE = "N/A"
  SAMPLE_FIRST_PIXEL = 1
  SAMPLE_LAST_PIXEL = 1778
  SAMPLE_PROJECTION_OFFSET = 864.875
  SECOND_STANDARD_PARALLEL = "N/A"
  WESTERNMOST_LONGITUDE = 19.5896
END_OBJECT = IMAGE_MAP_PROJECTION
END
