PDS_VERSION_ID = PDS3
/* FILE DATA ELEMENTS */
RECORD_TYPE = UNDEFINED
/* POINTERS TO DATA OBJECTS */
^IMAGE = ("HP692_0000_S24.TIF")
/* IDENTIFICATION DATA ELEMENTS */
DATA_SET_ID = "MEX-M-HRSC-4-REFDR-MAPPROJECT-EXT9-V4.0"
DATA_SET_NAME = "MARS EXPRESS HRSC MAP PROJECTED REFDR EXTENSION9 V4.0"
DETECTOR_ID = MEX_HRSC_S2
EVENT_TYPE = "MARS-REGIONAL-MAPPING-Gl-Pf-La"
INSTRUMENT_HOST_ID = MEX
INSTRUMENT_HOST_NAME = "MARS EXPRESS"
INSTRUMENT_ID = HRSC
INSTRUMENT_NAME = "HIGH RESOLUTION STEREO CAMERA"
MISSION_NAME = "MARS EXPRESS"
MISSION_PHASE_NAME = ME_Phase_50
PROCESSING_LEVEL_ID = 4
PRODUCT_CREATION_TIME = 2024-08-21T01:11:59.000Z
PRODUCT_ID = "HP692_0000_S24.TIF"
RELEASE_ID = 0014
REVISION_ID = 0000
/* QUALITY DATA ELEMENTS */
DATA_QUALITY_ID = 1
DATA_QUALITY_DESC = "Data calculated based on original SPICE kernels"
/* TIME DATA ELEMENTS */
SPACECRAFT_CLOCK_START_COUNT = "1/0663235863.64163"
SPACECRAFT_CLOCK_STOP_COUNT = "1/0663236211.56023"
START_TIME = 2024-05-08T08:13:28.979Z
STOP_TIME = 2024-05-08T08:17:38.256Z
/* ORBITAL DATA ELEMENTS */
ASCENDING_NODE_LONGITUDE = 97.88
MAXIMUM_RESOLUTION = 0.0444
FOOTPRINT_POINT_LATITUDE = (-84.1491,-84.2544,-84.3488,-84.4314, -84.501,-84.5567,-84.6092,-84.6109, -84.5177,-85.0972,-85.4459,-85.912, -86.2667,-86.7416,-87.3356,-87.6897, -87.9276,-88.1658,-88.4009,-88.7433, -89.0604,-89.3139,-89.4023,-89.389, -89.278,-89.1022,-88.8943,-88.6636, -88.424,-88.1753,-87.9232,-87.6663, -87.2761,-87.0121,-86.7453,-86.4784, -86.208,-85.8023,-85.5327,-85.1357, -84.8671,-84.47,-84.0787,-83.8131, -83.5493,-83.2884,-83.025,-82.7626, -82.6316,-82.5695,-82.5387,-82.4807, -82.426,-82.34,-82.2727,-82.1082, -81.9543,-81.9452,-81.9423,-82.3106, -82.5517,-82.7962,-83.0387,-83.2823, -83.6425,-84.0021,-84.3577,-84.5908, -84.8226,-85.0517,-85.277,-85.6034, -85.8127,-86.012,-86.2023,-86.3812, -86.5505,-86.7034,-86.904,-87.0651, -87.1467,-87.2067,-87.2431,-87.2563, -87.2316,-87.1866,-87.1207,-86.9856, -86.8752,-86.7491,-86.6118,-86.4623, -86.1353,-85.7821,-85.3118,-84.9211, -84.5201,-84.2136,-84.1108,-84.1491)
FOOTPRINT_POINT_LONGITUDE = (189.604,187.099,184.477,181.739, 178.896,175.953,171.756,171.562,170.609 ,171.33,171.85,172.661,173.45,174.802, 177.137,179.028,180.79,183.026,185.958, 192.324,203.345,223.647,245.151,269.614 ,289.641,303.317,312.166,318.165, 322.369,325.48,327.841,329.71,331.851, 332.972,333.912,334.723,335.42,336.298, 336.793,337.465,337.827,338.324,338.77, 339.008,339.229,339.442,339.622,339.789 ,339.868,339.904,337.469,334.284,332.14 ,329.292,327.44,323.69,320.797,320.63, 320.568,319.607,318.922,318.174,317.373 ,316.503,315.079,313.46,311.623,310.264 ,308.767,307.117,305.3,302.238,299.936, 297.426,294.662,291.639,288.274,284.654 ,278.622,271.851,267.007,261.913,256.73 ,251.408,243.505,238.406,233.556, 226.776,222.671,218.848,215.38,212.182, 206.593,201.982,197.271,194.187,191.571 ,189.858,189.33,189.604)
ORBIT_NUMBER = 25692
ORBITAL_ECCENTRICITY = 0.574
ORBITAL_INCLINATION = 87.09
ORBITAL_SEMIMAJOR_AXIS = 8775.8
PERIAPSIS_ALTITUDE = 360.69
PERIAPSIS_ARGUMENT_ANGLE = 240.72
PERIAPSIS_TIME = 2024-05-08T08:06:20.000Z
SPACECRAFT_ORIENTATION = (0.0,-1.0,0.0)
^MEX_ORIENTATION_DESC = "MEX_ORIENTATION_DESC.TXT"
SPACECRAFT_POINTING_MODE = ACROSSTRACK
^MEX_POINTING_DESC = "MEX_POINTING_DESC.TXT"
RIGHT_ASCENSION = -1e+32
DECLINATION = -1e+32
OFFSET_ANGLE = -1.145
SPACECRAFT_SOLAR_DISTANCE = 2.0667e+08
TARGET_NAME = MARS
/* CAMERA DATA ELEMENTS */
DETECTOR_TEMPERATURE = 18.5744
FOCAL_PLANE_TEMPERATURE = 9.6028
INST_CMPRS_NAME = "DISCRETE COSINE TRANSFORMATION (DCT)"
INST_CMPRS_RATIO = 7.44386
INST_CMPRS_QUALITY = 0
INST_CMPRS_QUANTZ_TBL_ID = 0
INSTRUMENT_TEMPERATURE = 11.4379
LENS_TEMPERATURE = 8.7872
MACROPIXEL_SIZE = 2
MISSING_FRAMES = 0
PIXEL_SUBSAMPLING_FLAG = N
SIGNAL_CHAIN_ID = 1
/* RADIOMETRIC DATA ELEMENTS */
BANDWIDTH = 178.0
CENTER_FILTER_WAVELENGTH = 679.0
RADIANCE_OFFSET = 4.44084
RADIANCE_SCALING_FACTOR = 0.0536384
REFLECTANCE_SCALING_FACTOR = 0.00121328
MEX:REFLECTANCE_OFFSET = 0.10045
/* IMAGE OBJECT DEFINITIONS */
OBJECT = IMAGE
  INTERCHANGE_FORMAT = BINARY
  LINES = 7342
  LINE_SAMPLES = 15106
  SAMPLE_TYPE = UNSIGNED_INTEGER
  SAMPLE_BITS = 8
  BANDS = 1
  BAND_STORAGE_TYPE = BAND_SEQUENTIAL
  MAXIMUM = 255
  MEAN = 175.836
  MINIMUM = 1
  STANDARD_DEVIATION = 70.5456
END_OBJECT = IMAGE
/* MAP OBJECT DEFINITIONS */
OBJECT = IMAGE_MAP_PROJECTION
  ^DATA_SET_MAP_PROJECTION_CATALOG= "DSMAP.CAT"
  A_AXIS_RADIUS = 3396.0
  B_AXIS_RADIUS = 3396.0
  C_AXIS_RADIUS = 3396.0
  CENTER_LATITUDE = -88.18040000000001
  CENTER_LONGITUDE = 272.092
  COORDINATE_SYSTEM_NAME = PLANETOGRAPHIC
  COORDINATE_SYSTEM_TYPE = "BODY-FIXED ROTATING"
  EASTERNMOST_LONGITUDE = 339.904
  FIRST_STANDARD_PARALLEL = "N/A"
  LINE_FIRST_PIXEL = 1
  LINE_LAST_PIXEL = 7342
  LINE_PROJECTION_OFFSET = 4020.25
  MAP_PROJECTION_ROTATION = 0.0
  MAP_PROJECTION_TYPE = ORTHOGRAPHIC
  MAP_RESOLUTION = 1185.42760773333
  MAP_SCALE = 0.05
  MAXIMUM_LATITUDE = -81.9423
  MINIMUM_LATITUDE = -89.4023
  POSITIVE_LONGITUDE_DIRECTION = EAST
  REFERENCE_LATITUDE = "N/A"
  REFERENCE_LONGITUDE = "N/A"
  SAMPLE_FIRST_PIXEL = 1
  SAMPLE_LAST_PIXEL = 15106
  SAMPLE_PROJECTION_OFFSET = 7038.75
  SECOND_STANDARD_PARALLEL = "N/A"
  WESTERNMOST_LONGITUDE = 170.609
END_OBJECT = IMAGE_MAP_PROJECTION
END
