PDS_VERSION_ID = PDS3
/* FILE DATA ELEMENTS */
RECORD_TYPE = UNDEFINED
/* POINTERS TO DATA OBJECTS */
^IMAGE = ("HP692_0000_P14.TIF")
/* IDENTIFICATION DATA ELEMENTS */
DATA_SET_ID = "MEX-M-HRSC-4-REFDR-MAPPROJECT-EXT9-V4.0"
DATA_SET_NAME = "MARS EXPRESS HRSC MAP PROJECTED REFDR EXTENSION9 V4.0"
DETECTOR_ID = MEX_HRSC_P1
EVENT_TYPE = "MARS-REGIONAL-MAPPING-Gl-Pf-La"
INSTRUMENT_HOST_ID = MEX
INSTRUMENT_HOST_NAME = "MARS EXPRESS"
INSTRUMENT_ID = HRSC
INSTRUMENT_NAME = "HIGH RESOLUTION STEREO CAMERA"
MISSION_NAME = "MARS EXPRESS"
MISSION_PHASE_NAME = ME_Phase_50
PROCESSING_LEVEL_ID = 4
PRODUCT_CREATION_TIME = 2024-08-21T01:11:59.000Z
PRODUCT_ID = "HP692_0000_P14.TIF"
RELEASE_ID = 0014
REVISION_ID = 0000
/* QUALITY DATA ELEMENTS */
DATA_QUALITY_ID = 1
DATA_QUALITY_DESC = "Data calculated based on original SPICE kernels"
/* TIME DATA ELEMENTS */
SPACECRAFT_CLOCK_START_COUNT = "1/0663235863.64163"
SPACECRAFT_CLOCK_STOP_COUNT = "1/0663236211.56023"
START_TIME = 2024-05-08T08:12:07.222Z
STOP_TIME = 2024-05-08T08:15:34.131Z
/* ORBITAL DATA ELEMENTS */
ASCENDING_NODE_LONGITUDE = 97.88
MAXIMUM_RESOLUTION = 0.0382
FOOTPRINT_POINT_LATITUDE = (-83.9197,-84.0228,-84.119,-84.2076, -84.2879,-84.3593,-84.4415,-84.4447, -84.5188,-84.856,-85.3082,-85.7664, -86.34,-86.6842,-87.0255,-87.2568, -87.4883,-87.9419,-88.1654,-88.3847, -88.6935,-88.8843,-89.0519,-89.174, -89.2366,-89.1782,-89.0536,-88.8827, -88.6828,-88.4664,-88.237,-87.9983, -87.755,-87.5055,-87.2515,-86.8667, -86.6045,-86.3415,-86.0752,-85.8067, -85.4006,-85.1242,-84.8509,-84.5714, -84.2902,-84.0056,-83.5805,-83.2932, -83.0064,-82.7107,-82.5653,-82.5361, -82.521,-82.4933,-82.4466,-82.3454, -82.2608,-82.1241,-82.1172,-82.1155, -82.3966,-82.8045,-83.0723,-83.3348, -83.5972,-83.9821,-84.2342,-84.4799, -84.7221,-84.9595,-85.1906,-85.5275, -85.742,-85.9503,-86.1497,-86.3387, -86.6028,-86.7619,-86.9071,-87.0355, -87.145,-87.2354,-87.3039,-87.3625, -87.3718,-87.3413,-87.2925,-87.1795, -87.0268,-86.9048,-86.6967,-86.302, -85.8623,-85.5837,-85.1997,-84.806, -84.5042,-84.1014,-83.9995,-83.9197)
FOOTPRINT_POINT_LONGITUDE = (187.712,185.621,183.437,181.157, 178.784,176.32,172.782,172.618,171.921, 172.439,173.245,174.229,175.814,177.083 ,178.65,179.914,181.402,185.4,188.221, 191.797,199.388,206.822,217.114,231.04, 258.09,275.964,290.251,300.827,308.485, 313.975,318.149,321.379,323.905,325.954 ,327.65,329.654,330.76,331.708,332.537, 333.256,334.186,334.761,335.225,335.669 ,336.09,336.479,336.952,337.241,337.494 ,337.734,337.844,337.866,336.019, 333.854,331.23,327.435,324.989,321.752, 321.609,321.555,320.828,319.659,318.809 ,317.903,316.913,315.282,314.08,312.787 ,311.374,309.832,308.154,305.32,303.215 ,300.884,298.322,295.512,290.736, 287.178,283.27,279.037,274.495,269.6, 264.439,256.406,250.924,242.868,237.685 ,230.342,223.777,219.79,214.423,207.044 ,201.23,198.34,195.051,192.285,190.48, 188.402,187.926,187.712)
ORBIT_NUMBER = 25692
ORBITAL_ECCENTRICITY = 0.574
ORBITAL_INCLINATION = 87.09
ORBITAL_SEMIMAJOR_AXIS = 8775.8
PERIAPSIS_ALTITUDE = 360.69
PERIAPSIS_ARGUMENT_ANGLE = 240.72
PERIAPSIS_TIME = 2024-05-08T08:06:20.000Z
SPACECRAFT_ORIENTATION = (0.0,-1.0,0.0)
^MEX_ORIENTATION_DESC = "MEX_ORIENTATION_DESC.TXT"
SPACECRAFT_POINTING_MODE = ACROSSTRACK
^MEX_POINTING_DESC = "MEX_POINTING_DESC.TXT"
RIGHT_ASCENSION = -1e+32
DECLINATION = -1e+32
OFFSET_ANGLE = -1.145
SPACECRAFT_SOLAR_DISTANCE = 2.0667e+08
TARGET_NAME = MARS
/* CAMERA DATA ELEMENTS */
DETECTOR_TEMPERATURE = 17.1471
FOCAL_PLANE_TEMPERATURE = 9.6028
INST_CMPRS_NAME = "DISCRETE COSINE TRANSFORMATION (DCT)"
INST_CMPRS_RATIO = 6.64111
INST_CMPRS_QUALITY = 0
INST_CMPRS_QUANTZ_TBL_ID = 0
INSTRUMENT_TEMPERATURE = 11.4379
LENS_TEMPERATURE = 8.7872
MACROPIXEL_SIZE = 2
MISSING_FRAMES = 1
PIXEL_SUBSAMPLING_FLAG = N
SIGNAL_CHAIN_ID = 3
/* RADIOMETRIC DATA ELEMENTS */
BANDWIDTH = 174.0
CENTER_FILTER_WAVELENGTH = 675.0
RADIANCE_OFFSET = 4.45532
RADIANCE_SCALING_FACTOR = 0.0533971
REFLECTANCE_SCALING_FACTOR = 0.00122675
MEX:REFLECTANCE_OFFSET = 0.102357
/* IMAGE OBJECT DEFINITIONS */
OBJECT = IMAGE
  INTERCHANGE_FORMAT = BINARY
  LINES = 7342
  LINE_SAMPLES = 15106
  SAMPLE_TYPE = UNSIGNED_INTEGER
  SAMPLE_BITS = 8
  BANDS = 1
  BAND_STORAGE_TYPE = BAND_SEQUENTIAL
  MAXIMUM = 255
  MEAN = 163.338
  MINIMUM = 1
  STANDARD_DEVIATION = 70.9419
END_OBJECT = IMAGE
/* MAP OBJECT DEFINITIONS */
OBJECT = IMAGE_MAP_PROJECTION
  ^DATA_SET_MAP_PROJECTION_CATALOG= "DSMAP.CAT"
  A_AXIS_RADIUS = 3396.0
  B_AXIS_RADIUS = 3396.0
  C_AXIS_RADIUS = 3396.0
  CENTER_LATITUDE = -88.18040000000001
  CENTER_LONGITUDE = 272.092
  COORDINATE_SYSTEM_NAME = PLANETOGRAPHIC
  COORDINATE_SYSTEM_TYPE = "BODY-FIXED ROTATING"
  EASTERNMOST_LONGITUDE = 337.866
  FIRST_STANDARD_PARALLEL = "N/A"
  LINE_FIRST_PIXEL = 1
  LINE_LAST_PIXEL = 7342
  LINE_PROJECTION_OFFSET = 4020.25
  MAP_PROJECTION_ROTATION = 0.0
  MAP_PROJECTION_TYPE = ORTHOGRAPHIC
  MAP_RESOLUTION = 1185.42760773333
  MAP_SCALE = 0.05
  MAXIMUM_LATITUDE = -82.1155
  MINIMUM_LATITUDE = -89.2366
  POSITIVE_LONGITUDE_DIRECTION = EAST
  REFERENCE_LATITUDE = "N/A"
  REFERENCE_LONGITUDE = "N/A"
  SAMPLE_FIRST_PIXEL = 1
  SAMPLE_LAST_PIXEL = 15106
  SAMPLE_PROJECTION_OFFSET = 7038.75
  SECOND_STANDARD_PARALLEL = "N/A"
  WESTERNMOST_LONGITUDE = 171.921
END_OBJECT = IMAGE_MAP_PROJECTION
END
