PDS_VERSION_ID = PDS3
/* FILE DATA ELEMENTS */
RECORD_TYPE = UNDEFINED
/* POINTERS TO DATA OBJECTS */
^IMAGE = ("HP692_0000_IR4.TIF")
/* IDENTIFICATION DATA ELEMENTS */
DATA_SET_ID = "MEX-M-HRSC-4-REFDR-MAPPROJECT-EXT9-V4.0"
DATA_SET_NAME = "MARS EXPRESS HRSC MAP PROJECTED REFDR EXTENSION9 V4.0"
DETECTOR_ID = MEX_HRSC_IR
EVENT_TYPE = "MARS-REGIONAL-MAPPING-Gl-Pf-La"
INSTRUMENT_HOST_ID = MEX
INSTRUMENT_HOST_NAME = "MARS EXPRESS"
INSTRUMENT_ID = HRSC
INSTRUMENT_NAME = "HIGH RESOLUTION STEREO CAMERA"
MISSION_NAME = "MARS EXPRESS"
MISSION_PHASE_NAME = ME_Phase_50
PROCESSING_LEVEL_ID = 4
PRODUCT_CREATION_TIME = 2024-08-21T01:11:59.000Z
PRODUCT_ID = "HP692_0000_IR4.TIF"
RELEASE_ID = 0014
REVISION_ID = 0000
/* QUALITY DATA ELEMENTS */
DATA_QUALITY_ID = 1
DATA_QUALITY_DESC = "Data calculated based on original SPICE kernels"
/* TIME DATA ELEMENTS */
SPACECRAFT_CLOCK_START_COUNT = "1/0663235863.64163"
SPACECRAFT_CLOCK_STOP_COUNT = "1/0663236211.56023"
START_TIME = 2024-05-08T08:11:59.891Z
STOP_TIME = 2024-05-08T08:15:23.455Z
/* ORBITAL DATA ELEMENTS */
ASCENDING_NODE_LONGITUDE = 97.88
MAXIMUM_RESOLUTION = 0.0769
FOOTPRINT_POINT_LATITUDE = (-83.9039,-84.0971,-84.1839,-84.2635, -84.3351,-84.4332,-84.4365,-84.528, -84.976,-85.5357,-85.8796,-86.3345, -86.6716,-86.9008,-87.2405,-87.5832, -87.8092,-88.0306,-88.2475,-88.4605, -88.6648,-88.9424,-89.0913,-89.1945, -89.2303,-89.1873,-88.9997,-88.822, -88.6205,-88.4018,-88.1723,-87.9363, -87.6932,-87.445,-87.1942,-86.9396, -86.6818,-86.4227,-86.1585,-85.7609, -85.4927,-85.2187,-84.9492,-84.673, -84.395,-84.112,-83.8312,-83.5511, -83.2658,-82.8391,-82.6947,-82.5508, -82.5092,-82.4699,-82.3991,-82.2643, -82.1585,-82.1521,-82.1515,-82.4247, -82.6953,-82.9617,-83.3546,-83.615, -83.9972,-84.2467,-84.4915,-84.731, -85.0825,-85.3091,-85.6393,-85.8485, -86.0513,-86.2457,-86.4286,-86.6012, -86.8356,-86.9723,-87.094,-87.1957, -87.2772,-87.337,-87.3829,-87.3838, -87.3417,-87.2863,-87.2107,-87.1163, -87.0053,-86.8805,-86.6696,-86.5152, -86.1878,-85.8301,-85.4601,-84.9754, -84.4832,-84.181,-84.0793,-83.9039)
FOOTPRINT_POINT_LONGITUDE = (187.538,183.491,181.337,179.097, 176.773,172.814,172.657,171.998,172.71, 173.806,174.584,175.903,177.154,178.15, 179.97,182.237,184.222,186.671,189.73, 193.64,198.881,210.365,221.602,236.724, 254.744,272.552,293.472,302.959,309.86, 314.929,318.805,321.812,324.213,326.173 ,327.792,329.131,330.279,331.269, 332.138,333.23,333.855,334.458,334.937, 335.395,335.825,336.243,336.581,336.88, 337.166,337.537,337.653,337.762,333.634 ,331.292,328.416,324.326,321.812, 321.675,321.626,320.917,320.155,319.344 ,318.014,317.031,315.412,314.224, 312.938,311.544,309.206,307.471,304.536 ,302.361,299.953,297.296,294.396, 291.192,285.795,281.823,277.443,272.793 ,267.841,262.628,254.546,249.118, 241.105,236.041,231.228,226.69,222.484, 218.64,213.456,210.365,205.086,200.655, 197.023,193.257,190.231,188.665,188.179 ,187.538)
ORBIT_NUMBER = 25692
ORBITAL_ECCENTRICITY = 0.574
ORBITAL_INCLINATION = 87.09
ORBITAL_SEMIMAJOR_AXIS = 8775.8
PERIAPSIS_ALTITUDE = 360.69
PERIAPSIS_ARGUMENT_ANGLE = 240.72
PERIAPSIS_TIME = 2024-05-08T08:06:20.000Z
SPACECRAFT_ORIENTATION = (0.0,-1.0,0.0)
^MEX_ORIENTATION_DESC = "MEX_ORIENTATION_DESC.TXT"
SPACECRAFT_POINTING_MODE = ACROSSTRACK
^MEX_POINTING_DESC = "MEX_POINTING_DESC.TXT"
RIGHT_ASCENSION = -1e+32
DECLINATION = -1e+32
OFFSET_ANGLE = -1.145
SPACECRAFT_SOLAR_DISTANCE = 2.0667e+08
TARGET_NAME = MARS
/* CAMERA DATA ELEMENTS */
DETECTOR_TEMPERATURE = 17.1471
FOCAL_PLANE_TEMPERATURE = 9.6028
INST_CMPRS_NAME = "DISCRETE COSINE TRANSFORMATION (DCT)"
INST_CMPRS_RATIO = 6.56698
INST_CMPRS_QUALITY = 0
INST_CMPRS_QUANTZ_TBL_ID = 0
INSTRUMENT_TEMPERATURE = 11.4379
LENS_TEMPERATURE = 8.7872
MACROPIXEL_SIZE = 4
MISSING_FRAMES = 0
PIXEL_SUBSAMPLING_FLAG = N
SIGNAL_CHAIN_ID = 2
/* RADIOMETRIC DATA ELEMENTS */
BANDWIDTH = 81.0
CENTER_FILTER_WAVELENGTH = 955.5
RADIANCE_OFFSET = 1.10515
RADIANCE_SCALING_FACTOR = 0.0155901
REFLECTANCE_SCALING_FACTOR = 0.00143659
MEX:REFLECTANCE_OFFSET = 0.101837
/* IMAGE OBJECT DEFINITIONS */
OBJECT = IMAGE
  INTERCHANGE_FORMAT = BINARY
  LINES = 3671
  LINE_SAMPLES = 7553
  SAMPLE_TYPE = UNSIGNED_INTEGER
  SAMPLE_BITS = 8
  BANDS = 1
  BAND_STORAGE_TYPE = BAND_SEQUENTIAL
  MAXIMUM = 255
  MEAN = 137.845
  MINIMUM = 1
  STANDARD_DEVIATION = 60.2868
END_OBJECT = IMAGE
/* MAP OBJECT DEFINITIONS */
OBJECT = IMAGE_MAP_PROJECTION
  ^DATA_SET_MAP_PROJECTION_CATALOG= "DSMAP.CAT"
  A_AXIS_RADIUS = 3396.0
  B_AXIS_RADIUS = 3396.0
  C_AXIS_RADIUS = 3396.0
  CENTER_LATITUDE = -88.18040000000001
  CENTER_LONGITUDE = 272.092
  COORDINATE_SYSTEM_NAME = PLANETOGRAPHIC
  COORDINATE_SYSTEM_TYPE = "BODY-FIXED ROTATING"
  EASTERNMOST_LONGITUDE = 337.762
  FIRST_STANDARD_PARALLEL = "N/A"
  LINE_FIRST_PIXEL = 1
  LINE_LAST_PIXEL = 3671
  LINE_PROJECTION_OFFSET = 2009.875
  MAP_PROJECTION_ROTATION = 0.0
  MAP_PROJECTION_TYPE = ORTHOGRAPHIC
  MAP_RESOLUTION = 592.713803866667
  MAP_SCALE = 0.1
  MAXIMUM_LATITUDE = -82.1515
  MINIMUM_LATITUDE = -89.2303
  POSITIVE_LONGITUDE_DIRECTION = EAST
  REFERENCE_LATITUDE = "N/A"
  REFERENCE_LONGITUDE = "N/A"
  SAMPLE_FIRST_PIXEL = 1
  SAMPLE_LAST_PIXEL = 7553
  SAMPLE_PROJECTION_OFFSET = 3519.125
  SECOND_STANDARD_PARALLEL = "N/A"
  WESTERNMOST_LONGITUDE = 171.998
END_OBJECT = IMAGE_MAP_PROJECTION
END
