PDS_VERSION_ID = PDS3
/* FILE DATA ELEMENTS */
RECORD_TYPE = UNDEFINED
/* POINTERS TO DATA OBJECTS */
^IMAGE = ("HP690_0000_RE4.TIF")
/* IDENTIFICATION DATA ELEMENTS */
DATA_SET_ID = "MEX-M-HRSC-4-REFDR-MAPPROJECT-EXT9-V4.0"
DATA_SET_NAME = "MARS EXPRESS HRSC MAP PROJECTED REFDR EXTENSION9 V4.0"
DETECTOR_ID = MEX_HRSC_RED
EVENT_TYPE = "MARS-REGIONAL-MAPPING-Gl-Pf-La"
INSTRUMENT_HOST_ID = MEX
INSTRUMENT_HOST_NAME = "MARS EXPRESS"
INSTRUMENT_ID = HRSC
INSTRUMENT_NAME = "HIGH RESOLUTION STEREO CAMERA"
MISSION_NAME = "MARS EXPRESS"
MISSION_PHASE_NAME = ME_Phase_50
PROCESSING_LEVEL_ID = 4
PRODUCT_CREATION_TIME = 2024-08-21T01:11:59.000Z
PRODUCT_ID = "HP690_0000_RE4.TIF"
RELEASE_ID = 0014
REVISION_ID = 0000
/* QUALITY DATA ELEMENTS */
DATA_QUALITY_ID = 1
DATA_QUALITY_DESC = "Data calculated based on original SPICE kernels"
/* TIME DATA ELEMENTS */
SPACECRAFT_CLOCK_START_COUNT = "1/0663185550.65108"
SPACECRAFT_CLOCK_STOP_COUNT = "1/0663185931.49584"
START_TIME = 2024-05-07T18:14:34.270Z
STOP_TIME = 2024-05-07T18:19:26.935Z
/* ORBITAL DATA ELEMENTS */
ASCENDING_NODE_LONGITUDE = 97.91
MAXIMUM_RESOLUTION = 0.0865
FOOTPRINT_POINT_LATITUDE = (-81.2898,-81.4625,-81.6054,-81.744, -81.7466,-81.6285,-82.5764,-83.0535, -83.5345,-84.1804,-84.5105,-84.8347, -85.1597,-85.4876,-85.8129,-86.1381, -86.4581,-86.9386,-87.2486,-87.5521, -87.8388,-88.1055,-88.3366,-88.5162, -88.6202,-88.6297,-88.5385,-88.3615, -87.9881,-87.691,-87.3676,-87.026, -86.6661,-86.295,-85.9172,-85.5296, -85.1344,-84.7329,-84.3235,-83.6996, -83.2806,-82.8609,-82.4407,-82.02, -81.599,-81.1777,-80.7564,-80.3349, -79.913,-79.4909,-79.2799,-79.2345, -79.1171,-79.0388,-78.9494,-78.8559, -78.657,-78.6493,-78.6484,-79.257, -79.6603,-80.2634,-80.6626,-81.2564, -81.8473,-82.2348,-82.6143,-82.9918, -83.5436,-83.8982,-84.2412,-84.5642, -85.0249,-85.3098,-85.5737,-85.8131, -86.0273,-86.2108,-86.3616,-86.4757, -86.5732,-86.5868,-86.5612,-86.4967, -86.397,-86.1882,-86.0163,-85.7172, -85.4967,-85.1393,-84.7561,-84.4913, -84.2211,-83.9403,-83.3786,-82.6575, -81.9273,-81.3383,-81.1935,-81.2898)
FOOTPRINT_POINT_LONGITUDE = (29.777,26.5066,23.0802,18.3667,18.2515 ,17.7209,18.9156,19.644,20.4863,21.8526 ,22.7124,23.6386,24.6771,25.9239, 27.3385,29.0095,30.9677,34.7874,38.041, 42.184,47.4427,54.3361,63.3564,75.0192, 89.1495,104.699,119.496,131.992,145.676 ,152.166,157.178,161.086,164.212, 166.732,168.815,170.565,172.036,173.297 ,174.393,175.782,176.565,177.257,177.87 ,178.418,178.911,179.357,179.761,180.13 ,180.466,180.774,180.919,180.95,177.115 ,175.184,173.288,171.546,168.389, 168.279,168.24,167.251,166.528,165.318, 164.424,162.927,161.182,159.882,158.468 ,156.876,154.142,152.064,149.744, 147.234,142.848,139.492,135.762,131.643 ,127.057,122.052,116.611,110.825, 101.644,95.3456,89.2535,83.3021,77.6918 ,69.9854,65.4064,59.3291,55.7913, 51.1482,47.1875,44.89,42.8234,40.9307, 37.7141,34.4346,31.7923,30.0231,29.6276 ,29.777)
ORBIT_NUMBER = 25690
ORBITAL_ECCENTRICITY = 0.574
ORBITAL_INCLINATION = 87.07
ORBITAL_SEMIMAJOR_AXIS = 8777.24
PERIAPSIS_ALTITUDE = 360.85
PERIAPSIS_ARGUMENT_ANGLE = 241.05
PERIAPSIS_TIME = 2024-05-07T18:08:09.000Z
SPACECRAFT_ORIENTATION = (0.0,-1.0,0.0)
^MEX_ORIENTATION_DESC = "MEX_ORIENTATION_DESC.TXT"
SPACECRAFT_POINTING_MODE = INERT
^MEX_POINTING_DESC = "MEX_POINTING_DESC.TXT"
RIGHT_ASCENSION = 309.123
DECLINATION = 48.764
OFFSET_ANGLE = -1e+32
SPACECRAFT_SOLAR_DISTANCE = 2.06671e+08
TARGET_NAME = MARS
/* CAMERA DATA ELEMENTS */
DETECTOR_TEMPERATURE = 18.7783
FOCAL_PLANE_TEMPERATURE = 8.5833
INST_CMPRS_NAME = "DISCRETE COSINE TRANSFORMATION (DCT)"
INST_CMPRS_RATIO = 7.86203
INST_CMPRS_QUALITY = 0
INST_CMPRS_QUANTZ_TBL_ID = 0
INSTRUMENT_TEMPERATURE = 11.234
LENS_TEMPERATURE = 9.195
MACROPIXEL_SIZE = 4
MISSING_FRAMES = 0
PIXEL_SUBSAMPLING_FLAG = N
SIGNAL_CHAIN_ID = 2
/* RADIOMETRIC DATA ELEMENTS */
BANDWIDTH = 48.0
CENTER_FILTER_WAVELENGTH = 748.0
RADIANCE_OFFSET = 1.33064
RADIANCE_SCALING_FACTOR = 0.0109047
REFLECTANCE_SCALING_FACTOR = 0.00106291
MEX:REFLECTANCE_OFFSET = 0.129702
/* IMAGE OBJECT DEFINITIONS */
OBJECT = IMAGE
  INTERCHANGE_FORMAT = BINARY
  LINES = 2436
  LINE_SAMPLES = 11230
  SAMPLE_TYPE = UNSIGNED_INTEGER
  SAMPLE_BITS = 8
  BANDS = 1
  BAND_STORAGE_TYPE = BAND_SEQUENTIAL
  MAXIMUM = 255
  MEAN = 93.2967
  MINIMUM = 1
  STANDARD_DEVIATION = 49.5915
END_OBJECT = IMAGE
/* MAP OBJECT DEFINITIONS */
OBJECT = IMAGE_MAP_PROJECTION
  ^DATA_SET_MAP_PROJECTION_CATALOG= "DSMAP.CAT"
  A_AXIS_RADIUS = 3396.0
  B_AXIS_RADIUS = 3396.0
  C_AXIS_RADIUS = 3396.0
  CENTER_LATITUDE = -87.5879
  CENTER_LONGITUDE = 103.822
  COORDINATE_SYSTEM_NAME = PLANETOGRAPHIC
  COORDINATE_SYSTEM_TYPE = "BODY-FIXED ROTATING"
  EASTERNMOST_LONGITUDE = 180.95
  FIRST_STANDARD_PARALLEL = "N/A"
  LINE_FIRST_PIXEL = 1
  LINE_LAST_PIXEL = 2436
  LINE_PROJECTION_OFFSET = 1425.625
  MAP_PROJECTION_ROTATION = 0.0
  MAP_PROJECTION_TYPE = ORTHOGRAPHIC
  MAP_RESOLUTION = 592.713803866667
  MAP_SCALE = 0.1
  MAXIMUM_LATITUDE = -78.6484
  MINIMUM_LATITUDE = -88.6297
  POSITIVE_LONGITUDE_DIRECTION = EAST
  REFERENCE_LATITUDE = "N/A"
  REFERENCE_LONGITUDE = "N/A"
  SAMPLE_FIRST_PIXEL = 1
  SAMPLE_LAST_PIXEL = 11230
  SAMPLE_PROJECTION_OFFSET = 5034.625
  SECOND_STANDARD_PARALLEL = "N/A"
  WESTERNMOST_LONGITUDE = 17.7209
END_OBJECT = IMAGE_MAP_PROJECTION
END
