PDS_VERSION_ID = PDS3
/* FILE DATA ELEMENTS */
RECORD_TYPE = UNDEFINED
/* POINTERS TO DATA OBJECTS */
^IMAGE = ("HP680_0000_P24.TIF")
/* IDENTIFICATION DATA ELEMENTS */
DATA_SET_ID = "MEX-M-HRSC-4-REFDR-MAPPROJECT-EXT9-V4.0"
DATA_SET_NAME = "MARS EXPRESS HRSC MAP PROJECTED REFDR EXTENSION9 V4.0"
DETECTOR_ID = MEX_HRSC_P2
EVENT_TYPE = "MARS-REGIONAL-MAPPING-Gl-Pf-La"
INSTRUMENT_HOST_ID = MEX
INSTRUMENT_HOST_NAME = "MARS EXPRESS"
INSTRUMENT_ID = HRSC
INSTRUMENT_NAME = "HIGH RESOLUTION STEREO CAMERA"
MISSION_NAME = "MARS EXPRESS"
MISSION_PHASE_NAME = ME_Phase_50
PROCESSING_LEVEL_ID = 4
PRODUCT_CREATION_TIME = 2024-08-21T01:11:59.000Z
PRODUCT_ID = "HP680_0000_P24.TIF"
RELEASE_ID = 0014
REVISION_ID = 0000
/* QUALITY DATA ELEMENTS */
DATA_QUALITY_ID = 1
DATA_QUALITY_DESC = "Data calculated based on original SPICE kernels"
/* TIME DATA ELEMENTS */
SPACECRAFT_CLOCK_START_COUNT = "1/0662934141.00346"
SPACECRAFT_CLOCK_STOP_COUNT = "1/0662934530.38915"
START_TIME = 2024-05-04T20:24:28.216Z
STOP_TIME = 2024-05-04T20:29:02.722Z
/* ORBITAL DATA ELEMENTS */
ASCENDING_NODE_LONGITUDE = 98.09
MAXIMUM_RESOLUTION = 0.0424
FOOTPRINT_POINT_LATITUDE = (-86.2185,-86.4222,-86.6174,-86.8026, -86.9753,-87.1327,-87.3184,-87.3259, -87.2951,-87.5546,-87.8068,-88.0535, -88.2871,-88.5015,-88.6898,-88.8334, -88.9154,-88.9219,-88.8526,-88.2636, -88.0299,-87.6578,-87.4012,-87.1399, -86.8753,-86.6083,-86.3399,-86.0704, -85.8013,-85.532,-85.2609,-84.9899, -84.7193,-84.4488,-84.1797,-83.9102, -83.6423,-83.3731,-83.1039,-82.8361, -82.3018,-81.7708,-81.3736,-80.8482, -80.3229,-79.8016,-79.2818,-78.7692, -78.3865,-78.0043,-77.8774,-77.8551, -77.8239,-77.7812,-77.7429,-77.6764, -77.5977,-77.5078,-77.4259,-77.4193, -77.4173,-77.7878,-78.2829,-78.7803, -79.2793,-79.9025,-80.4033,-80.9054, -81.4078,-81.909,-82.4087,-82.6571, -82.9073,-83.2769,-83.6423,-83.8833, -84.1222,-84.358,-84.5878,-84.8154, -85.04,-85.2597,-85.4729,-85.6791, -85.877,-86.0652,-86.2413,-86.4044, -86.6188,-86.931,-86.9716,-86.9847, -86.9699,-86.8957,-86.8135,-86.709, -86.5133,-86.2805,-86.1898,-86.2185)
FOOTPRINT_POINT_LONGITUDE = (360.119,357.358,354.25,350.74,346.781, 342.328,335.325,334.982,333.289,335.95, 339.213,343.369,348.686,355.404,364.791 ,376.587,390.872,406.333,420.881, 451.882,457.02,462.71,465.574,467.91, 469.847,471.474,472.859,474.051,475.094 ,476.009,476.807,477.518,478.155, 478.727,479.251,479.722,480.158,480.548 ,480.905,481.236,481.826,482.337, 482.675,483.083,483.434,483.75,484.027, 484.291,484.471,484.634,484.687,484.696 ,482.81,480.945,479.594,477.655,475.746 ,473.872,472.373,472.259,472.217, 471.823,471.253,470.623,469.924,468.946 ,468.056,467.052,465.917,464.626, 463.148,462.33,461.436,459.98,458.35, 457.15,455.844,454.426,452.903,451.224, 449.37,447.332,445.093,442.626,439.906, 436.902,433.607,429.979,423.912,407.819 ,402.447,396.976,391.479,383.438, 378.347,373.616,367.13,361.466,359.64, 360.119)
ORBIT_NUMBER = 25680
ORBITAL_ECCENTRICITY = 0.574
ORBITAL_INCLINATION = 87.09
ORBITAL_SEMIMAJOR_AXIS = 8771.95
PERIAPSIS_ALTITUDE = 360.21
PERIAPSIS_ARGUMENT_ANGLE = 242.73
PERIAPSIS_TIME = 2024-05-04T20:17:23.000Z
SPACECRAFT_ORIENTATION = (0.0,-1.0,0.0)
^MEX_ORIENTATION_DESC = "MEX_ORIENTATION_DESC.TXT"
SPACECRAFT_POINTING_MODE = ACROSSTRACK
^MEX_POINTING_DESC = "MEX_POINTING_DESC.TXT"
RIGHT_ASCENSION = -1e+32
DECLINATION = -1e+32
OFFSET_ANGLE = -0.808
SPACECRAFT_SOLAR_DISTANCE = 2.06684e+08
TARGET_NAME = MARS
/* CAMERA DATA ELEMENTS */
DETECTOR_TEMPERATURE = 18.3705
FOCAL_PLANE_TEMPERATURE = 8.7872
INST_CMPRS_NAME = "DISCRETE COSINE TRANSFORMATION (DCT)"
INST_CMPRS_RATIO = 5.36056
INST_CMPRS_QUALITY = 0
INST_CMPRS_QUANTZ_TBL_ID = 0
INSTRUMENT_TEMPERATURE = 11.4379
LENS_TEMPERATURE = 9.3989
MACROPIXEL_SIZE = 2
PIXEL_SUBSAMPLING_FLAG = N
SIGNAL_CHAIN_ID = 3
/* RADIOMETRIC DATA ELEMENTS */
BANDWIDTH = 177.0
CENTER_FILTER_WAVELENGTH = 676.5
RADIANCE_OFFSET = 4.73277
RADIANCE_SCALING_FACTOR = 0.0485832
REFLECTANCE_SCALING_FACTOR = 0.00110042
MEX:REFLECTANCE_OFFSET = 0.107198
/* IMAGE OBJECT DEFINITIONS */
OBJECT = IMAGE
  INTERCHANGE_FORMAT = BINARY
  LINES = 33918
  LINE_SAMPLES = 16910
  SAMPLE_TYPE = UNSIGNED_INTEGER
  SAMPLE_BITS = 8
  BANDS = 1
  BAND_STORAGE_TYPE = BAND_SEQUENTIAL
  MAXIMUM = 255
  MEAN = 98.2567
  MINIMUM = 1
  STANDARD_DEVIATION = 54.0666
END_OBJECT = IMAGE
/* MAP OBJECT DEFINITIONS */
OBJECT = IMAGE_MAP_PROJECTION
  ^DATA_SET_MAP_PROJECTION_CATALOG= "DSMAP.CAT"
  A_AXIS_RADIUS = 3396.0
  B_AXIS_RADIUS = 3396.0
  C_AXIS_RADIUS = 3396.0
  CENTER_LATITUDE = -84.2555
  CENTER_LONGITUDE = 107.164
  COORDINATE_SYSTEM_NAME = PLANETOGRAPHIC
  COORDINATE_SYSTEM_TYPE = "BODY-FIXED ROTATING"
  EASTERNMOST_LONGITUDE = 124.696
  FIRST_STANDARD_PARALLEL = "N/A"
  LINE_FIRST_PIXEL = 1
  LINE_LAST_PIXEL = 33918
  LINE_PROJECTION_OFFSET = 15954.25
  MAP_PROJECTION_ROTATION = 0.0
  MAP_PROJECTION_TYPE = ORTHOGRAPHIC
  MAP_RESOLUTION = 2370.85521546667
  MAP_SCALE = 0.025
  MAXIMUM_LATITUDE = -77.4173
  MINIMUM_LATITUDE = -88.92189999999999
  POSITIVE_LONGITUDE_DIRECTION = EAST
  REFERENCE_LATITUDE = "N/A"
  REFERENCE_LONGITUDE = "N/A"
  SAMPLE_FIRST_PIXEL = 1
  SAMPLE_LAST_PIXEL = 16910
  SAMPLE_PROJECTION_OFFSET = 8579.75
  SECOND_STANDARD_PARALLEL = "N/A"
  WESTERNMOST_LONGITUDE = -26.711
END_OBJECT = IMAGE_MAP_PROJECTION
END
