PDS_VERSION_ID = PDS3
/* FILE DATA ELEMENTS */
RECORD_TYPE = UNDEFINED
/* POINTERS TO DATA OBJECTS */
^IMAGE = ("HP673_0000_S24.TIF")
/* IDENTIFICATION DATA ELEMENTS */
DATA_SET_ID = "MEX-M-HRSC-4-REFDR-MAPPROJECT-EXT9-V4.0"
DATA_SET_NAME = "MARS EXPRESS HRSC MAP PROJECTED REFDR EXTENSION9 V4.0"
DETECTOR_ID = MEX_HRSC_S2
EVENT_TYPE = "MARS-REGIONAL-MAPPING-Gl-Pf-La"
INSTRUMENT_HOST_ID = MEX
INSTRUMENT_HOST_NAME = "MARS EXPRESS"
INSTRUMENT_ID = HRSC
INSTRUMENT_NAME = "HIGH RESOLUTION STEREO CAMERA"
MISSION_NAME = "MARS EXPRESS"
MISSION_PHASE_NAME = ME_Phase_50
PROCESSING_LEVEL_ID = 4
PRODUCT_CREATION_TIME = 2024-08-21T01:11:59.000Z
PRODUCT_ID = "HP673_0000_S24.TIF"
RELEASE_ID = 0014
REVISION_ID = 0000
/* QUALITY DATA ELEMENTS */
DATA_QUALITY_ID = 1
DATA_QUALITY_DESC = "Data calculated based on original SPICE kernels"
/* TIME DATA ELEMENTS */
SPACECRAFT_CLOCK_START_COUNT = "1/0662758109.00337"
SPACECRAFT_CLOCK_STOP_COUNT = "1/0662758494.09012"
START_TIME = 2024-05-02T19:30:51.523Z
STOP_TIME = 2024-05-02T19:35:40.434Z
/* ORBITAL DATA ELEMENTS */
ASCENDING_NODE_LONGITUDE = 98.21
MAXIMUM_RESOLUTION = 0.0437
FOOTPRINT_POINT_LATITUDE = (-85.5851,-86.1391,-86.5115,-86.9352, -86.9464,-86.8995,-87.1368,-87.3612, -87.5609,-87.7463,-87.8952,-88.004, -88.0668,-88.0795,-88.0415,-87.9565, -87.8299,-87.6698,-87.3804,-87.0469, -86.8098,-86.5631,-86.1822,-85.9179, -85.6521,-85.3807,-85.1062,-84.8307, -84.5532,-84.2759,-83.9975,-83.7186, -83.4395,-83.161,-82.8827,-82.6041, -82.3247,-82.0463,-81.7686,-81.4913, -81.2147,-80.6639,-80.1237,-79.572, -79.0308,-78.4955,-78.0983,-77.7007, -77.5682,-77.5557,-77.5121,-77.4585, -77.4093,-77.271,-77.1483,-77.0128, -77.0051,-77.0028,-77.6472,-78.0328, -78.5479,-79.322,-79.8363,-80.0978, -80.6081,-80.9951,-81.3846,-81.64, -81.8942,-82.1475,-82.399,-82.6463, -82.8917,-83.135,-83.3762,-83.6142, -83.8483,-84.0774,-84.301,-84.5184, -84.7287,-84.9305,-85.1225,-85.3033, -85.4713,-85.6961,-85.8825,-86.0242, -86.091,-86.134,-86.1521,-86.1447, -86.1114,-86.0528,-85.969,-85.8664, -85.7416,-85.5973,-85.5198,-85.5851)
FOOTPRINT_POINT_LONGITUDE = (362.204,357.122,352.485,345.127, 344.887,343.35,347.2,351.769,356.853, 363.477,370.849,379.123,388.124,397.443 ,406.62,415.197,422.918,429.647,437.985 ,444.537,448.09,451.13,454.913,457.036, 458.888,460.522,461.969,463.257,464.409 ,465.445,466.382,467.232,468.006, 468.715,469.366,469.965,470.517,471.029 ,471.504,471.947,472.36,473.108,473.774 ,474.353,474.876,475.347,475.673, 475.973,476.068,476.077,474.361,472.656 ,471.329,468.234,466.016,463.963, 463.849,463.808,462.935,462.366,461.54, 460.128,459.061,458.459,457.206,456.132 ,454.926,454.073,453.163,452.186, 451.139,450.035,448.845,447.56,446.165, 444.652,443.014,441.242,439.32,437.23, 434.956,432.486,429.807,426.902,423.771 ,418.6,412.877,406.647,402.26,397.73, 393.114,388.465,383.843,379.314,374.913 ,370.808,366.904,363.236,361.519, 362.204)
ORBIT_NUMBER = 25673
ORBITAL_ECCENTRICITY = 0.574
ORBITAL_INCLINATION = 87.08
ORBITAL_SEMIMAJOR_AXIS = 8770.42
PERIAPSIS_ALTITUDE = 359.86
PERIAPSIS_ARGUMENT_ANGLE = 243.91
PERIAPSIS_TIME = 2024-05-02T19:23:48.000Z
SPACECRAFT_ORIENTATION = (0.0,-1.0,0.0)
^MEX_ORIENTATION_DESC = "MEX_ORIENTATION_DESC.TXT"
SPACECRAFT_POINTING_MODE = NADIR
^MEX_POINTING_DESC = "MEX_POINTING_DESC.TXT"
RIGHT_ASCENSION = -1e+32
DECLINATION = -1e+32
OFFSET_ANGLE = -1e+32
SPACECRAFT_SOLAR_DISTANCE = 2.06704e+08
TARGET_NAME = MARS
/* CAMERA DATA ELEMENTS */
DETECTOR_TEMPERATURE = 18.3705
FOCAL_PLANE_TEMPERATURE = 8.5833
INST_CMPRS_NAME = "DISCRETE COSINE TRANSFORMATION (DCT)"
INST_CMPRS_RATIO = 7.73095
INST_CMPRS_QUALITY = 0
INST_CMPRS_QUANTZ_TBL_ID = 0
INSTRUMENT_TEMPERATURE = 11.4379
LENS_TEMPERATURE = 8.9911
MACROPIXEL_SIZE = 2
MISSING_FRAMES = 0
PIXEL_SUBSAMPLING_FLAG = N
SIGNAL_CHAIN_ID = 1
/* RADIOMETRIC DATA ELEMENTS */
BANDWIDTH = 178.0
CENTER_FILTER_WAVELENGTH = 679.0
RADIANCE_OFFSET = 6.06905
RADIANCE_SCALING_FACTOR = 0.0462596
REFLECTANCE_SCALING_FACTOR = 0.00104672
MEX:REFLECTANCE_OFFSET = 0.137325
/* IMAGE OBJECT DEFINITIONS */
OBJECT = IMAGE
  INTERCHANGE_FORMAT = BINARY
  LINES = 32537
  LINE_SAMPLES = 21457
  SAMPLE_TYPE = UNSIGNED_INTEGER
  SAMPLE_BITS = 8
  BANDS = 1
  BAND_STORAGE_TYPE = BAND_SEQUENTIAL
  MAXIMUM = 255
  MEAN = 103.239
  MINIMUM = 1
  STANDARD_DEVIATION = 51.6982
END_OBJECT = IMAGE
/* MAP OBJECT DEFINITIONS */
OBJECT = IMAGE_MAP_PROJECTION
  ^DATA_SET_MAP_PROJECTION_CATALOG= "DSMAP.CAT"
  A_AXIS_RADIUS = 3396.0
  B_AXIS_RADIUS = 3396.0
  C_AXIS_RADIUS = 3396.0
  CENTER_LATITUDE = -84.2178
  CENTER_LONGITUDE = 93.2139
  COORDINATE_SYSTEM_NAME = PLANETOGRAPHIC
  COORDINATE_SYSTEM_TYPE = "BODY-FIXED ROTATING"
  EASTERNMOST_LONGITUDE = 116.077
  FIRST_STANDARD_PARALLEL = "N/A"
  LINE_FIRST_PIXEL = 1
  LINE_LAST_PIXEL = 32537
  LINE_PROJECTION_OFFSET = 16394.25
  MAP_PROJECTION_ROTATION = 0.0
  MAP_PROJECTION_TYPE = ORTHOGRAPHIC
  MAP_RESOLUTION = 2370.85521546667
  MAP_SCALE = 0.025
  MAXIMUM_LATITUDE = -77.00279999999999
  MINIMUM_LATITUDE = -88.0795
  POSITIVE_LONGITUDE_DIRECTION = EAST
  REFERENCE_LATITUDE = "N/A"
  REFERENCE_LONGITUDE = "N/A"
  SAMPLE_FIRST_PIXEL = 1
  SAMPLE_LAST_PIXEL = 21457
  SAMPLE_PROJECTION_OFFSET = 10542.25
  SECOND_STANDARD_PARALLEL = "N/A"
  WESTERNMOST_LONGITUDE = -16.65
END_OBJECT = IMAGE_MAP_PROJECTION
END
