PDS_VERSION_ID = PDS3
/* FILE DATA ELEMENTS */
RECORD_TYPE = UNDEFINED
/* POINTERS TO DATA OBJECTS */
^IMAGE = ("HP673_0000_IR4.TIF")
/* IDENTIFICATION DATA ELEMENTS */
DATA_SET_ID = "MEX-M-HRSC-4-REFDR-MAPPROJECT-EXT9-V4.0"
DATA_SET_NAME = "MARS EXPRESS HRSC MAP PROJECTED REFDR EXTENSION9 V4.0"
DETECTOR_ID = MEX_HRSC_IR
EVENT_TYPE = "MARS-REGIONAL-MAPPING-Gl-Pf-La"
INSTRUMENT_HOST_ID = MEX
INSTRUMENT_HOST_NAME = "MARS EXPRESS"
INSTRUMENT_ID = HRSC
INSTRUMENT_NAME = "HIGH RESOLUTION STEREO CAMERA"
MISSION_NAME = "MARS EXPRESS"
MISSION_PHASE_NAME = ME_Phase_50
PROCESSING_LEVEL_ID = 4
PRODUCT_CREATION_TIME = 2024-08-21T01:11:59.000Z
PRODUCT_ID = "HP673_0000_IR4.TIF"
RELEASE_ID = 0014
REVISION_ID = 0000
/* QUALITY DATA ELEMENTS */
DATA_QUALITY_ID = 1
DATA_QUALITY_DESC = "Data calculated based on original SPICE kernels"
/* TIME DATA ELEMENTS */
SPACECRAFT_CLOCK_START_COUNT = "1/0662758109.00337"
SPACECRAFT_CLOCK_STOP_COUNT = "1/0662758494.09012"
START_TIME = 2024-05-02T19:29:24.246Z
STOP_TIME = 2024-05-02T19:33:19.115Z
/* ORBITAL DATA ELEMENTS */
ASCENDING_NODE_LONGITUDE = 98.21
MAXIMUM_RESOLUTION = 0.076
FOOTPRINT_POINT_LATITUDE = (-85.5429,-85.9885,-86.3823,-86.6744, -86.6836,-86.7558,-87.1495,-87.4973, -87.7601,-87.889,-87.9423,-87.882, -87.7424,-87.6104,-87.453,-87.272, -87.0728,-86.859,-86.512,-86.2688, -86.0157,-85.7515,-85.4846,-85.2136, -84.9368,-84.6543,-84.3722,-84.0872, -83.8006,-83.5129,-83.2235,-82.9331, -82.642,-82.3511,-82.0596,-81.6218, -81.3291,-81.0359,-80.7431,-80.3027, -80.0069,-79.7174,-79.4248,-79.1315, -78.8383,-78.5441,-78.1036,-77.8109, -77.6648,-77.5751,-77.5094,-77.4147, -77.2805,-77.1867,-77.0903,-77.0839, -77.083,-77.5057,-77.929,-78.2112, -78.493,-78.9154,-79.196,-79.4765, -79.758,-80.0361,-80.3148,-80.5953, -81.0108,-81.283,-81.5494,-81.8201, -82.0885,-82.3545,-82.6184,-82.8821, -83.143,-83.3981,-83.6481,-83.8933, -84.1331,-84.4774,-84.6953,-84.9048, -85.1009,-85.2869,-85.4619,-85.6209, -85.7651,-85.9521,-86.0535,-86.1361, -86.1988,-86.2619,-86.2545,-86.1422, -85.863,-85.6748,-85.6057,-85.5429)
FOOTPRINT_POINT_LONGITUDE = (359.086,354.459,349.07,343.809,343.618 ,344.005,350.841,359.828,371.311, 381.634,393.043,408.36,418.907,425.157, 430.699,435.613,439.892,443.624,448.385 ,451.057,453.437,455.574,457.425, 459.051,460.51,461.844,463.019,464.087, 465.055,465.934,466.741,467.48,468.159, 468.781,469.356,470.141,470.62,471.069, 471.486,472.065,472.429,472.751,473.064 ,473.362,473.643,473.913,474.289, 474.522,474.633,474.7,472.711,470.464, 467.887,466.351,464.927,464.839,464.808 ,464.254,463.657,463.233,462.786,462.07 ,461.559,461.019,460.446,459.84,459.196 ,458.51,457.398,456.597,455.745,454.829 ,453.848,452.796,451.664,450.441,449.12 ,447.696,446.157,444.49,442.68,439.698, 437.519,435.153,432.638,429.915,426.966 ,423.85,420.515,415.109,411.298,407.308 ,403.181,394.741,388.341,378.176, 367.223,362.49,360.989,359.086)
ORBIT_NUMBER = 25673
ORBITAL_ECCENTRICITY = 0.574
ORBITAL_INCLINATION = 87.08
ORBITAL_SEMIMAJOR_AXIS = 8770.42
PERIAPSIS_ALTITUDE = 359.86
PERIAPSIS_ARGUMENT_ANGLE = 243.91
PERIAPSIS_TIME = 2024-05-02T19:23:48.000Z
SPACECRAFT_ORIENTATION = (0.0,-1.0,0.0)
^MEX_ORIENTATION_DESC = "MEX_ORIENTATION_DESC.TXT"
SPACECRAFT_POINTING_MODE = NADIR
^MEX_POINTING_DESC = "MEX_POINTING_DESC.TXT"
RIGHT_ASCENSION = -1e+32
DECLINATION = -1e+32
OFFSET_ANGLE = -1e+32
SPACECRAFT_SOLAR_DISTANCE = 2.06704e+08
TARGET_NAME = MARS
/* CAMERA DATA ELEMENTS */
DETECTOR_TEMPERATURE = 17.1471
FOCAL_PLANE_TEMPERATURE = 8.5833
INST_CMPRS_NAME = "DISCRETE COSINE TRANSFORMATION (DCT)"
INST_CMPRS_RATIO = 8.69597
INST_CMPRS_QUALITY = 0
INST_CMPRS_QUANTZ_TBL_ID = 0
INSTRUMENT_TEMPERATURE = 11.4379
LENS_TEMPERATURE = 8.9911
MACROPIXEL_SIZE = 4
MISSING_FRAMES = 0
PIXEL_SUBSAMPLING_FLAG = N
SIGNAL_CHAIN_ID = 2
/* RADIOMETRIC DATA ELEMENTS */
BANDWIDTH = 81.0
CENTER_FILTER_WAVELENGTH = 955.5
RADIANCE_OFFSET = 1.44929
RADIANCE_SCALING_FACTOR = 0.0107549
REFLECTANCE_SCALING_FACTOR = 0.000991365
MEX:REFLECTANCE_OFFSET = 0.133593
/* IMAGE OBJECT DEFINITIONS */
OBJECT = IMAGE
  INTERCHANGE_FORMAT = BINARY
  LINES = 16269
  LINE_SAMPLES = 10729
  SAMPLE_TYPE = UNSIGNED_INTEGER
  SAMPLE_BITS = 8
  BANDS = 1
  BAND_STORAGE_TYPE = BAND_SEQUENTIAL
  MAXIMUM = 255
  MEAN = 99.8842
  MINIMUM = 1
  STANDARD_DEVIATION = 50.2764
END_OBJECT = IMAGE
/* MAP OBJECT DEFINITIONS */
OBJECT = IMAGE_MAP_PROJECTION
  ^DATA_SET_MAP_PROJECTION_CATALOG= "DSMAP.CAT"
  A_AXIS_RADIUS = 3396.0
  B_AXIS_RADIUS = 3396.0
  C_AXIS_RADIUS = 3396.0
  CENTER_LATITUDE = -84.2178
  CENTER_LONGITUDE = 93.2139
  COORDINATE_SYSTEM_NAME = PLANETOGRAPHIC
  COORDINATE_SYSTEM_TYPE = "BODY-FIXED ROTATING"
  EASTERNMOST_LONGITUDE = 114.7
  FIRST_STANDARD_PARALLEL = "N/A"
  LINE_FIRST_PIXEL = 1
  LINE_LAST_PIXEL = 16269
  LINE_PROJECTION_OFFSET = 8196.875
  MAP_PROJECTION_ROTATION = 0.0
  MAP_PROJECTION_TYPE = ORTHOGRAPHIC
  MAP_RESOLUTION = 1185.42760773333
  MAP_SCALE = 0.05
  MAXIMUM_LATITUDE = -77.083
  MINIMUM_LATITUDE = -87.9423
  POSITIVE_LONGITUDE_DIRECTION = EAST
  REFERENCE_LATITUDE = "N/A"
  REFERENCE_LONGITUDE = "N/A"
  SAMPLE_FIRST_PIXEL = 1
  SAMPLE_LAST_PIXEL = 10729
  SAMPLE_PROJECTION_OFFSET = 5270.875
  SECOND_STANDARD_PARALLEL = "N/A"
  WESTERNMOST_LONGITUDE = -16.382
END_OBJECT = IMAGE_MAP_PROJECTION
END
