PDS_VERSION_ID = PDS3
/* FILE DATA ELEMENTS */
RECORD_TYPE = UNDEFINED
/* POINTERS TO DATA OBJECTS */
^IMAGE = ("HP673_0000_GR4.TIF")
/* IDENTIFICATION DATA ELEMENTS */
DATA_SET_ID = "MEX-M-HRSC-4-REFDR-MAPPROJECT-EXT9-V4.0"
DATA_SET_NAME = "MARS EXPRESS HRSC MAP PROJECTED REFDR EXTENSION9 V4.0"
DETECTOR_ID = MEX_HRSC_GREEN
EVENT_TYPE = "MARS-REGIONAL-MAPPING-Gl-Pf-La"
INSTRUMENT_HOST_ID = MEX
INSTRUMENT_HOST_NAME = "MARS EXPRESS"
INSTRUMENT_ID = HRSC
INSTRUMENT_NAME = "HIGH RESOLUTION STEREO CAMERA"
MISSION_NAME = "MARS EXPRESS"
MISSION_PHASE_NAME = ME_Phase_50
PROCESSING_LEVEL_ID = 4
PRODUCT_CREATION_TIME = 2024-08-21T01:11:59.000Z
PRODUCT_ID = "HP673_0000_GR4.TIF"
RELEASE_ID = 0014
REVISION_ID = 0000
/* QUALITY DATA ELEMENTS */
DATA_QUALITY_ID = 1
DATA_QUALITY_DESC = "Data calculated based on original SPICE kernels"
/* TIME DATA ELEMENTS */
SPACECRAFT_CLOCK_START_COUNT = "1/0662758109.00337"
SPACECRAFT_CLOCK_STOP_COUNT = "1/0662758494.09012"
START_TIME = 2024-05-02T19:29:52.926Z
STOP_TIME = 2024-05-02T19:34:02.635Z
/* ORBITAL DATA ELEMENTS */
ASCENDING_NODE_LONGITUDE = 98.21
MAXIMUM_RESOLUTION = 0.0712
FOOTPRINT_POINT_LATITUDE = (-85.5569,-85.9079,-86.2866,-86.7453, -86.7549,-86.7839,-87.287,-87.756, -87.9315,-87.9643,-87.9558,-87.9066, -87.8177,-87.621,-87.4533,-87.2619, -87.0525,-86.8244,-86.461,-86.2079, -85.9483,-85.5493,-85.2783,-85.0042, -84.5886,-84.3092,-84.0282,-83.7461, -83.4631,-83.1792,-82.8947,-82.6098, -82.3246,-82.0392,-81.7537,-81.4681, -81.1825,-80.8969,-80.6116,-80.3263, -79.8985,-79.6142,-79.3298,-79.0458, -78.7621,-78.3273,-77.7623,-77.6213, -77.5621,-77.5057,-77.4117,-77.2862, -77.1971,-77.0608,-77.0542,-77.0531, -77.5983,-78.2894,-78.8347,-79.1069, -79.3789,-79.6508,-79.9216,-80.1923, -80.4617,-80.7325,-81.0003,-81.2663, -81.5302,-81.7942,-82.0563,-82.3163, -82.5744,-82.8307,-83.084,-83.3336, -83.5789,-83.8198,-84.0558,-84.286, -84.5097,-84.7256,-84.9331,-85.1308, -85.3175,-85.4918,-85.651,-85.7923, -85.9716,-86.0656,-86.1392,-86.191, -86.2205,-86.2277,-86.2126,-86.1187, -85.8951,-85.6431,-85.5724,-85.5569)
FOOTPRINT_POINT_LONGITUDE = (360.073,356.702,352.115,344.413, 344.213,343.972,353.302,369.73,384.217, 392.277,400.441,408.366,415.921,425.915 ,431.659,436.682,441.004,444.805, 449.548,452.179,454.488,457.433,459.095 ,460.562,462.495,463.62,464.637,465.559 ,466.401,467.171,467.878,468.528, 469.125,469.679,470.192,470.67,471.117, 471.534,471.923,472.289,472.804,473.112 ,473.408,473.688,473.954,474.34,474.793 ,474.898,474.942,473.141,470.762, 468.228,466.694,464.623,464.53,464.497, 463.772,462.748,461.841,461.349,460.831 ,460.284,459.702,459.088,458.433, 457.749,457.01,456.219,455.372,454.475, 453.514,452.483,451.379,450.195,448.919 ,447.54,446.048,444.433,442.684,440.786 ,438.726,436.486,434.053,431.41,428.543 ,425.439,422.111,418.585,412.87,408.861 ,404.67,400.367,396.021,391.625,387.271 ,378.877,369.302,362.564,361.03, 360.073)
ORBIT_NUMBER = 25673
ORBITAL_ECCENTRICITY = 0.574
ORBITAL_INCLINATION = 87.08
ORBITAL_SEMIMAJOR_AXIS = 8770.42
PERIAPSIS_ALTITUDE = 359.86
PERIAPSIS_ARGUMENT_ANGLE = 243.91
PERIAPSIS_TIME = 2024-05-02T19:23:48.000Z
SPACECRAFT_ORIENTATION = (0.0,-1.0,0.0)
^MEX_ORIENTATION_DESC = "MEX_ORIENTATION_DESC.TXT"
SPACECRAFT_POINTING_MODE = NADIR
^MEX_POINTING_DESC = "MEX_POINTING_DESC.TXT"
RIGHT_ASCENSION = -1e+32
DECLINATION = -1e+32
OFFSET_ANGLE = -1e+32
SPACECRAFT_SOLAR_DISTANCE = 2.06704e+08
TARGET_NAME = MARS
/* CAMERA DATA ELEMENTS */
DETECTOR_TEMPERATURE = 18.5744
FOCAL_PLANE_TEMPERATURE = 8.5833
INST_CMPRS_NAME = "DISCRETE COSINE TRANSFORMATION (DCT)"
INST_CMPRS_RATIO = 5.93685
INST_CMPRS_QUALITY = 0
INST_CMPRS_QUANTZ_TBL_ID = 0
INSTRUMENT_TEMPERATURE = 11.4379
LENS_TEMPERATURE = 8.9911
MACROPIXEL_SIZE = 4
MISSING_FRAMES = 1
PIXEL_SUBSAMPLING_FLAG = N
SIGNAL_CHAIN_ID = 2
/* RADIOMETRIC DATA ELEMENTS */
BANDWIDTH = 88.0
CENTER_FILTER_WAVELENGTH = 538.0
RADIANCE_OFFSET = 1.98179
RADIANCE_SCALING_FACTOR = 0.0280646
REFLECTANCE_SCALING_FACTOR = 0.0010324
MEX:REFLECTANCE_OFFSET = 0.0729032
/* IMAGE OBJECT DEFINITIONS */
OBJECT = IMAGE
  INTERCHANGE_FORMAT = BINARY
  LINES = 16269
  LINE_SAMPLES = 10729
  SAMPLE_TYPE = UNSIGNED_INTEGER
  SAMPLE_BITS = 8
  BANDS = 1
  BAND_STORAGE_TYPE = BAND_SEQUENTIAL
  MAXIMUM = 255
  MEAN = 90.6306
  MINIMUM = 1
  STANDARD_DEVIATION = 54.6172
END_OBJECT = IMAGE
/* MAP OBJECT DEFINITIONS */
OBJECT = IMAGE_MAP_PROJECTION
  ^DATA_SET_MAP_PROJECTION_CATALOG= "DSMAP.CAT"
  A_AXIS_RADIUS = 3396.0
  B_AXIS_RADIUS = 3396.0
  C_AXIS_RADIUS = 3396.0
  CENTER_LATITUDE = -84.2178
  CENTER_LONGITUDE = 93.2139
  COORDINATE_SYSTEM_NAME = PLANETOGRAPHIC
  COORDINATE_SYSTEM_TYPE = "BODY-FIXED ROTATING"
  EASTERNMOST_LONGITUDE = 114.942
  FIRST_STANDARD_PARALLEL = "N/A"
  LINE_FIRST_PIXEL = 1
  LINE_LAST_PIXEL = 16269
  LINE_PROJECTION_OFFSET = 8196.875
  MAP_PROJECTION_ROTATION = 0.0
  MAP_PROJECTION_TYPE = ORTHOGRAPHIC
  MAP_RESOLUTION = 1185.42760773333
  MAP_SCALE = 0.05
  MAXIMUM_LATITUDE = -77.0531
  MINIMUM_LATITUDE = -87.96429999999999
  POSITIVE_LONGITUDE_DIRECTION = EAST
  REFERENCE_LATITUDE = "N/A"
  REFERENCE_LONGITUDE = "N/A"
  SAMPLE_FIRST_PIXEL = 1
  SAMPLE_LAST_PIXEL = 10729
  SAMPLE_PROJECTION_OFFSET = 5270.875
  SECOND_STANDARD_PARALLEL = "N/A"
  WESTERNMOST_LONGITUDE = -16.028
END_OBJECT = IMAGE_MAP_PROJECTION
END
