PDS_VERSION_ID = PDS3
/* FILE DATA ELEMENTS */
RECORD_TYPE = UNDEFINED
/* POINTERS TO DATA OBJECTS */
^IMAGE = ("HP672_0000_BL4.TIF")
/* IDENTIFICATION DATA ELEMENTS */
DATA_SET_ID = "MEX-M-HRSC-4-REFDR-MAPPROJECT-EXT9-V4.0"
DATA_SET_NAME = "MARS EXPRESS HRSC MAP PROJECTED REFDR EXTENSION9 V4.0"
DETECTOR_ID = MEX_HRSC_BLUE
EVENT_TYPE = "MARS-REGIONAL-MAPPING-Gl-Pf-La"
INSTRUMENT_HOST_ID = MEX
INSTRUMENT_HOST_NAME = "MARS EXPRESS"
INSTRUMENT_ID = HRSC
INSTRUMENT_NAME = "HIGH RESOLUTION STEREO CAMERA"
MISSION_NAME = "MARS EXPRESS"
MISSION_PHASE_NAME = ME_Phase_50
PROCESSING_LEVEL_ID = 4
PRODUCT_CREATION_TIME = 2024-08-21T01:11:59.000Z
PRODUCT_ID = "HP672_0000_BL4.TIF"
RELEASE_ID = 0014
REVISION_ID = 0000
/* QUALITY DATA ELEMENTS */
DATA_QUALITY_ID = 1
DATA_QUALITY_DESC = "Data calculated based on original SPICE kernels"
/* TIME DATA ELEMENTS */
SPACECRAFT_CLOCK_START_COUNT = "1/0662733059.64179"
SPACECRAFT_CLOCK_STOP_COUNT = "1/0662733400.61111"
START_TIME = 2024-05-02T12:32:49.423Z
STOP_TIME = 2024-05-02T12:36:06.571Z
/* ORBITAL DATA ELEMENTS */
ASCENDING_NODE_LONGITUDE = 98.22
MAXIMUM_RESOLUTION = 0.0897
FOOTPRINT_POINT_LATITUDE = (-84.1952,-84.5346,-84.7167,-84.8893, -85.0513,-85.1839,-85.3241,-85.3324, -85.3601,-85.08,-84.8895,-84.6974, -84.5019,-84.3038,-84.1046,-83.9022, -83.6977,-83.4927,-83.2845,-83.0748, -82.8646,-82.6541,-82.4432,-82.2322, -82.021,-81.8095,-81.5981,-81.3867, -81.1752,-80.9637,-80.7523,-80.5411, -80.3299,-80.1189,-79.908,-79.6975, -79.4866,-79.276,-79.0658,-78.7519, -78.5423,-78.124,-77.9145,-77.4976, -77.0821,-76.7711,-76.3577,-75.9454, -75.5347,-75.1252,-75.0231,-74.9398, -74.8909,-74.8534,-74.7787,-74.7005, -74.6234,-74.544,-74.4639,-74.4575, -74.4566,-74.8548,-75.2538,-75.6536, -76.0541,-76.4552,-76.8568,-77.2587, -77.6609,-78.1635,-78.5652,-78.766, -78.9666,-79.1671,-79.3673,-79.5673, -79.767,-79.9663,-80.1653,-80.3638, -80.5618,-80.7592,-80.956,-81.152, -81.3473,-81.5417,-81.7351,-81.9274, -82.1185,-82.3083,-82.5889,-82.7715, -82.9523,-83.2167,-83.3891,-83.559, -83.8848,-84.0432,-84.1202,-84.1952)
FOOTPRINT_POINT_LONGITUDE = (180.182,183.897,186.22,188.696,191.33, 193.773,196.725,196.915,197.085,198.92, 200.038,201.074,202.045,202.954,203.799 ,204.597,205.346,206.046,206.71,207.336 ,207.924,208.478,208.998,209.489, 209.953,210.392,210.807,211.202,211.576 ,211.932,212.271,212.594,212.902, 213.196,213.478,213.747,214.003,214.248 ,214.485,214.825,215.039,215.441, 215.628,215.987,216.321,216.556,216.852 ,217.128,217.387,217.629,217.688, 217.734,216.181,215.176,213.452,211.922 ,210.58,209.338,208.195,208.108,208.077 ,207.705,207.309,206.888,206.439, 205.956,205.442,204.889,204.291,203.488 ,202.793,202.421,202.033,201.627, 201.213,200.775,200.319,199.843,199.346 ,198.826,198.283,197.715,197.121, 196.497,195.844,195.158,194.438,193.681 ,192.884,192.046,190.711,189.771, 188.781,187.211,186.099,184.924,182.421 ,181.063,180.365,180.182)
ORBIT_NUMBER = 25672
ORBITAL_ECCENTRICITY = 0.574
ORBITAL_INCLINATION = 87.08
ORBITAL_SEMIMAJOR_AXIS = 8773.41
PERIAPSIS_ALTITUDE = 359.26
PERIAPSIS_ARGUMENT_ANGLE = 244.09
PERIAPSIS_TIME = 2024-05-02T12:24:41.000Z
SPACECRAFT_ORIENTATION = (0.0,-1.0,0.0)
^MEX_ORIENTATION_DESC = "MEX_ORIENTATION_DESC.TXT"
SPACECRAFT_POINTING_MODE = ACROSSTRACK
^MEX_POINTING_DESC = "MEX_POINTING_DESC.TXT"
RIGHT_ASCENSION = -1e+32
DECLINATION = -1e+32
OFFSET_ANGLE = 0.269
SPACECRAFT_SOLAR_DISTANCE = 2.06708e+08
TARGET_NAME = MARS
/* CAMERA DATA ELEMENTS */
DETECTOR_TEMPERATURE = 18.5744
FOCAL_PLANE_TEMPERATURE = 8.7872
INST_CMPRS_NAME = "DISCRETE COSINE TRANSFORMATION (DCT)"
INST_CMPRS_RATIO = 2.72323
INST_CMPRS_QUALITY = 0
INST_CMPRS_QUANTZ_TBL_ID = 0
INSTRUMENT_TEMPERATURE = 11.6418
LENS_TEMPERATURE = 8.7872
MACROPIXEL_SIZE = 4
MISSING_FRAMES = 0
PIXEL_SUBSAMPLING_FLAG = N
SIGNAL_CHAIN_ID = 2
/* RADIOMETRIC DATA ELEMENTS */
BANDWIDTH = 76.0
CENTER_FILTER_WAVELENGTH = 444.0
RADIANCE_OFFSET = 0.82698
RADIANCE_SCALING_FACTOR = 0.0126248
REFLECTANCE_SCALING_FACTOR = 0.000554235
MEX:REFLECTANCE_OFFSET = 0.0363049
/* IMAGE OBJECT DEFINITIONS */
OBJECT = IMAGE
  INTERCHANGE_FORMAT = BINARY
  LINES = 6494
  LINE_SAMPLES = 3224
  SAMPLE_TYPE = UNSIGNED_INTEGER
  SAMPLE_BITS = 8
  BANDS = 1
  BAND_STORAGE_TYPE = BAND_SEQUENTIAL
  MAXIMUM = 255
  MEAN = 111.773
  MINIMUM = 1
  STANDARD_DEVIATION = 54.3624
END_OBJECT = IMAGE
/* MAP OBJECT DEFINITIONS */
OBJECT = IMAGE_MAP_PROJECTION
  ^DATA_SET_MAP_PROJECTION_CATALOG= "DSMAP.CAT"
  A_AXIS_RADIUS = 3396.0
  B_AXIS_RADIUS = 3396.0
  C_AXIS_RADIUS = 3396.0
  CENTER_LATITUDE = -79.9348
  CENTER_LONGITUDE = 206.807
  COORDINATE_SYSTEM_NAME = PLANETOGRAPHIC
  COORDINATE_SYSTEM_TYPE = "BODY-FIXED ROTATING"
  EASTERNMOST_LONGITUDE = 217.734
  FIRST_STANDARD_PARALLEL = "N/A"
  LINE_FIRST_PIXEL = 1
  LINE_LAST_PIXEL = 6494
  LINE_PROJECTION_OFFSET = 3240.375
  MAP_PROJECTION_ROTATION = 0.0
  MAP_PROJECTION_TYPE = ORTHOGRAPHIC
  MAP_RESOLUTION = 592.713803866667
  MAP_SCALE = 0.1
  MAXIMUM_LATITUDE = -74.45659999999999
  MINIMUM_LATITUDE = -85.3601
  POSITIVE_LONGITUDE_DIRECTION = EAST
  REFERENCE_LATITUDE = "N/A"
  REFERENCE_LONGITUDE = "N/A"
  SAMPLE_FIRST_PIXEL = 1
  SAMPLE_LAST_PIXEL = 3224
  SAMPLE_PROJECTION_OFFSET = 1555.875
  SECOND_STANDARD_PARALLEL = "N/A"
  WESTERNMOST_LONGITUDE = 180.182
END_OBJECT = IMAGE_MAP_PROJECTION
END
