PDS_VERSION_ID = PDS3
/* FILE DATA ELEMENTS */
RECORD_TYPE = UNDEFINED
/* POINTERS TO DATA OBJECTS */
^IMAGE = ("HP671_0000_BL4.TIF")
/* IDENTIFICATION DATA ELEMENTS */
DATA_SET_ID = "MEX-M-HRSC-4-REFDR-MAPPROJECT-EXT9-V4.0"
DATA_SET_NAME = "MARS EXPRESS HRSC MAP PROJECTED REFDR EXTENSION9 V4.0"
DETECTOR_ID = MEX_HRSC_BLUE
EVENT_TYPE = "MARS-REGIONAL-VARIABLE-Gl-La-Ot"
INSTRUMENT_HOST_ID = MEX
INSTRUMENT_HOST_NAME = "MARS EXPRESS"
INSTRUMENT_ID = HRSC
INSTRUMENT_NAME = "HIGH RESOLUTION STEREO CAMERA"
MISSION_NAME = "MARS EXPRESS"
MISSION_PHASE_NAME = ME_Phase_50
PROCESSING_LEVEL_ID = 4
PRODUCT_CREATION_TIME = 2024-08-21T01:11:59.000Z
PRODUCT_ID = "HP671_0000_BL4.TIF"
RELEASE_ID = 0014
REVISION_ID = 0000
/* QUALITY DATA ELEMENTS */
DATA_QUALITY_ID = 1
DATA_QUALITY_DESC = "Data calculated based on original SPICE kernels"
/* TIME DATA ELEMENTS */
SPACECRAFT_CLOCK_START_COUNT = "1/0662707921.00349"
SPACECRAFT_CLOCK_STOP_COUNT = "1/0662708221.15779"
START_TIME = 2024-05-02T05:33:52.098Z
STOP_TIME = 2024-05-02T05:36:31.435Z
/* ORBITAL DATA ELEMENTS */
ASCENDING_NODE_LONGITUDE = 98.24
MAXIMUM_RESOLUTION = 0.0906
FOOTPRINT_POINT_LATITUDE = (-83.0556,-83.1965,-83.4144,-83.6233, -83.8228,-84.0122,-84.1917,-84.3607, -84.3709,-84.3806,-83.9704,-83.6152, -83.3237,-83.0997,-82.9482,-82.7199, -82.564,-82.4075,-82.2505,-82.0913, -81.9306,-81.7695,-81.5247,-81.3596, -81.1942,-81.0284,-80.8623,-80.696, -80.5296,-80.3629,-80.1964,-79.9456, -79.7785,-79.6113,-79.444,-79.2767, -79.1093,-78.9419,-78.7745,-78.6072, -78.4398,-78.2725,-78.1053,-77.9381, -77.7708,-77.4367,-77.103,-76.7697, -76.437,-76.3538,-76.2984,-76.2612, -76.1949,-76.1509,-76.1045,-76.0556, -76.0043,-75.9435,-75.8868,-75.8124, -75.742,-75.6768,-75.6002,-75.5915, -75.5899,-75.9091,-76.1483,-76.4672, -76.7062,-77.0247,-77.3426,-77.6599, -77.8977,-78.0551,-78.213,-78.3711, -78.5276,-78.7628,-78.9191,-79.0751, -79.2313,-79.4634,-79.6175,-79.7709, -80.0012,-80.1533,-80.3049,-80.4552, -80.6776,-80.8242,-80.9692,-81.1135, -81.3962,-81.6022,-82.0023,-82.3187, -82.5665,-82.916,-82.9726,-83.0556)
FOOTPRINT_POINT_LONGITUDE = (278.078,279.143,280.92,282.793,284.765 ,286.838,289.02,291.313,291.46,291.277, 294.21,296.374,297.943,299.042,299.742, 300.73,301.366,301.974,302.555,303.118, 303.661,304.18,304.931,305.409,305.869, 306.311,306.737,307.146,307.54,307.92, 308.284,308.811,309.145,309.469,309.781 ,310.083,310.375,310.657,310.931, 311.196,311.453,311.702,311.943,312.177 ,312.404,312.839,313.25,313.638,314.005 ,314.093,314.152,313.405,312.179, 311.427,310.677,309.929,309.182,308.343 ,307.6,306.675,305.843,305.111,304.287, 304.194,304.161,303.686,303.306,302.783 ,302.37,301.799,301.191,300.548,300.05, 299.682,299.323,298.965,298.565,297.967 ,297.552,297.126,296.701,296.005, 295.523,295.025,294.269,293.732,293.181 ,292.603,291.696,291.091,290.454, 289.803,288.482,287.386,285.102,283.0, 281.239,278.371,277.866,278.078)
ORBIT_NUMBER = 25671
ORBITAL_ECCENTRICITY = 0.574
ORBITAL_INCLINATION = 87.08
ORBITAL_SEMIMAJOR_AXIS = 8772.14
PERIAPSIS_ALTITUDE = 360.07
PERIAPSIS_ARGUMENT_ANGLE = 244.26
PERIAPSIS_TIME = 2024-05-02T05:25:39.000Z
SPACECRAFT_ORIENTATION = (0.0,-1.0,0.0)
^MEX_ORIENTATION_DESC = "MEX_ORIENTATION_DESC.TXT"
SPACECRAFT_POINTING_MODE = ACROSSTRACK
^MEX_POINTING_DESC = "MEX_POINTING_DESC.TXT"
RIGHT_ASCENSION = -1e+32
DECLINATION = -1e+32
OFFSET_ANGLE = 1.374
SPACECRAFT_SOLAR_DISTANCE = 2.06712e+08
TARGET_NAME = MARS
/* CAMERA DATA ELEMENTS */
DETECTOR_TEMPERATURE = 18.5744
FOCAL_PLANE_TEMPERATURE = 8.7872
INST_CMPRS_NAME = "DISCRETE COSINE TRANSFORMATION (DCT)"
INST_CMPRS_RATIO = 7.34538
INST_CMPRS_QUALITY = 0
INST_CMPRS_QUANTZ_TBL_ID = 0
INSTRUMENT_TEMPERATURE = 11.6418
LENS_TEMPERATURE = 8.5833
MACROPIXEL_SIZE = 4
MISSING_FRAMES = 0
PIXEL_SUBSAMPLING_FLAG = N
SIGNAL_CHAIN_ID = 2
/* RADIOMETRIC DATA ELEMENTS */
BANDWIDTH = 76.0
CENTER_FILTER_WAVELENGTH = 444.0
RADIANCE_OFFSET = 1.84855
RADIANCE_SCALING_FACTOR = 0.0224169
REFLECTANCE_SCALING_FACTOR = 0.000984151
MEX:REFLECTANCE_OFFSET = 0.0811558
/* IMAGE OBJECT DEFINITIONS */
OBJECT = IMAGE
  INTERCHANGE_FORMAT = BINARY
  LINES = 5256
  LINE_SAMPLES = 3432
  SAMPLE_TYPE = UNSIGNED_INTEGER
  SAMPLE_BITS = 8
  BANDS = 1
  BAND_STORAGE_TYPE = BAND_SEQUENTIAL
  MAXIMUM = 255
  MEAN = 139.4
  MINIMUM = 1
  STANDARD_DEVIATION = 24.1256
END_OBJECT = IMAGE
/* MAP OBJECT DEFINITIONS */
OBJECT = IMAGE_MAP_PROJECTION
  ^DATA_SET_MAP_PROJECTION_CATALOG= "DSMAP.CAT"
  A_AXIS_RADIUS = 3396.0
  B_AXIS_RADIUS = 3396.0
  C_AXIS_RADIUS = 3396.0
  CENTER_LATITUDE = -80.13500000000001
  CENTER_LONGITUDE = 301.396
  COORDINATE_SYSTEM_NAME = PLANETOGRAPHIC
  COORDINATE_SYSTEM_TYPE = "BODY-FIXED ROTATING"
  EASTERNMOST_LONGITUDE = 314.152
  FIRST_STANDARD_PARALLEL = "N/A"
  LINE_FIRST_PIXEL = 1
  LINE_LAST_PIXEL = 5256
  LINE_PROJECTION_OFFSET = 2682.375
  MAP_PROJECTION_ROTATION = 0.0
  MAP_PROJECTION_TYPE = ORTHOGRAPHIC
  MAP_RESOLUTION = 592.713803866667
  MAP_SCALE = 0.1
  MAXIMUM_LATITUDE = -75.5899
  MINIMUM_LATITUDE = -84.3806
  POSITIVE_LONGITUDE_DIRECTION = EAST
  REFERENCE_LATITUDE = "N/A"
  REFERENCE_LONGITUDE = "N/A"
  SAMPLE_FIRST_PIXEL = 1
  SAMPLE_LAST_PIXEL = 3432
  SAMPLE_PROJECTION_OFFSET = 1662.375
  SECOND_STANDARD_PARALLEL = "N/A"
  WESTERNMOST_LONGITUDE = 277.866
END_OBJECT = IMAGE_MAP_PROJECTION
END
