PDS_VERSION_ID = PDS3
/* FILE DATA ELEMENTS */
RECORD_TYPE = UNDEFINED
/* POINTERS TO DATA OBJECTS */
^IMAGE = ("HP666_0000_S14.TIF")
/* IDENTIFICATION DATA ELEMENTS */
DATA_SET_ID = "MEX-M-HRSC-4-REFDR-MAPPROJECT-EXT9-V4.0"
DATA_SET_NAME = "MARS EXPRESS HRSC MAP PROJECTED REFDR EXTENSION9 V4.0"
DETECTOR_ID = MEX_HRSC_S1
EVENT_TYPE = "MARS-REGIONAL-MAPPING-Gl-Pf-La"
INSTRUMENT_HOST_ID = MEX
INSTRUMENT_HOST_NAME = "MARS EXPRESS"
INSTRUMENT_ID = HRSC
INSTRUMENT_NAME = "HIGH RESOLUTION STEREO CAMERA"
MISSION_NAME = "MARS EXPRESS"
MISSION_PHASE_NAME = ME_Phase_50
PROCESSING_LEVEL_ID = 4
PRODUCT_CREATION_TIME = 2024-08-21T01:11:59.000Z
PRODUCT_ID = "HP666_0000_S14.TIF"
RELEASE_ID = 0014
REVISION_ID = 0000
/* QUALITY DATA ELEMENTS */
DATA_QUALITY_ID = 1
DATA_QUALITY_DESC = "Data calculated based on original SPICE kernels"
/* TIME DATA ELEMENTS */
SPACECRAFT_CLOCK_START_COUNT = "1/0662582070.65110"
SPACECRAFT_CLOCK_STOP_COUNT = "1/0662582455.33067"
START_TIME = 2024-04-30T18:35:19.257Z
STOP_TIME = 2024-04-30T18:39:14.577Z
/* ORBITAL DATA ELEMENTS */
ASCENDING_NODE_LONGITUDE = 98.33
MAXIMUM_RESOLUTION = 0.0373
FOOTPRINT_POINT_LATITUDE = (-84.8,-85.2627,-85.6266,-85.9643, -85.9743,-86.0329,-86.5321,-86.7956, -86.9447,-87.061,-87.08,-87.0718, -87.0357,-86.9724,-86.8839,-86.7698, -86.6339,-86.4784,-86.3043,-86.1131, -85.9102,-85.6937,-85.4651,-85.1072, -84.7268,-84.4662,-84.06,-83.7823, -83.4976,-83.2134,-82.9288,-82.4979, -82.0631,-81.777,-81.4857,-81.1933, -80.8988,-80.6031,-80.3072,-79.8617, -79.5621,-79.2593,-78.9612,-78.6631, -78.3652,-78.0671,-77.7687,-77.4709, -77.3231,-77.3041,-77.1762,-77.0842, -76.9262,-76.78,-76.6389,-76.6298, -76.6272,-76.9153,-77.1995,-77.4865, -77.7729,-78.2002,-78.4851,-78.7678, -79.1912,-79.4716,-79.7506,-80.0271, -80.3043,-80.5783,-80.8507,-81.1196, -81.3884,-81.6533,-81.9157,-82.1747, -82.5545,-82.9229,-83.16,-83.3895, -83.6103,-83.9244,-84.1201,-84.3068, -84.5637,-84.7175,-84.8601,-84.988, -85.1515,-85.2423,-85.3139,-85.3681, -85.4052,-85.4248,-85.4112,-85.3284, -85.1843,-84.8663,-84.8038,-84.8)
FOOTPRINT_POINT_LONGITUDE = (358.187,354.357,350.615,346.309, 346.164,347.03,356.955,365.254,372.439, 382.947,388.435,394.013,399.54,404.906, 410.003,414.867,419.373,423.513,427.32, 430.806,433.934,436.79,439.39,442.818, 445.819,447.585,449.974,451.398,452.715 ,453.905,454.989,456.457,457.762, 458.537,459.27,459.953,460.593,461.192, 461.753,462.532,463.016,463.477,463.903 ,464.306,464.686,465.047,465.389, 465.713,465.868,465.887,463.627,462.196 ,460.074,458.332,456.868,456.782,456.75 ,456.315,455.857,455.378,454.874, 454.068,453.496,452.892,451.924,451.232 ,450.5,449.725,448.903,448.031,447.104, 446.118,445.066,443.945,442.748,441.468 ,439.377,437.057,435.373,433.591,431.69 ,428.599,426.389,424.027,420.235,417.54 ,414.678,411.698,406.981,403.651, 400.282,396.836,393.314,389.761,382.739 ,375.902,369.522,360.923,359.608, 358.187)
ORBIT_NUMBER = 25666
ORBITAL_ECCENTRICITY = 0.574
ORBITAL_INCLINATION = 87.08
ORBITAL_SEMIMAJOR_AXIS = 8768.98
PERIAPSIS_ALTITUDE = 359.56
PERIAPSIS_ARGUMENT_ANGLE = 245.09
PERIAPSIS_TIME = 2024-04-30T18:30:11.000Z
SPACECRAFT_ORIENTATION = (0.0,-1.0,0.0)
^MEX_ORIENTATION_DESC = "MEX_ORIENTATION_DESC.TXT"
SPACECRAFT_POINTING_MODE = ACROSSTRACK
^MEX_POINTING_DESC = "MEX_POINTING_DESC.TXT"
RIGHT_ASCENSION = -1e+32
DECLINATION = -1e+32
OFFSET_ANGLE = 0.808
SPACECRAFT_SOLAR_DISTANCE = 2.06734e+08
TARGET_NAME = MARS
/* CAMERA DATA ELEMENTS */
DETECTOR_TEMPERATURE = 17.7588
FOCAL_PLANE_TEMPERATURE = 8.7872
INST_CMPRS_NAME = "DISCRETE COSINE TRANSFORMATION (DCT)"
INST_CMPRS_RATIO = 7.75185
INST_CMPRS_QUALITY = 0
INST_CMPRS_QUANTZ_TBL_ID = 0
INSTRUMENT_TEMPERATURE = 11.4379
LENS_TEMPERATURE = 9.195
MACROPIXEL_SIZE = 2
MISSING_FRAMES = 0
PIXEL_SUBSAMPLING_FLAG = N
SIGNAL_CHAIN_ID = 1
/* RADIOMETRIC DATA ELEMENTS */
BANDWIDTH = 180.0
CENTER_FILTER_WAVELENGTH = 677.0
RADIANCE_OFFSET = 6.60301
RADIANCE_SCALING_FACTOR = 0.0488005
REFLECTANCE_SCALING_FACTOR = 0.00108815
MEX:REFLECTANCE_OFFSET = 0.147234
/* IMAGE OBJECT DEFINITIONS */
OBJECT = IMAGE
  INTERCHANGE_FORMAT = BINARY
  LINES = 31260
  LINE_SAMPLES = 24824
  SAMPLE_TYPE = UNSIGNED_INTEGER
  SAMPLE_BITS = 8
  BANDS = 1
  BAND_STORAGE_TYPE = BAND_SEQUENTIAL
  MAXIMUM = 255
  MEAN = 105.224
  MINIMUM = 1
  STANDARD_DEVIATION = 45.8724
END_OBJECT = IMAGE
/* MAP OBJECT DEFINITIONS */
OBJECT = IMAGE_MAP_PROJECTION
  ^DATA_SET_MAP_PROJECTION_CATALOG= "DSMAP.CAT"
  A_AXIS_RADIUS = 3396.0
  B_AXIS_RADIUS = 3396.0
  C_AXIS_RADIUS = 3396.0
  CENTER_LATITUDE = -83.756
  CENTER_LONGITUDE = 81.62520000000001
  COORDINATE_SYSTEM_NAME = PLANETOGRAPHIC
  COORDINATE_SYSTEM_TYPE = "BODY-FIXED ROTATING"
  EASTERNMOST_LONGITUDE = 105.887
  FIRST_STANDARD_PARALLEL = "N/A"
  LINE_FIRST_PIXEL = 1
  LINE_LAST_PIXEL = 31260
  LINE_PROJECTION_OFFSET = 15866.25
  MAP_PROJECTION_ROTATION = 0.0
  MAP_PROJECTION_TYPE = ORTHOGRAPHIC
  MAP_RESOLUTION = 2370.85521546667
  MAP_SCALE = 0.025
  MAXIMUM_LATITUDE = -76.6272
  MINIMUM_LATITUDE = -87.08
  POSITIVE_LONGITUDE_DIRECTION = EAST
  REFERENCE_LATITUDE = "N/A"
  REFERENCE_LONGITUDE = "N/A"
  SAMPLE_FIRST_PIXEL = 1
  SAMPLE_LAST_PIXEL = 24824
  SAMPLE_PROJECTION_OFFSET = 12283.25
  SECOND_STANDARD_PARALLEL = "N/A"
  WESTERNMOST_LONGITUDE = -13.836
END_OBJECT = IMAGE_MAP_PROJECTION
END
