PDS_VERSION_ID = PDS3
/* FILE DATA ELEMENTS */
RECORD_TYPE = UNDEFINED
/* POINTERS TO DATA OBJECTS */
^IMAGE = ("HP666_0000_RE4.TIF")
/* IDENTIFICATION DATA ELEMENTS */
DATA_SET_ID = "MEX-M-HRSC-4-REFDR-MAPPROJECT-EXT9-V4.0"
DATA_SET_NAME = "MARS EXPRESS HRSC MAP PROJECTED REFDR EXTENSION9 V4.0"
DETECTOR_ID = MEX_HRSC_RED
EVENT_TYPE = "MARS-REGIONAL-MAPPING-Gl-Pf-La"
INSTRUMENT_HOST_ID = MEX
INSTRUMENT_HOST_NAME = "MARS EXPRESS"
INSTRUMENT_ID = HRSC
INSTRUMENT_NAME = "HIGH RESOLUTION STEREO CAMERA"
MISSION_NAME = "MARS EXPRESS"
MISSION_PHASE_NAME = ME_Phase_50
PROCESSING_LEVEL_ID = 4
PRODUCT_CREATION_TIME = 2024-08-21T01:11:59.000Z
PRODUCT_ID = "HP666_0000_RE4.TIF"
RELEASE_ID = 0014
REVISION_ID = 0000
/* QUALITY DATA ELEMENTS */
DATA_QUALITY_ID = 1
DATA_QUALITY_DESC = "Data calculated based on original SPICE kernels"
/* TIME DATA ELEMENTS */
SPACECRAFT_CLOCK_START_COUNT = "1/0662582070.65110"
SPACECRAFT_CLOCK_STOP_COUNT = "1/0662582455.33067"
START_TIME = 2024-04-30T18:36:41.865Z
STOP_TIME = 2024-04-30T18:41:25.616Z
/* ORBITAL DATA ELEMENTS */
ASCENDING_NODE_LONGITUDE = 98.33
MAXIMUM_RESOLUTION = 0.0819
FOOTPRINT_POINT_LATITUDE = (-84.8052,-85.3985,-85.8254,-86.2273, -86.2394,-86.1958,-86.3947,-86.5806, -86.7416,-86.8912,-87.0112,-87.1347, -87.1764,-87.1823,-87.1525,-87.0885, -86.993,-86.7969,-86.6367,-86.4569, -86.2596,-86.0489,-85.7106,-85.474, -85.2302,-84.9797,-84.7246,-84.4654, -84.2034,-83.9402,-83.6764,-83.407, -82.9989,-82.7254,-82.4508,-82.1759, -81.8949,-81.618,-81.3411,-81.0644, -80.7885,-80.5124,-80.2367,-79.6873, -78.8713,-78.3251,-77.7817,-77.3763, -77.2398,-77.21,-77.0943,-77.0252, -76.9593,-76.8755,-76.7549,-76.6034, -76.5955,-76.5938,-77.242,-77.7601, -78.2788,-78.7969,-79.3138,-79.8285, -80.0863,-80.3399,-80.5941,-80.9724, -81.3466,-81.5936,-81.838,-82.0799, -82.3185,-82.5539,-82.7854,-83.0126, -83.2349,-83.4512,-83.6612,-83.8638, -84.0582,-84.2434,-84.4184,-84.5819, -84.8025,-84.9317,-85.0453,-85.1414, -85.2188,-85.2762,-85.3131,-85.3281, -85.3142,-85.2496,-85.1812,-85.0936, -84.9891,-84.802,-84.7257,-84.8052)
FOOTPRINT_POINT_LONGITUDE = (360.16,356.447,352.974,348.779,348.634 ,347.751,351.353,355.426,359.757, 364.907,370.382,379.286,385.66,392.124, 398.522,404.686,410.491,418.403,423.083 ,427.295,431.083,434.46,438.871,441.423 ,443.709,445.766,447.617,449.291, 450.804,452.176,453.422,454.576,456.134 ,457.071,457.937,458.738,459.491, 460.184,460.83,461.433,461.997,462.526, 463.023,463.931,465.111,465.801,466.424 ,466.852,466.989,467.019,464.161, 462.689,461.434,459.976,458.124,455.96, 455.858,455.823,454.798,453.894,452.894 ,451.789,450.562,449.195,448.437, 447.667,446.833,445.489,444.022,442.964 ,441.841,440.641,439.365,437.995,436.53 ,434.956,433.266,431.46,429.523,427.446 ,425.221,422.838,420.291,417.579, 413.155,410.012,406.715,403.257,399.65, 395.919,392.103,388.225,382.45,376.773, 373.11,369.583,366.225,361.479,359.957, 360.16)
ORBIT_NUMBER = 25666
ORBITAL_ECCENTRICITY = 0.574
ORBITAL_INCLINATION = 87.08
ORBITAL_SEMIMAJOR_AXIS = 8768.98
PERIAPSIS_ALTITUDE = 359.56
PERIAPSIS_ARGUMENT_ANGLE = 245.09
PERIAPSIS_TIME = 2024-04-30T18:30:11.000Z
SPACECRAFT_ORIENTATION = (0.0,-1.0,0.0)
^MEX_ORIENTATION_DESC = "MEX_ORIENTATION_DESC.TXT"
SPACECRAFT_POINTING_MODE = ACROSSTRACK
^MEX_POINTING_DESC = "MEX_POINTING_DESC.TXT"
RIGHT_ASCENSION = -1e+32
DECLINATION = -1e+32
OFFSET_ANGLE = 0.808
SPACECRAFT_SOLAR_DISTANCE = 2.06734e+08
TARGET_NAME = MARS
/* CAMERA DATA ELEMENTS */
DETECTOR_TEMPERATURE = 18.5744
FOCAL_PLANE_TEMPERATURE = 8.7872
INST_CMPRS_NAME = "DISCRETE COSINE TRANSFORMATION (DCT)"
INST_CMPRS_RATIO = 10.6327
INST_CMPRS_QUALITY = 0
INST_CMPRS_QUANTZ_TBL_ID = 0
INSTRUMENT_TEMPERATURE = 11.4379
LENS_TEMPERATURE = 9.195
MACROPIXEL_SIZE = 4
MISSING_FRAMES = 0
PIXEL_SUBSAMPLING_FLAG = N
SIGNAL_CHAIN_ID = 2
/* RADIOMETRIC DATA ELEMENTS */
BANDWIDTH = 48.0
CENTER_FILTER_WAVELENGTH = 748.0
RADIANCE_OFFSET = 1.72183
RADIANCE_SCALING_FACTOR = 0.0106107
REFLECTANCE_SCALING_FACTOR = 0.00103489
MEX:REFLECTANCE_OFFSET = 0.167934
/* IMAGE OBJECT DEFINITIONS */
OBJECT = IMAGE
  INTERCHANGE_FORMAT = BINARY
  LINES = 15630
  LINE_SAMPLES = 12412
  SAMPLE_TYPE = UNSIGNED_INTEGER
  SAMPLE_BITS = 8
  BANDS = 1
  BAND_STORAGE_TYPE = BAND_SEQUENTIAL
  MAXIMUM = 255
  MEAN = 107.218
  MINIMUM = 1
  STANDARD_DEVIATION = 46.46
END_OBJECT = IMAGE
/* MAP OBJECT DEFINITIONS */
OBJECT = IMAGE_MAP_PROJECTION
  ^DATA_SET_MAP_PROJECTION_CATALOG= "DSMAP.CAT"
  A_AXIS_RADIUS = 3396.0
  B_AXIS_RADIUS = 3396.0
  C_AXIS_RADIUS = 3396.0
  CENTER_LATITUDE = -83.756
  CENTER_LONGITUDE = 81.62520000000001
  COORDINATE_SYSTEM_NAME = PLANETOGRAPHIC
  COORDINATE_SYSTEM_TYPE = "BODY-FIXED ROTATING"
  EASTERNMOST_LONGITUDE = 107.019
  FIRST_STANDARD_PARALLEL = "N/A"
  LINE_FIRST_PIXEL = 1
  LINE_LAST_PIXEL = 15630
  LINE_PROJECTION_OFFSET = 7932.875
  MAP_PROJECTION_ROTATION = 0.0
  MAP_PROJECTION_TYPE = ORTHOGRAPHIC
  MAP_RESOLUTION = 1185.42760773333
  MAP_SCALE = 0.05
  MAXIMUM_LATITUDE = -76.5938
  MINIMUM_LATITUDE = -87.1823
  POSITIVE_LONGITUDE_DIRECTION = EAST
  REFERENCE_LATITUDE = "N/A"
  REFERENCE_LONGITUDE = "N/A"
  SAMPLE_FIRST_PIXEL = 1
  SAMPLE_LAST_PIXEL = 12412
  SAMPLE_PROJECTION_OFFSET = 6141.375
  SECOND_STANDARD_PARALLEL = "N/A"
  WESTERNMOST_LONGITUDE = -12.249
END_OBJECT = IMAGE_MAP_PROJECTION
END
