PDS_VERSION_ID = PDS3
/* FILE DATA ELEMENTS */
RECORD_TYPE = UNDEFINED
/* POINTERS TO DATA OBJECTS */
^IMAGE = ("HP666_0000_P24.TIF")
/* IDENTIFICATION DATA ELEMENTS */
DATA_SET_ID = "MEX-M-HRSC-4-REFDR-MAPPROJECT-EXT9-V4.0"
DATA_SET_NAME = "MARS EXPRESS HRSC MAP PROJECTED REFDR EXTENSION9 V4.0"
DETECTOR_ID = MEX_HRSC_P2
EVENT_TYPE = "MARS-REGIONAL-MAPPING-Gl-Pf-La"
INSTRUMENT_HOST_ID = MEX
INSTRUMENT_HOST_NAME = "MARS EXPRESS"
INSTRUMENT_ID = HRSC
INSTRUMENT_NAME = "HIGH RESOLUTION STEREO CAMERA"
MISSION_NAME = "MARS EXPRESS"
MISSION_PHASE_NAME = ME_Phase_50
PROCESSING_LEVEL_ID = 4
PRODUCT_CREATION_TIME = 2024-08-21T01:11:59.000Z
PRODUCT_ID = "HP666_0000_P24.TIF"
RELEASE_ID = 0014
REVISION_ID = 0000
/* QUALITY DATA ELEMENTS */
DATA_QUALITY_ID = 1
DATA_QUALITY_DESC = "Data calculated based on original SPICE kernels"
/* TIME DATA ELEMENTS */
SPACECRAFT_CLOCK_START_COUNT = "1/0662582070.65110"
SPACECRAFT_CLOCK_STOP_COUNT = "1/0662582455.33067"
START_TIME = 2024-04-30T18:36:33.225Z
STOP_TIME = 2024-04-30T18:41:10.317Z
/* ORBITAL DATA ELEMENTS */
ASCENDING_NODE_LONGITUDE = 98.33
MAXIMUM_RESOLUTION = 0.0398
FOOTPRINT_POINT_LATITUDE = (-84.8077,-85.3565,-85.7932,-86.2031, -86.2154,-86.1818,-86.3793,-86.5604, -86.7993,-86.9315,-87.0374,-87.1155, -87.1613,-87.1732,-87.15,-87.0925, -87.0033,-86.885,-86.7411,-86.5755, -86.391,-86.1905,-85.9767,-85.6353, -85.3971,-85.1518,-84.9005,-84.6443, -84.3844,-84.1215,-83.8574,-83.5921, -83.3217,-83.0495,-82.7757,-82.501, -82.2257,-81.9457,-81.6681,-81.3906, -81.113,-80.5589,-80.0055,-79.4553, -79.0447,-78.4946,-77.9461,-77.4006, -77.2643,-77.2245,-77.1654,-77.0762, -76.9997,-76.8955,-76.7275,-76.6129, -76.6048,-76.6023,-77.2562,-77.7786, -78.3013,-78.8229,-79.3429,-79.8603, -80.1188,-80.6292,-81.0088,-81.2594, -81.5083,-81.7547,-81.9983,-82.239, -82.4763,-82.7098,-82.9392,-83.1636, -83.3825,-83.595,-83.8006,-83.9982, -84.1869,-84.3657,-84.5335,-84.689, -84.8306,-85.0154,-85.1183,-85.2028, -85.2678,-85.3127,-85.3363,-85.3387, -85.3063,-85.2572,-85.1894,-85.1028, -84.9424,-84.8168,-84.7418,-84.8077)
FOOTPRINT_POINT_LONGITUDE = (359.99,356.494,352.91,348.578,348.429, 347.71,351.268,355.203,361.95,367.017, 372.482,378.39,384.557,390.913,397.282, 403.454,409.292,414.734,419.724,424.241 ,428.308,431.956,435.217,439.477, 441.946,444.162,446.156,447.956,449.583 ,451.059,452.398,453.619,454.748, 455.785,456.741,457.623,458.44,459.205, 459.911,460.568,461.182,462.295,463.276 ,464.146,464.737,465.455,466.103,466.69 ,466.828,466.868,465.358,463.429, 461.938,460.14,457.634,456.066,455.963, 455.925,454.89,453.978,452.968,451.853, 450.614,449.234,448.469,446.847,445.49, 444.52,443.48,442.378,441.206,439.955, 438.619,437.188,435.651,434.003,432.238 ,430.35,428.324,426.152,423.829,421.341 ,418.691,415.867,412.851,408.047, 404.651,401.099,397.418,393.641,389.792 ,385.934,380.289,376.571,372.999,369.53 ,364.636,361.571,360.067,359.99)
ORBIT_NUMBER = 25666
ORBITAL_ECCENTRICITY = 0.574
ORBITAL_INCLINATION = 87.08
ORBITAL_SEMIMAJOR_AXIS = 8768.98
PERIAPSIS_ALTITUDE = 359.56
PERIAPSIS_ARGUMENT_ANGLE = 245.09
PERIAPSIS_TIME = 2024-04-30T18:30:11.000Z
SPACECRAFT_ORIENTATION = (0.0,-1.0,0.0)
^MEX_ORIENTATION_DESC = "MEX_ORIENTATION_DESC.TXT"
SPACECRAFT_POINTING_MODE = ACROSSTRACK
^MEX_POINTING_DESC = "MEX_POINTING_DESC.TXT"
RIGHT_ASCENSION = -1e+32
DECLINATION = -1e+32
OFFSET_ANGLE = 0.808
SPACECRAFT_SOLAR_DISTANCE = 2.06734e+08
TARGET_NAME = MARS
/* CAMERA DATA ELEMENTS */
DETECTOR_TEMPERATURE = 18.5744
FOCAL_PLANE_TEMPERATURE = 8.7872
INST_CMPRS_NAME = "DISCRETE COSINE TRANSFORMATION (DCT)"
INST_CMPRS_RATIO = 5.34395
INST_CMPRS_QUALITY = 0
INST_CMPRS_QUANTZ_TBL_ID = 0
INSTRUMENT_TEMPERATURE = 11.4379
LENS_TEMPERATURE = 9.195
MACROPIXEL_SIZE = 2
MISSING_FRAMES = 0
PIXEL_SUBSAMPLING_FLAG = N
SIGNAL_CHAIN_ID = 3
/* RADIOMETRIC DATA ELEMENTS */
BANDWIDTH = 177.0
CENTER_FILTER_WAVELENGTH = 676.5
RADIANCE_OFFSET = 5.94009
RADIANCE_SCALING_FACTOR = 0.0440322
REFLECTANCE_SCALING_FACTOR = 0.000997817
MEX:REFLECTANCE_OFFSET = 0.134609
/* IMAGE OBJECT DEFINITIONS */
OBJECT = IMAGE
  INTERCHANGE_FORMAT = BINARY
  LINES = 31260
  LINE_SAMPLES = 24824
  SAMPLE_TYPE = UNSIGNED_INTEGER
  SAMPLE_BITS = 8
  BANDS = 1
  BAND_STORAGE_TYPE = BAND_SEQUENTIAL
  MAXIMUM = 255
  MEAN = 105.164
  MINIMUM = 1
  STANDARD_DEVIATION = 46.3991
END_OBJECT = IMAGE
/* MAP OBJECT DEFINITIONS */
OBJECT = IMAGE_MAP_PROJECTION
  ^DATA_SET_MAP_PROJECTION_CATALOG= "DSMAP.CAT"
  A_AXIS_RADIUS = 3396.0
  B_AXIS_RADIUS = 3396.0
  C_AXIS_RADIUS = 3396.0
  CENTER_LATITUDE = -83.756
  CENTER_LONGITUDE = 81.62520000000001
  COORDINATE_SYSTEM_NAME = PLANETOGRAPHIC
  COORDINATE_SYSTEM_TYPE = "BODY-FIXED ROTATING"
  EASTERNMOST_LONGITUDE = 106.868
  FIRST_STANDARD_PARALLEL = "N/A"
  LINE_FIRST_PIXEL = 1
  LINE_LAST_PIXEL = 31260
  LINE_PROJECTION_OFFSET = 15866.25
  MAP_PROJECTION_ROTATION = 0.0
  MAP_PROJECTION_TYPE = ORTHOGRAPHIC
  MAP_RESOLUTION = 2370.85521546667
  MAP_SCALE = 0.025
  MAXIMUM_LATITUDE = -76.6023
  MINIMUM_LATITUDE = -87.17319999999999
  POSITIVE_LONGITUDE_DIRECTION = EAST
  REFERENCE_LATITUDE = "N/A"
  REFERENCE_LONGITUDE = "N/A"
  SAMPLE_FIRST_PIXEL = 1
  SAMPLE_LAST_PIXEL = 24824
  SAMPLE_PROJECTION_OFFSET = 12283.25
  SECOND_STANDARD_PARALLEL = "N/A"
  WESTERNMOST_LONGITUDE = -12.29
END_OBJECT = IMAGE_MAP_PROJECTION
END
