PDS_VERSION_ID = PDS3
/* FILE DATA ELEMENTS */
RECORD_TYPE = UNDEFINED
/* POINTERS TO DATA OBJECTS */
^IMAGE = ("HP666_0000_IR4.TIF")
/* IDENTIFICATION DATA ELEMENTS */
DATA_SET_ID = "MEX-M-HRSC-4-REFDR-MAPPROJECT-EXT9-V4.0"
DATA_SET_NAME = "MARS EXPRESS HRSC MAP PROJECTED REFDR EXTENSION9 V4.0"
DETECTOR_ID = MEX_HRSC_IR
EVENT_TYPE = "MARS-REGIONAL-MAPPING-Gl-Pf-La"
INSTRUMENT_HOST_ID = MEX
INSTRUMENT_HOST_NAME = "MARS EXPRESS"
INSTRUMENT_ID = HRSC
INSTRUMENT_NAME = "HIGH RESOLUTION STEREO CAMERA"
MISSION_NAME = "MARS EXPRESS"
MISSION_PHASE_NAME = ME_Phase_50
PROCESSING_LEVEL_ID = 4
PRODUCT_CREATION_TIME = 2024-08-21T01:11:59.000Z
PRODUCT_ID = "HP666_0000_IR4.TIF"
RELEASE_ID = 0014
REVISION_ID = 0000
/* QUALITY DATA ELEMENTS */
DATA_QUALITY_ID = 1
DATA_QUALITY_DESC = "Data calculated based on original SPICE kernels"
/* TIME DATA ELEMENTS */
SPACECRAFT_CLOCK_START_COUNT = "1/0662582070.65110"
SPACECRAFT_CLOCK_STOP_COUNT = "1/0662582455.33067"
START_TIME = 2024-04-30T18:35:26.196Z
STOP_TIME = 2024-04-30T18:39:24.691Z
/* ORBITAL DATA ELEMENTS */
ASCENDING_NODE_LONGITUDE = 98.33
MAXIMUM_RESOLUTION = 0.074
FOOTPRINT_POINT_LATITUDE = (-84.8025,-85.3003,-85.6546,-85.9845, -85.9944,-86.0425,-86.3909,-86.7488, -87.0233,-87.0777,-87.0796,-87.0535, -86.9619,-86.8678,-86.7502,-86.6096, -86.4481,-86.2703,-85.9728,-85.7581, -85.533,-85.2947,-85.0488,-84.6651, -84.3992,-84.1283,-83.8531,-83.5724, -83.1485,-82.865,-82.4359,-82.0038, -81.5732,-81.2828,-80.9908,-80.6973, -80.4038,-79.9619,-79.6661,-79.3672, -79.0699,-78.774,-78.4786,-78.183, -77.8872,-77.4446,-77.2972,-77.2948, -77.1846,-77.093,-77.0093,-76.9054, -76.7498,-76.6377,-76.6299,-76.6284, -76.9127,-77.3375,-77.6218,-77.9053, -78.1874,-78.4699,-78.7506,-79.1706, -79.4489,-79.726,-80.1379,-80.5481, -80.8187,-81.0863,-81.353,-81.6165, -81.8777,-82.2625,-82.5136,-82.76, -83.0005,-83.2343,-83.4637,-83.6832, -83.9928,-84.1881,-84.3699,-84.5411, -84.699,-84.8416,-84.9724,-85.0869, -85.1872,-85.2695,-85.3346,-85.3811, -85.4181,-85.4053,-85.3228,-85.2183, -85.0308,-84.8551,-84.7909,-84.8025)
FOOTPRINT_POINT_LONGITUDE = (358.35,354.303,350.703,346.567,346.428 ,347.16,353.586,363.444,378.176,386.403 ,392.021,397.58,405.736,410.872,415.666 ,420.146,424.291,428.041,433.071,436.03 ,438.699,441.149,443.354,446.292, 448.043,449.632,451.082,452.414,454.192 ,455.249,456.683,457.957,459.084, 459.777,460.425,461.033,461.601,462.389 ,462.877,463.341,463.776,464.184, 464.569,464.934,465.28,465.766,465.919, 465.922,463.9,462.417,461.206,459.834, 457.971,456.796,456.713,456.684,456.251 ,455.562,455.075,454.563,454.024, 453.458,452.86,451.901,451.217,450.493, 449.326,448.053,447.138,446.164,445.127 ,444.022,442.843,440.919,439.524, 438.029,436.427,434.709,432.864,430.904 ,427.732,425.432,423.021,420.45,417.727 ,414.894,411.893,408.75,405.505,402.148 ,398.685,395.188,389.87,382.76,375.924, 371.005,364.966,360.805,359.463,358.35)
ORBIT_NUMBER = 25666
ORBITAL_ECCENTRICITY = 0.574
ORBITAL_INCLINATION = 87.08
ORBITAL_SEMIMAJOR_AXIS = 8768.98
PERIAPSIS_ALTITUDE = 359.56
PERIAPSIS_ARGUMENT_ANGLE = 245.09
PERIAPSIS_TIME = 2024-04-30T18:30:11.000Z
SPACECRAFT_ORIENTATION = (0.0,-1.0,0.0)
^MEX_ORIENTATION_DESC = "MEX_ORIENTATION_DESC.TXT"
SPACECRAFT_POINTING_MODE = ACROSSTRACK
^MEX_POINTING_DESC = "MEX_POINTING_DESC.TXT"
RIGHT_ASCENSION = -1e+32
DECLINATION = -1e+32
OFFSET_ANGLE = 0.808
SPACECRAFT_SOLAR_DISTANCE = 2.06734e+08
TARGET_NAME = MARS
/* CAMERA DATA ELEMENTS */
DETECTOR_TEMPERATURE = 17.7588
FOCAL_PLANE_TEMPERATURE = 8.7872
INST_CMPRS_NAME = "DISCRETE COSINE TRANSFORMATION (DCT)"
INST_CMPRS_RATIO = 9.79877
INST_CMPRS_QUALITY = 0
INST_CMPRS_QUANTZ_TBL_ID = 0
INSTRUMENT_TEMPERATURE = 11.4379
LENS_TEMPERATURE = 9.195
MACROPIXEL_SIZE = 4
MISSING_FRAMES = 0
PIXEL_SUBSAMPLING_FLAG = N
SIGNAL_CHAIN_ID = 2
/* RADIOMETRIC DATA ELEMENTS */
BANDWIDTH = 81.0
CENTER_FILTER_WAVELENGTH = 955.5
RADIANCE_OFFSET = 1.52436
RADIANCE_SCALING_FACTOR = 0.0107067
REFLECTANCE_SCALING_FACTOR = 0.000987205
MEX:REFLECTANCE_OFFSET = 0.140553
/* IMAGE OBJECT DEFINITIONS */
OBJECT = IMAGE
  INTERCHANGE_FORMAT = BINARY
  LINES = 15630
  LINE_SAMPLES = 12412
  SAMPLE_TYPE = UNSIGNED_INTEGER
  SAMPLE_BITS = 8
  BANDS = 1
  BAND_STORAGE_TYPE = BAND_SEQUENTIAL
  MAXIMUM = 255
  MEAN = 106.57
  MINIMUM = 1
  STANDARD_DEVIATION = 45.7188
END_OBJECT = IMAGE
/* MAP OBJECT DEFINITIONS */
OBJECT = IMAGE_MAP_PROJECTION
  ^DATA_SET_MAP_PROJECTION_CATALOG= "DSMAP.CAT"
  A_AXIS_RADIUS = 3396.0
  B_AXIS_RADIUS = 3396.0
  C_AXIS_RADIUS = 3396.0
  CENTER_LATITUDE = -83.756
  CENTER_LONGITUDE = 81.62520000000001
  COORDINATE_SYSTEM_NAME = PLANETOGRAPHIC
  COORDINATE_SYSTEM_TYPE = "BODY-FIXED ROTATING"
  EASTERNMOST_LONGITUDE = 105.922
  FIRST_STANDARD_PARALLEL = "N/A"
  LINE_FIRST_PIXEL = 1
  LINE_LAST_PIXEL = 15630
  LINE_PROJECTION_OFFSET = 7932.875
  MAP_PROJECTION_ROTATION = 0.0
  MAP_PROJECTION_TYPE = ORTHOGRAPHIC
  MAP_RESOLUTION = 1185.42760773333
  MAP_SCALE = 0.05
  MAXIMUM_LATITUDE = -76.6284
  MINIMUM_LATITUDE = -87.0796
  POSITIVE_LONGITUDE_DIRECTION = EAST
  REFERENCE_LATITUDE = "N/A"
  REFERENCE_LONGITUDE = "N/A"
  SAMPLE_FIRST_PIXEL = 1
  SAMPLE_LAST_PIXEL = 12412
  SAMPLE_PROJECTION_OFFSET = 6141.375
  SECOND_STANDARD_PARALLEL = "N/A"
  WESTERNMOST_LONGITUDE = -13.572
END_OBJECT = IMAGE_MAP_PROJECTION
END
