PDS_VERSION_ID = PDS3
/* FILE DATA ELEMENTS */
RECORD_TYPE = UNDEFINED
/* POINTERS TO DATA OBJECTS */
^IMAGE = ("HP652_0000_GR4.TIF")
/* IDENTIFICATION DATA ELEMENTS */
DATA_SET_ID = "MEX-M-HRSC-4-REFDR-MAPPROJECT-EXT9-V4.0"
DATA_SET_NAME = "MARS EXPRESS HRSC MAP PROJECTED REFDR EXTENSION9 V4.0"
DETECTOR_ID = MEX_HRSC_GREEN
EVENT_TYPE = "MARS-REGIONAL-MAPPING-Gl-Pf-La"
INSTRUMENT_HOST_ID = MEX
INSTRUMENT_HOST_NAME = "MARS EXPRESS"
INSTRUMENT_ID = HRSC
INSTRUMENT_NAME = "HIGH RESOLUTION STEREO CAMERA"
MISSION_NAME = "MARS EXPRESS"
MISSION_PHASE_NAME = ME_Phase_50
PROCESSING_LEVEL_ID = 4
PRODUCT_CREATION_TIME = 2024-08-21T01:11:59.000Z
PRODUCT_ID = "HP652_0000_GR4.TIF"
RELEASE_ID = 0014
REVISION_ID = 0000
/* QUALITY DATA ELEMENTS */
DATA_QUALITY_ID = 1
DATA_QUALITY_DESC = "Data calculated based on original SPICE kernels"
/* TIME DATA ELEMENTS */
SPACECRAFT_CLOCK_START_COUNT = "1/0662230009.00343"
SPACECRAFT_CLOCK_STOP_COUNT = "1/0662230358.12321"
START_TIME = 2024-04-26T16:48:06.388Z
STOP_TIME = 2024-04-26T16:52:17.628Z
/* ORBITAL DATA ELEMENTS */
ASCENDING_NODE_LONGITUDE = 98.56
MAXIMUM_RESOLUTION = 0.0713
FOOTPRINT_POINT_LATITUDE = (-84.6949,-84.9641,-85.3211,-85.8409, -85.8504,-85.8354,-86.2682,-86.6503, -86.9494,-87.1684,-87.1961,-87.1677, -87.1019,-86.9389,-86.7045,-86.5158, -86.3061,-86.0738,-85.8259,-85.5652, -85.1467,-84.856,-84.5547,-84.2445, -83.9289,-83.6087,-83.2846,-82.9572, -82.6266,-82.2934,-81.9578,-81.6201, -81.2809,-80.9401,-80.5979,-80.2543, -79.9096,-79.5637,-79.2168,-78.869, -78.3457,-77.9961,-77.6455,-77.2941, -76.9433,-76.5902,-76.2384,-75.709, -75.5351,-75.4117,-75.3439,-75.2337, -75.1341,-74.968,-74.8476,-74.8407, -74.8398,-75.1878,-75.5343,-75.876, -76.2196,-76.5647,-77.0746,-77.4134, -77.7499,-78.0855,-78.585,-78.9163, -79.2458,-79.7358,-80.2202,-80.5405, -80.8571,-81.1702,-81.4794,-81.7839, -82.0846,-82.3798,-82.6691,-82.952, -83.2269,-83.4937,-83.7479,-83.9898, -84.2205,-84.4347,-84.6343,-84.9037, -85.1292,-85.2554,-85.403,-85.4737, -85.5425,-85.5151,-85.4353,-85.3091, -85.0732,-84.7746,-84.6917,-84.6949)
FOOTPRINT_POINT_LONGITUDE = (343.489,341.352,338.016,331.672, 331.533,331.218,337.579,345.67,355.598, 370.655,380.444,387.064,393.506,402.461 ,410.47,415.168,419.355,423.146,426.502 ,429.472,433.375,435.619,437.642, 439.465,441.099,442.569,443.896,445.1, 446.196,447.197,448.114,448.957,449.732 ,450.448,451.111,451.727,452.3,452.834, 453.333,453.801,454.448,454.847,455.223 ,455.578,455.912,456.229,456.528, 456.948,457.077,457.168,455.823,453.922 ,452.424,450.229,448.826,448.749, 448.721,448.344,447.947,447.518,447.075 ,446.616,445.863,445.326,444.756, 444.154,443.178,442.479,441.736,440.53, 439.199,438.238,437.206,436.099,434.907 ,433.622,432.243,430.752,429.14,427.396 ,425.501,423.448,421.246,418.88,416.321 ,413.6,410.677,405.898,400.723,397.017, 391.197,387.173,378.877,370.644,364.633 ,359.01,352.058,345.921,344.51,343.489)
ORBIT_NUMBER = 25652
ORBITAL_ECCENTRICITY = 0.574
ORBITAL_INCLINATION = 87.08
ORBITAL_SEMIMAJOR_AXIS = 8766.27
PERIAPSIS_ALTITUDE = 359.09
PERIAPSIS_ARGUMENT_ANGLE = 247.44
PERIAPSIS_TIME = 2024-04-26T16:42:49.000Z
SPACECRAFT_ORIENTATION = (0.0,-1.0,0.0)
^MEX_ORIENTATION_DESC = "MEX_ORIENTATION_DESC.TXT"
SPACECRAFT_POINTING_MODE = INERT
^MEX_POINTING_DESC = "MEX_POINTING_DESC.TXT"
RIGHT_ASCENSION = 322.317
DECLINATION = 46.2
OFFSET_ANGLE = -1e+32
SPACECRAFT_SOLAR_DISTANCE = 2.06819e+08
TARGET_NAME = MARS
/* CAMERA DATA ELEMENTS */
DETECTOR_TEMPERATURE = 18.5744
FOCAL_PLANE_TEMPERATURE = 8.7872
INST_CMPRS_NAME = "DISCRETE COSINE TRANSFORMATION (DCT)"
INST_CMPRS_RATIO = 5.43846
INST_CMPRS_QUALITY = 0
INST_CMPRS_QUANTZ_TBL_ID = 0
INSTRUMENT_TEMPERATURE = 11.234
LENS_TEMPERATURE = 9.195
MACROPIXEL_SIZE = 4
MISSING_FRAMES = 0
PIXEL_SUBSAMPLING_FLAG = N
SIGNAL_CHAIN_ID = 2
/* RADIOMETRIC DATA ELEMENTS */
BANDWIDTH = 88.0
CENTER_FILTER_WAVELENGTH = 538.0
RADIANCE_OFFSET = 2.16926
RADIANCE_SCALING_FACTOR = 0.0212673
REFLECTANCE_SCALING_FACTOR = 0.000783216
MEX:REFLECTANCE_OFFSET = 0.079888
/* IMAGE OBJECT DEFINITIONS */
OBJECT = IMAGE
  INTERCHANGE_FORMAT = BINARY
  LINES = 18367
  LINE_SAMPLES = 13202
  SAMPLE_TYPE = UNSIGNED_INTEGER
  SAMPLE_BITS = 8
  BANDS = 1
  BAND_STORAGE_TYPE = BAND_SEQUENTIAL
  MAXIMUM = 255
  MEAN = 141.605
  MINIMUM = 1
  STANDARD_DEVIATION = 49.8909
END_OBJECT = IMAGE
/* MAP OBJECT DEFINITIONS */
OBJECT = IMAGE_MAP_PROJECTION
  ^DATA_SET_MAP_PROJECTION_CATALOG= "DSMAP.CAT"
  A_AXIS_RADIUS = 3396.0
  B_AXIS_RADIUS = 3396.0
  C_AXIS_RADIUS = 3396.0
  CENTER_LATITUDE = -83.5097
  CENTER_LONGITUDE = 73.7264
  COORDINATE_SYSTEM_NAME = PLANETOGRAPHIC
  COORDINATE_SYSTEM_TYPE = "BODY-FIXED ROTATING"
  EASTERNMOST_LONGITUDE = 97.16800000000001
  FIRST_STANDARD_PARALLEL = "N/A"
  LINE_FIRST_PIXEL = 1
  LINE_LAST_PIXEL = 18367
  LINE_PROJECTION_OFFSET = 9645.625
  MAP_PROJECTION_ROTATION = 0.0
  MAP_PROJECTION_TYPE = ORTHOGRAPHIC
  MAP_RESOLUTION = 1185.42760773333
  MAP_SCALE = 0.05
  MAXIMUM_LATITUDE = -74.8398
  MINIMUM_LATITUDE = -87.1961
  POSITIVE_LONGITUDE_DIRECTION = EAST
  REFERENCE_LATITUDE = "N/A"
  REFERENCE_LONGITUDE = "N/A"
  SAMPLE_FIRST_PIXEL = 1
  SAMPLE_LAST_PIXEL = 13202
  SAMPLE_PROJECTION_OFFSET = 6369.375
  SECOND_STANDARD_PARALLEL = "N/A"
  WESTERNMOST_LONGITUDE = -28.782
END_OBJECT = IMAGE_MAP_PROJECTION
END
