PDS_VERSION_ID = PDS3
/* FILE DATA ELEMENTS */
RECORD_TYPE = UNDEFINED
/* POINTERS TO DATA OBJECTS */
^IMAGE = ("HP635_0006_RE4.TIF")
/* IDENTIFICATION DATA ELEMENTS */
DATA_SET_ID = "MEX-M-HRSC-4-REFDR-MAPPROJECT-EXT9-V4.0"
DATA_SET_NAME = "MARS EXPRESS HRSC MAP PROJECTED REFDR EXTENSION9 V4.0"
DETECTOR_ID = MEX_HRSC_RED
EVENT_TYPE = "MARS-REGIONAL-MAPPING-Gl-Pf-La"
INSTRUMENT_HOST_ID = MEX
INSTRUMENT_HOST_NAME = "MARS EXPRESS"
INSTRUMENT_ID = HRSC
INSTRUMENT_NAME = "HIGH RESOLUTION STEREO CAMERA"
MISSION_NAME = "MARS EXPRESS"
MISSION_PHASE_NAME = ME_Phase_50
PROCESSING_LEVEL_ID = 4
PRODUCT_CREATION_TIME = 2024-08-21T01:11:59.000Z
PRODUCT_ID = "HP635_0006_RE4.TIF"
RELEASE_ID = 0014
REVISION_ID = 0000
/* QUALITY DATA ELEMENTS */
DATA_QUALITY_ID = 1
DATA_QUALITY_DESC = "Data calculated based on original SPICE kernels"
/* TIME DATA ELEMENTS */
SPACECRAFT_CLOCK_START_COUNT = "1/0661802500.59125"
SPACECRAFT_CLOCK_STOP_COUNT = "1/0661802825.52566"
START_TIME = 2024-04-21T18:03:37.817Z
STOP_TIME = 2024-04-21T18:06:24.567Z
/* ORBITAL DATA ELEMENTS */
ASCENDING_NODE_LONGITUDE = 98.85
MAXIMUM_RESOLUTION = 0.079
FOOTPRINT_POINT_LATITUDE = (-86.3049,-86.5074,-86.7058,-86.8996, -87.0872,-87.2672,-87.5391,-87.5489, -87.4929,-87.7955,-88.1192,-88.3094, -88.4164,-88.4273,-88.348,-88.2235, -88.1153,-87.9909,-87.7795,-87.5407, -87.3717,-87.1965,-87.0195,-86.7361, -86.5421,-86.2498,-85.9467,-85.7403, -85.5328,-85.328,-85.1138,-84.8973, -84.6808,-84.4652,-84.2459,-84.023, -83.7996,-83.5767,-83.35,-83.1206, -82.8918,-82.6598,-82.4257,-82.192, -81.9559,-81.7165,-81.3575,-81.1142, -80.87,-80.7479,-80.727,-80.6636, -80.5954,-80.483,-80.3955,-80.3082, -80.1886,-80.182,-80.1813,-80.5306, -80.7634,-80.9907,-81.2179,-81.5542, -81.7746,-82.1033,-82.3193,-82.5325, -82.744,-82.9531,-83.1573,-83.3602, -83.6602,-83.8545,-84.1406,-84.3245, -84.5935,-84.7692,-84.9415,-85.1085, -85.3523,-85.5056,-85.6477,-85.7882, -85.9202,-86.0452,-86.2176,-86.3212, -86.4135,-86.532,-86.5968,-86.6495, -86.7237,-86.7242,-86.6509,-86.5722, -86.4278,-86.2928,-86.2445,-86.3049)
FOOTPRINT_POINT_LONGITUDE = (286.78,284.835,282.64,280.146,277.306, 274.06,267.733,267.46,264.715,271.335, 282.516,294.131,308.249,319.609,334.142 ,343.906,349.598,354.621,361.02,366.339 ,369.336,371.962,374.269,377.293, 379.039,381.318,383.273,384.435,385.488 ,386.456,387.338,388.154,388.905,389.6, 390.251,390.853,391.412,391.934,392.434 ,392.893,393.325,393.732,394.118, 394.482,394.824,395.15,395.606,395.892, 396.164,396.295,396.317,394.406,392.638 ,390.16,388.481,386.942,385.038,384.94, 384.904,384.178,383.658,383.124,382.559 ,381.661,381.028,380.011,379.286, 378.526,377.723,376.872,375.986,375.04, 373.511,372.425,370.668,369.432,367.419 ,365.958,364.389,362.725,359.965, 358.008,356.024,353.813,351.486,348.999 ,344.97,342.083,339.075,334.304,330.956 ,327.486,318.538,311.299,302.423, 297.462,291.208,286.861,285.516,286.78)
ORBIT_NUMBER = 25635
ORBITAL_ECCENTRICITY = 0.574
ORBITAL_INCLINATION = 87.07
ORBITAL_SEMIMAJOR_AXIS = 8764.72
PERIAPSIS_ALTITUDE = 359.33
PERIAPSIS_ARGUMENT_ANGLE = 250.28
PERIAPSIS_TIME = 2024-04-21T17:58:09.000Z
SPACECRAFT_ORIENTATION = (0.0,-1.0,0.0)
^MEX_ORIENTATION_DESC = "MEX_ORIENTATION_DESC.TXT"
SPACECRAFT_POINTING_MODE = INERT
^MEX_POINTING_DESC = "MEX_POINTING_DESC.TXT"
RIGHT_ASCENSION = 310.375
DECLINATION = 44.053
OFFSET_ANGLE = -1e+32
SPACECRAFT_SOLAR_DISTANCE = 2.06971e+08
TARGET_NAME = MARS
/* CAMERA DATA ELEMENTS */
DETECTOR_TEMPERATURE = 0.0
FOCAL_PLANE_TEMPERATURE = 0.0
INST_CMPRS_NAME = "DISCRETE COSINE TRANSFORMATION (DCT)"
INST_CMPRS_RATIO = 7.0209
INST_CMPRS_QUALITY = 0
INST_CMPRS_QUANTZ_TBL_ID = 0
INSTRUMENT_TEMPERATURE = 0.0
LENS_TEMPERATURE = 0.0
MACROPIXEL_SIZE = 4
MISSING_FRAMES = 0
PIXEL_SUBSAMPLING_FLAG = N
SIGNAL_CHAIN_ID = 2
/* RADIOMETRIC DATA ELEMENTS */
BANDWIDTH = 48.0
CENTER_FILTER_WAVELENGTH = 748.0
RADIANCE_OFFSET = 2.21426
RADIANCE_SCALING_FACTOR = 0.0108898
REFLECTANCE_SCALING_FACTOR = 0.00106455
MEX:REFLECTANCE_OFFSET = 0.216458
/* IMAGE OBJECT DEFINITIONS */
OBJECT = IMAGE
  INTERCHANGE_FORMAT = BINARY
  LINES = 15465
  LINE_SAMPLES = 9620
  SAMPLE_TYPE = UNSIGNED_INTEGER
  SAMPLE_BITS = 8
  BANDS = 1
  BAND_STORAGE_TYPE = BAND_SEQUENTIAL
  MAXIMUM = 255
  MEAN = 135.062
  MINIMUM = 1
  STANDARD_DEVIATION = 30.2417
END_OBJECT = IMAGE
/* MAP OBJECT DEFINITIONS */
OBJECT = IMAGE_MAP_PROJECTION
  ^DATA_SET_MAP_PROJECTION_CATALOG= "DSMAP.CAT"
  A_AXIS_RADIUS = 3396.0
  B_AXIS_RADIUS = 3396.0
  C_AXIS_RADIUS = 3396.0
  CENTER_LATITUDE = -84.88509999999999
  CENTER_LONGITUDE = 17.1135
  COORDINATE_SYSTEM_NAME = PLANETOGRAPHIC
  COORDINATE_SYSTEM_TYPE = "BODY-FIXED ROTATING"
  EASTERNMOST_LONGITUDE = 36.317
  FIRST_STANDARD_PARALLEL = "N/A"
  LINE_FIRST_PIXEL = 1
  LINE_LAST_PIXEL = 15465
  LINE_PROJECTION_OFFSET = 8307.875
  MAP_PROJECTION_ROTATION = 0.0
  MAP_PROJECTION_TYPE = ORTHOGRAPHIC
  MAP_RESOLUTION = 1185.42760773333
  MAP_SCALE = 0.05
  MAXIMUM_LATITUDE = -80.18129999999999
  MINIMUM_LATITUDE = -88.4273
  POSITIVE_LONGITUDE_DIRECTION = EAST
  REFERENCE_LATITUDE = "N/A"
  REFERENCE_LONGITUDE = "N/A"
  SAMPLE_FIRST_PIXEL = 1
  SAMPLE_LAST_PIXEL = 9620
  SAMPLE_PROJECTION_OFFSET = 4443.125
  SECOND_STANDARD_PARALLEL = "N/A"
  WESTERNMOST_LONGITUDE = -95.285
END_OBJECT = IMAGE_MAP_PROJECTION
END
