PDS_VERSION_ID = PDS3
/* FILE DATA ELEMENTS */
RECORD_TYPE = UNDEFINED
/* POINTERS TO DATA OBJECTS */
^IMAGE = ("HP621_0000_P14.TIF")
/* IDENTIFICATION DATA ELEMENTS */
DATA_SET_ID = "MEX-M-HRSC-4-REFDR-MAPPROJECT-EXT9-V4.0"
DATA_SET_NAME = "MARS EXPRESS HRSC MAP PROJECTED REFDR EXTENSION9 V4.0"
DETECTOR_ID = MEX_HRSC_P1
EVENT_TYPE = "MARS-REGIONAL-MAPPING-Gl-Pf-La"
INSTRUMENT_HOST_ID = MEX
INSTRUMENT_HOST_NAME = "MARS EXPRESS"
INSTRUMENT_ID = HRSC
INSTRUMENT_NAME = "HIGH RESOLUTION STEREO CAMERA"
MISSION_NAME = "MARS EXPRESS"
MISSION_PHASE_NAME = ME_Phase_50
PROCESSING_LEVEL_ID = 4
PRODUCT_CREATION_TIME = 2024-08-21T01:11:59.000Z
PRODUCT_ID = "HP621_0000_P14.TIF"
RELEASE_ID = 0014
REVISION_ID = 0000
/* QUALITY DATA ELEMENTS */
DATA_QUALITY_ID = 1
DATA_QUALITY_DESC = "Data calculated based on original SPICE kernels"
/* TIME DATA ELEMENTS */
SPACECRAFT_CLOCK_START_COUNT = "1/0661450453.00411"
SPACECRAFT_CLOCK_STOP_COUNT = "1/0661450773.20670"
START_TIME = 2024-04-17T16:15:11.523Z
STOP_TIME = 2024-04-17T16:18:57.892Z
/* ORBITAL DATA ELEMENTS */
ASCENDING_NODE_LONGITUDE = 99.1
MAXIMUM_RESOLUTION = 0.0329
FOOTPRINT_POINT_LATITUDE = (-86.2712,-86.6589,-87.1763,-87.5262, -87.5381,-87.5728,-87.7177,-87.7908, -87.7303,-87.5894,-87.3011,-87.1201, -86.9212,-86.7077,-86.4821,-86.2454, -85.9962,-85.739,-85.4753,-85.2073, -84.9325,-84.6493,-84.3629,-84.0715, -83.6256,-83.3242,-83.0207,-82.7162, -82.4057,-82.0917,-81.7752,-81.4574, -81.1314,-80.6432,-80.1423,-79.8052, -79.4672,-79.1242,-78.7779,-78.4306, -78.0769,-77.7204,-77.3643,-76.8166, -76.45,-76.0743,-75.6998,-75.128, -74.7451,-74.5486,-74.5405,-74.4925, -74.4365,-74.3813,-74.2788,-74.1737, -74.1689,-74.168,-74.7401,-75.3054, -75.6738,-76.0402,-76.3997,-76.9362, -77.2861,-77.6337,-77.9782,-78.3172, -78.656,-78.9882,-79.3141,-79.6379, -80.1168,-80.43,-80.896,-81.1973, -81.6447,-82.0836,-82.3677,-82.6483, -82.9255,-83.3325,-83.7205,-83.973, -84.2188,-84.4548,-84.684,-84.9033, -85.1136,-85.3114,-85.4942,-85.6641, -85.9588,-86.1813,-86.2934,-86.3687, -86.3521,-86.2832,-86.2496,-86.2712)
FOOTPRINT_POINT_LONGITUDE = (289.701,287.817,284.448,281.308, 281.184,281.207,290.834,301.548,319.973 ,329.989,341.299,346.102,350.319, 354.007,357.235,360.13,362.63,364.882, 366.889,368.654,370.248,371.704,373.012 ,374.222,375.8,376.743,377.607,378.392, 379.127,379.805,380.439,381.027,381.585 ,382.335,383.042,383.472,383.874, 384.255,384.615,384.954,385.278,385.586 ,385.873,386.287,386.545,386.797, 387.032,387.368,387.577,387.682,387.686 ,386.338,385.072,383.953,382.152, 380.579,380.511,380.486,380.019,379.519 ,379.168,378.797,378.413,377.797, 377.365,376.908,376.426,375.924,375.392 ,374.83,374.241,373.613,372.606,371.885 ,370.709,369.875,368.509,366.997, 365.911,364.741,363.478,361.393,359.089 ,357.389,355.547,353.585,351.45,349.129 ,346.603,343.888,340.984,337.843, 330.826,322.951,316.608,307.683,298.663 ,292.208,290.125,289.701)
ORBIT_NUMBER = 25621
ORBITAL_ECCENTRICITY = 0.573
ORBITAL_INCLINATION = 87.07
ORBITAL_SEMIMAJOR_AXIS = 8762.24
PERIAPSIS_ALTITUDE = 359.08
PERIAPSIS_ARGUMENT_ANGLE = 252.62
PERIAPSIS_TIME = 2024-04-17T16:11:03.000Z
SPACECRAFT_ORIENTATION = (0.0,-1.0,0.0)
^MEX_ORIENTATION_DESC = "MEX_ORIENTATION_DESC.TXT"
SPACECRAFT_POINTING_MODE = INERT
^MEX_POINTING_DESC = "MEX_POINTING_DESC.TXT"
RIGHT_ASCENSION = 315.419
DECLINATION = 44.545
OFFSET_ANGLE = -1e+32
SPACECRAFT_SOLAR_DISTANCE = 2.07134e+08
TARGET_NAME = MARS
/* CAMERA DATA ELEMENTS */
DETECTOR_TEMPERATURE = 17.7588
FOCAL_PLANE_TEMPERATURE = 8.7872
INST_CMPRS_NAME = "DISCRETE COSINE TRANSFORMATION (DCT)"
INST_CMPRS_RATIO = 6.01879
INST_CMPRS_QUALITY = 0
INST_CMPRS_QUANTZ_TBL_ID = 0
INSTRUMENT_TEMPERATURE = 11.234
LENS_TEMPERATURE = 9.6028
MACROPIXEL_SIZE = 2
MISSING_FRAMES = 1
PIXEL_SUBSAMPLING_FLAG = N
SIGNAL_CHAIN_ID = 3
/* RADIOMETRIC DATA ELEMENTS */
BANDWIDTH = 174.0
CENTER_FILTER_WAVELENGTH = 675.0
RADIANCE_OFFSET = 7.31866
RADIANCE_SCALING_FACTOR = 0.0518391
REFLECTANCE_SCALING_FACTOR = 0.00119632
MEX:REFLECTANCE_OFFSET = 0.168897
/* IMAGE OBJECT DEFINITIONS */
OBJECT = IMAGE
  INTERCHANGE_FORMAT = BINARY
  LINES = 36899
  LINE_SAMPLES = 19265
  SAMPLE_TYPE = UNSIGNED_INTEGER
  SAMPLE_BITS = 8
  BANDS = 1
  BAND_STORAGE_TYPE = BAND_SEQUENTIAL
  MAXIMUM = 255
  MEAN = 151.531
  MINIMUM = 1
  STANDARD_DEVIATION = 39.8906
END_OBJECT = IMAGE
/* MAP OBJECT DEFINITIONS */
OBJECT = IMAGE_MAP_PROJECTION
  ^DATA_SET_MAP_PROJECTION_CATALOG= "DSMAP.CAT"
  A_AXIS_RADIUS = 3396.0
  B_AXIS_RADIUS = 3396.0
  C_AXIS_RADIUS = 3396.0
  CENTER_LATITUDE = -82.8699
  CENTER_LONGITUDE = 10.9312
  COORDINATE_SYSTEM_NAME = PLANETOGRAPHIC
  COORDINATE_SYSTEM_TYPE = "BODY-FIXED ROTATING"
  EASTERNMOST_LONGITUDE = 27.686
  FIRST_STANDARD_PARALLEL = "N/A"
  LINE_FIRST_PIXEL = 1
  LINE_LAST_PIXEL = 36899
  LINE_PROJECTION_OFFSET = 20069.75
  MAP_PROJECTION_ROTATION = 0.0
  MAP_PROJECTION_TYPE = ORTHOGRAPHIC
  MAP_RESOLUTION = 2370.85521546667
  MAP_SCALE = 0.025
  MAXIMUM_LATITUDE = -74.16800000000001
  MINIMUM_LATITUDE = -87.7908
  POSITIVE_LONGITUDE_DIRECTION = EAST
  REFERENCE_LATITUDE = "N/A"
  REFERENCE_LONGITUDE = "N/A"
  SAMPLE_FIRST_PIXEL = 1
  SAMPLE_LAST_PIXEL = 19265
  SAMPLE_PROJECTION_OFFSET = 8847.25
  SECOND_STANDARD_PARALLEL = "N/A"
  WESTERNMOST_LONGITUDE = -78.816
END_OBJECT = IMAGE_MAP_PROJECTION
END
