PDS_VERSION_ID = PDS3
/* FILE DATA ELEMENTS */
RECORD_TYPE = UNDEFINED
/* POINTERS TO DATA OBJECTS */
^IMAGE = ("HP614_0000_S14.TIF")
/* IDENTIFICATION DATA ELEMENTS */
DATA_SET_ID = "MEX-M-HRSC-4-REFDR-MAPPROJECT-EXT9-V4.0"
DATA_SET_NAME = "MARS EXPRESS HRSC MAP PROJECTED REFDR EXTENSION9 V4.0"
DETECTOR_ID = MEX_HRSC_S1
EVENT_TYPE = "MARS-REGIONAL-MAPPING-Gl-Pf-La"
INSTRUMENT_HOST_ID = MEX
INSTRUMENT_HOST_NAME = "MARS EXPRESS"
INSTRUMENT_ID = HRSC
INSTRUMENT_NAME = "HIGH RESOLUTION STEREO CAMERA"
MISSION_NAME = "MARS EXPRESS"
MISSION_PHASE_NAME = ME_Phase_50
PROCESSING_LEVEL_ID = 4
PRODUCT_CREATION_TIME = 2024-08-21T01:11:59.000Z
PRODUCT_ID = "HP614_0000_S14.TIF"
RELEASE_ID = 0014
REVISION_ID = 0000
/* QUALITY DATA ELEMENTS */
DATA_QUALITY_ID = 1
DATA_QUALITY_DESC = "Data calculated based on original SPICE kernels"
/* TIME DATA ELEMENTS */
SPACECRAFT_CLOCK_START_COUNT = "1/0661274425.00351"
SPACECRAFT_CLOCK_STOP_COUNT = "1/0661274741.56233"
START_TIME = 2024-04-15T15:22:23.693Z
STOP_TIME = 2024-04-15T15:26:27.830Z
/* ORBITAL DATA ELEMENTS */
ASCENDING_NODE_LONGITUDE = 99.22
MAXIMUM_RESOLUTION = 0.0381
FOOTPRINT_POINT_LATITUDE = (-87.5154,-87.0603,-86.5989,-86.0438, -86.0291,-85.9603,-86.0398,-85.9659, -85.8146,-85.7112,-85.5883,-85.4496, -85.2967,-85.1317,-84.9501,-84.6584, -84.3461,-84.0095,-83.6558,-83.4094, -83.1552,-82.8969,-82.4956,-82.2219, -81.8044,-81.5163,-81.228,-80.7831, -80.4823,-80.1758,-79.8661,-79.5536, -79.2343,-78.9136,-78.5865,-78.2575, -77.755,-77.4167,-77.0724,-76.727, -76.375,-76.0214,-75.661,-75.2988, -74.9308,-74.5594,-74.1837,-73.9937, -73.9606,-74.0826,-74.2033,-74.2819, -74.3377,-74.3402,-74.3419,-74.9167, -75.4853,-75.8598,-76.2286,-76.5987, -76.9628,-77.3203,-77.6707,-78.0242, -78.373,-78.7181,-79.0589,-79.3987, -79.7318,-80.2293,-80.5547,-80.8773, -81.1961,-81.5137,-81.8354,-82.2997, -82.6116,-82.9146,-83.2143,-83.659, -83.9485,-84.2344,-84.509,-84.7818, -85.1865,-85.4578,-85.9474,-86.1864, -86.415,-86.6308,-86.834,-87.1106, -87.337,-87.4568,-87.5488,-87.6084, -87.6242,-87.5471,-87.5058,-87.5154)
FOOTPRINT_POINT_LONGITUDE = (284.326,286.69,288.397,289.879,289.912 ,288.239,298.35,310.713,318.467,322.164 ,325.71,329.031,332.138,334.995,337.751 ,341.493,344.818,347.848,350.579, 352.247,353.815,355.26,357.267,358.49, 360.159,361.211,362.172,363.524,364.359 ,365.153,365.893,366.596,367.264, 367.893,368.497,369.063,369.864,370.365 ,370.842,371.292,371.724,372.135, 372.531,372.907,373.268,373.613,373.944 ,374.105,374.133,376.006,378.176,379.87 ,381.289,381.361,381.386,381.066, 380.727,380.488,380.238,379.978,379.703 ,379.414,379.107,378.789,378.453, 378.098,377.724,377.328,376.91,376.232, 375.746,375.225,374.675,374.084,373.447 ,372.411,371.644,370.826,369.937, 368.452,367.356,366.152,364.846,363.41, 360.942,359.022,354.671,352.047,349.098 ,345.794,342.048,335.452,327.755, 321.959,315.622,308.888,295.134,285.102 ,281.988,284.326)
ORBIT_NUMBER = 25614
ORBITAL_ECCENTRICITY = 0.573
ORBITAL_INCLINATION = 87.07
ORBITAL_SEMIMAJOR_AXIS = 8761.12
PERIAPSIS_ALTITUDE = 358.92
PERIAPSIS_ARGUMENT_ANGLE = 253.79
PERIAPSIS_TIME = 2024-04-15T15:17:33.000Z
SPACECRAFT_ORIENTATION = (0.0,1.0,0.0)
^MEX_ORIENTATION_DESC = "MEX_ORIENTATION_DESC.TXT"
SPACECRAFT_POINTING_MODE = INERT
^MEX_POINTING_DESC = "MEX_POINTING_DESC.TXT"
RIGHT_ASCENSION = 318.157
DECLINATION = 44.819
OFFSET_ANGLE = -1e+32
SPACECRAFT_SOLAR_DISTANCE = 2.07229e+08
TARGET_NAME = MARS
/* CAMERA DATA ELEMENTS */
DETECTOR_TEMPERATURE = 17.5549
FOCAL_PLANE_TEMPERATURE = 9.195
INST_CMPRS_NAME = "DISCRETE COSINE TRANSFORMATION (DCT)"
INST_CMPRS_RATIO = 7.48741
INST_CMPRS_QUALITY = 0
INST_CMPRS_QUANTZ_TBL_ID = 0
INSTRUMENT_TEMPERATURE = 11.234
LENS_TEMPERATURE = 8.9911
MACROPIXEL_SIZE = 2
MISSING_FRAMES = 0
PIXEL_SUBSAMPLING_FLAG = N
SIGNAL_CHAIN_ID = 1
/* RADIOMETRIC DATA ELEMENTS */
BANDWIDTH = 180.0
CENTER_FILTER_WAVELENGTH = 677.0
RADIANCE_OFFSET = 8.45924
RADIANCE_SCALING_FACTOR = 0.0535478
REFLECTANCE_SCALING_FACTOR = 0.00119973
MEX:REFLECTANCE_OFFSET = 0.189528
/* IMAGE OBJECT DEFINITIONS */
OBJECT = IMAGE
  INTERCHANGE_FORMAT = BINARY
  LINES = 36648
  LINE_SAMPLES = 19840
  SAMPLE_TYPE = UNSIGNED_INTEGER
  SAMPLE_BITS = 8
  BANDS = 1
  BAND_STORAGE_TYPE = BAND_SEQUENTIAL
  MAXIMUM = 255
  MEAN = 153.726
  MINIMUM = 1
  STANDARD_DEVIATION = 42.1757
END_OBJECT = IMAGE
/* MAP OBJECT DEFINITIONS */
OBJECT = IMAGE_MAP_PROJECTION
  ^DATA_SET_MAP_PROJECTION_CATALOG= "DSMAP.CAT"
  A_AXIS_RADIUS = 3396.0
  B_AXIS_RADIUS = 3396.0
  C_AXIS_RADIUS = 3396.0
  CENTER_LATITUDE = -82.62139999999999
  CENTER_LONGITUDE = 4.51104
  COORDINATE_SYSTEM_NAME = PLANETOGRAPHIC
  COORDINATE_SYSTEM_TYPE = "BODY-FIXED ROTATING"
  EASTERNMOST_LONGITUDE = 21.386
  FIRST_STANDARD_PARALLEL = "N/A"
  LINE_FIRST_PIXEL = 1
  LINE_LAST_PIXEL = 36648
  LINE_PROJECTION_OFFSET = 19933.25
  MAP_PROJECTION_ROTATION = 0.0
  MAP_PROJECTION_TYPE = ORTHOGRAPHIC
  MAP_RESOLUTION = 2370.85521546667
  MAP_SCALE = 0.025
  MAXIMUM_LATITUDE = -73.9606
  MINIMUM_LATITUDE = -87.6242
  POSITIVE_LONGITUDE_DIRECTION = EAST
  REFERENCE_LATITUDE = "N/A"
  REFERENCE_LONGITUDE = "N/A"
  SAMPLE_FIRST_PIXEL = 1
  SAMPLE_LAST_PIXEL = 19840
  SAMPLE_PROJECTION_OFFSET = 9156.25
  SECOND_STANDARD_PARALLEL = "N/A"
  WESTERNMOST_LONGITUDE = -78.012
END_OBJECT = IMAGE_MAP_PROJECTION
END
