PDS_VERSION_ID = PDS3
/* FILE DATA ELEMENTS */
RECORD_TYPE = UNDEFINED
/* POINTERS TO DATA OBJECTS */
^IMAGE = ("HP601_0000_S24.TIF")
/* IDENTIFICATION DATA ELEMENTS */
DATA_SET_ID = "MEX-M-HRSC-4-REFDR-MAPPROJECT-EXT9-V4.0"
DATA_SET_NAME = "MARS EXPRESS HRSC MAP PROJECTED REFDR EXTENSION9 V4.0"
DETECTOR_ID = MEX_HRSC_S2
EVENT_TYPE = "MARS-REGIONAL-MAPPING-Gl-Pf-La"
INSTRUMENT_HOST_ID = MEX
INSTRUMENT_HOST_NAME = "MARS EXPRESS"
INSTRUMENT_ID = HRSC
INSTRUMENT_NAME = "HIGH RESOLUTION STEREO CAMERA"
MISSION_NAME = "MARS EXPRESS"
MISSION_PHASE_NAME = ME_Phase_50
PROCESSING_LEVEL_ID = 4
PRODUCT_CREATION_TIME = 2024-08-21T01:11:59.000Z
PRODUCT_ID = "HP601_0000_S24.TIF"
RELEASE_ID = 0014
REVISION_ID = 0000
/* QUALITY DATA ELEMENTS */
DATA_QUALITY_ID = 1
DATA_QUALITY_DESC = "Data calculated based on original SPICE kernels"
/* TIME DATA ELEMENTS */
SPACECRAFT_CLOCK_START_COUNT = "1/0660947603.64189"
SPACECRAFT_CLOCK_STOP_COUNT = "1/0660947830.44557"
START_TIME = 2024-04-11T20:34:11.894Z
STOP_TIME = 2024-04-11T20:36:27.331Z
/* ORBITAL DATA ELEMENTS */
ASCENDING_NODE_LONGITUDE = 99.44
MAXIMUM_RESOLUTION = 0.0345
FOOTPRINT_POINT_LATITUDE = (-84.6501,-84.5501,-84.4687,-84.3806, -84.2862,-84.1859,-84.0799,-84.0731, -84.0136,-83.6236,-83.3041,-82.8892, -82.5527,-82.2125,-81.9554,-81.7802, -81.6027,-81.3355,-81.0666,-80.8863, -80.7059,-80.5237,-80.244,-80.0566, -79.7739,-79.5851,-79.4001,-79.2102, -78.9193,-78.7246,-78.4326,-78.2369, -77.9394,-77.7387,-77.5376,-77.3359, -77.1338,-76.9314,-76.7247,-76.5169, -76.2052,-75.9969,-75.7871,-75.5734, -75.3594,-75.0381,-74.7142,-74.6041, -74.5553,-74.6158,-74.6611,-74.7016, -74.7387,-74.776,-74.7946,-74.796, -74.7972,-75.1294,-75.3479,-75.6744, -75.8925,-76.1108,-76.4288,-76.6406, -76.9576,-77.1691,-77.3766,-77.5816, -77.7875,-77.993,-78.1984,-78.4028, -78.6029,-78.803,-79.0031,-79.302, -79.5012,-79.6984,-79.8927,-80.0864, -80.28,-80.4734,-80.6664,-80.8594, -81.0506,-81.2385,-81.5189,-81.7059, -81.9858,-82.1717,-82.4482,-82.629, -82.8093,-82.9892,-83.348,-83.7044, -84.1413,-84.484,-84.5693,-84.6501)
FOOTPRINT_POINT_LONGITUDE = (259.1,256.121,254.039,252.031,250.1, 248.242,246.455,246.346,246.551,248.644 ,250.147,251.869,253.107,254.237, 255.021,255.525,256.012,256.703,257.353 ,257.765,258.16,258.543,259.1,259.454, 259.961,260.284,260.59,260.891,261.331, 261.611,262.013,262.27,262.643,262.885, 263.118,263.344,263.563,263.775,263.984 ,264.188,264.481,264.669,264.852, 265.033,265.208,265.461,265.705,265.785 ,265.82,267.023,268.049,269.085,270.201 ,271.595,272.467,272.534,272.558, 272.403,272.296,272.132,272.017,271.896 ,271.719,271.596,271.405,271.271, 271.136,271.001,270.858,270.711,270.558 ,270.402,270.243,270.078,269.906,269.64 ,269.454,269.262,269.064,268.861, 268.649,268.429,268.201,267.961,267.71, 267.455,267.059,266.777,266.33,266.016, 265.518,265.172,264.809,264.428,263.603 ,262.693,261.407,260.254,259.943,259.1)
ORBIT_NUMBER = 25601
ORBITAL_ECCENTRICITY = 0.574
ORBITAL_INCLINATION = 87.07
ORBITAL_SEMIMAJOR_AXIS = 8760.98
PERIAPSIS_ALTITUDE = 358.36
PERIAPSIS_ARGUMENT_ANGLE = 255.99
PERIAPSIS_TIME = 2024-04-11T20:29:39.000Z
SPACECRAFT_ORIENTATION = (0.0,1.0,0.0)
^MEX_ORIENTATION_DESC = "MEX_ORIENTATION_DESC.TXT"
SPACECRAFT_POINTING_MODE = INERT
^MEX_POINTING_DESC = "MEX_POINTING_DESC.TXT"
RIGHT_ASCENSION = 311.193
DECLINATION = 41.01
OFFSET_ANGLE = -1e+32
SPACECRAFT_SOLAR_DISTANCE = 2.07428e+08
TARGET_NAME = MARS
/* CAMERA DATA ELEMENTS */
DETECTOR_TEMPERATURE = 18.3705
FOCAL_PLANE_TEMPERATURE = 8.1755
INST_CMPRS_NAME = "DISCRETE COSINE TRANSFORMATION (DCT)"
INST_CMPRS_RATIO = 6.04715
INST_CMPRS_QUALITY = 0
INST_CMPRS_QUANTZ_TBL_ID = 0
INSTRUMENT_TEMPERATURE = 11.0301
LENS_TEMPERATURE = 8.7872
MACROPIXEL_SIZE = 2
MISSING_FRAMES = 0
PIXEL_SUBSAMPLING_FLAG = N
SIGNAL_CHAIN_ID = 1
/* RADIOMETRIC DATA ELEMENTS */
BANDWIDTH = 178.0
CENTER_FILTER_WAVELENGTH = 679.0
RADIANCE_OFFSET = 6.23225
RADIANCE_SCALING_FACTOR = 0.0486284
REFLECTANCE_SCALING_FACTOR = 0.00110804
MEX:REFLECTANCE_OFFSET = 0.142007
/* IMAGE OBJECT DEFINITIONS */
OBJECT = IMAGE
  INTERCHANGE_FORMAT = BINARY
  LINES = 24022
  LINE_SAMPLES = 9506
  SAMPLE_TYPE = UNSIGNED_INTEGER
  SAMPLE_BITS = 8
  BANDS = 1
  BAND_STORAGE_TYPE = BAND_SEQUENTIAL
  MAXIMUM = 255
  MEAN = 179.861
  MINIMUM = 1
  STANDARD_DEVIATION = 32.5806
END_OBJECT = IMAGE
/* MAP OBJECT DEFINITIONS */
OBJECT = IMAGE_MAP_PROJECTION
  ^DATA_SET_MAP_PROJECTION_CATALOG= "DSMAP.CAT"
  A_AXIS_RADIUS = 3396.0
  B_AXIS_RADIUS = 3396.0
  C_AXIS_RADIUS = 3396.0
  CENTER_LATITUDE = -79.8447
  CENTER_LONGITUDE = 264.346
  COORDINATE_SYSTEM_NAME = PLANETOGRAPHIC
  COORDINATE_SYSTEM_TYPE = "BODY-FIXED ROTATING"
  EASTERNMOST_LONGITUDE = 272.558
  FIRST_STANDARD_PARALLEL = "N/A"
  LINE_FIRST_PIXEL = 1
  LINE_LAST_PIXEL = 24022
  LINE_PROJECTION_OFFSET = 12651.75
  MAP_PROJECTION_ROTATION = 0.0
  MAP_PROJECTION_TYPE = ORTHOGRAPHIC
  MAP_RESOLUTION = 2370.85521546667
  MAP_SCALE = 0.025
  MAXIMUM_LATITUDE = -74.5553
  MINIMUM_LATITUDE = -84.65009999999999
  POSITIVE_LONGITUDE_DIRECTION = EAST
  REFERENCE_LATITUDE = "N/A"
  REFERENCE_LONGITUDE = "N/A"
  SAMPLE_FIRST_PIXEL = 1
  SAMPLE_LAST_PIXEL = 9506
  SAMPLE_PROJECTION_OFFSET = 4440.25
  SECOND_STANDARD_PARALLEL = "N/A"
  WESTERNMOST_LONGITUDE = 246.346
END_OBJECT = IMAGE_MAP_PROJECTION
END
