PDS_VERSION_ID = PDS3
/* FILE DATA ELEMENTS */
RECORD_TYPE = UNDEFINED
/* POINTERS TO DATA OBJECTS */
^IMAGE = ("HP596_0000_S14.TIF")
/* IDENTIFICATION DATA ELEMENTS */
DATA_SET_ID = "MEX-M-HRSC-4-REFDR-MAPPROJECT-EXT9-V4.0"
DATA_SET_NAME = "MARS EXPRESS HRSC MAP PROJECTED REFDR EXTENSION9 V4.0"
DETECTOR_ID = MEX_HRSC_S1
EVENT_TYPE = "MARS-LOCAL-CARTOGRAPHY-Pf-Ot"
INSTRUMENT_HOST_ID = MEX
INSTRUMENT_HOST_NAME = "MARS EXPRESS"
INSTRUMENT_ID = HRSC
INSTRUMENT_NAME = "HIGH RESOLUTION STEREO CAMERA"
MISSION_NAME = "MARS EXPRESS"
MISSION_PHASE_NAME = ME_Phase_50
PROCESSING_LEVEL_ID = 4
PRODUCT_CREATION_TIME = 2024-08-20T18:09:15.000Z
PRODUCT_ID = "HP596_0000_S14.TIF"
RELEASE_ID = 0013
REVISION_ID = 0000
/* QUALITY DATA ELEMENTS */
DATA_QUALITY_ID = 1
DATA_QUALITY_DESC = "Data calculated based on original SPICE kernels"
/* TIME DATA ELEMENTS */
SPACECRAFT_CLOCK_START_COUNT = "1/0660821873.00355"
SPACECRAFT_CLOCK_STOP_COUNT = "1/0660822202.37948"
START_TIME = 2024-04-10T09:39:56.600Z
STOP_TIME = 2024-04-10T09:44:08.449Z
/* ORBITAL DATA ELEMENTS */
ASCENDING_NODE_LONGITUDE = 99.52
MAXIMUM_RESOLUTION = 0.0405
FOOTPRINT_POINT_LATITUDE = (-83.9988,-83.7738,-83.516,-83.1694, -83.1597,-83.2207,-82.5508,-82.0786, -81.7134,-81.2121,-80.9548,-80.6966, -80.297,-80.0274,-79.6213,-79.3402, -79.0596,-78.7775,-78.4895,-78.0542, -77.7602,-77.4608,-77.166,-76.8628, -76.5571,-76.2491,-75.9352,-75.6186, -75.139,-74.8188,-74.4897,-74.1635, -73.6647,-73.3294,-72.9898,-72.4743, -72.1272,-71.7746,-71.2407,-70.8804, -70.5143,-70.1474,-69.5849,-69.2079, -68.826,-68.4406,-68.0489,-67.852, -67.7911,-67.8653,-67.9446,-68.0156, -68.0696,-68.0714,-68.0728,-68.4704, -68.8641,-69.2537,-69.6375,-70.0185, -70.3945,-70.7694,-71.1401,-71.5059, -71.8695,-72.2284,-72.584,-72.9357, -73.456,-73.804,-74.1461,-74.4849, -74.8154,-75.152,-75.4837,-75.81, -76.2964,-76.6193,-76.9375,-77.2526, -77.5682,-77.8771,-78.3392,-78.798, -79.2493,-79.549,-79.8442,-80.2839, -80.5713,-80.8584,-81.145,-81.4239, -81.7024,-81.9792,-82.2527,-82.7888, -83.1873,-83.9549,-84.0802,-83.9988)
FOOTPRINT_POINT_LONGITUDE = (40.8072,36.6292,32.6928,28.3372, 28.2272,27.0533,31.264,33.6888,35.3279, 37.3147,38.2311,39.0842,40.3241,41.0866 ,42.1432,42.835,43.4761,44.0857,44.6703 ,45.4966,46.0164,46.523,46.9749,47.4286 ,47.864,48.2826,48.6898,49.089,49.643, 49.9874,50.3338,50.6489,51.1081,51.4003 ,51.6788,52.0821,52.3386,52.5877, 52.9445,53.1723,53.3974,53.6076,53.9249 ,54.1114,54.2974,54.4787,54.6554, 54.7425,54.7701,55.9608,57.431,59.0063, 60.5161,60.5719,60.5917,60.4727,60.3497 ,60.2227,60.0921,59.9568,59.8173, 59.6727,59.523,59.3688,59.2087,59.0434, 58.8721,58.6949,58.4174,58.2215,58.0196 ,57.8097,57.5947,57.3661,57.1296, 56.8846,56.4967,56.2224,55.9379,55.6409 ,55.3275,55.0036,54.4848,53.9252, 53.3239,52.8948,52.445,51.7207,51.2079, 50.6613,50.0777,49.469,48.8171,48.1204, 47.3789,45.7459,44.3476,41.0664,40.4381 ,40.8072)
ORBIT_NUMBER = 25596
ORBITAL_ECCENTRICITY = 0.574
ORBITAL_INCLINATION = 87.08
ORBITAL_SEMIMAJOR_AXIS = 8758.08
PERIAPSIS_ALTITUDE = 357.69
PERIAPSIS_ARGUMENT_ANGLE = 256.84
PERIAPSIS_TIME = 2024-04-10T09:34:15.000Z
SPACECRAFT_ORIENTATION = (0.0,1.0,0.0)
^MEX_ORIENTATION_DESC = "MEX_ORIENTATION_DESC.TXT"
SPACECRAFT_POINTING_MODE = INERT
^MEX_POINTING_DESC = "MEX_POINTING_DESC.TXT"
RIGHT_ASCENSION = 323.953
DECLINATION = 38.942
OFFSET_ANGLE = -1e+32
SPACECRAFT_SOLAR_DISTANCE = 2.07513e+08
TARGET_NAME = MARS
/* CAMERA DATA ELEMENTS */
DETECTOR_TEMPERATURE = 17.1471
FOCAL_PLANE_TEMPERATURE = 8.5833
INST_CMPRS_NAME = "DISCRETE COSINE TRANSFORMATION (DCT)"
INST_CMPRS_RATIO = 6.59845
INST_CMPRS_QUALITY = 0
INST_CMPRS_QUANTZ_TBL_ID = 0
INSTRUMENT_TEMPERATURE = 11.6418
LENS_TEMPERATURE = 8.7872
MACROPIXEL_SIZE = 2
MISSING_FRAMES = 0
PIXEL_SUBSAMPLING_FLAG = N
SIGNAL_CHAIN_ID = 1
/* RADIOMETRIC DATA ELEMENTS */
BANDWIDTH = 180.0
CENTER_FILTER_WAVELENGTH = 677.0
RADIANCE_OFFSET = 5.92391
RADIANCE_SCALING_FACTOR = 0.0577108
REFLECTANCE_SCALING_FACTOR = 0.00129655
MEX:REFLECTANCE_OFFSET = 0.133088
/* IMAGE OBJECT DEFINITIONS */
OBJECT = IMAGE
  INTERCHANGE_FORMAT = BINARY
  LINES = 38973
  LINE_SAMPLES = 14068
  SAMPLE_TYPE = UNSIGNED_INTEGER
  SAMPLE_BITS = 8
  BANDS = 1
  BAND_STORAGE_TYPE = BAND_SEQUENTIAL
  MAXIMUM = 255
  MEAN = 137.526
  MINIMUM = 1
  STANDARD_DEVIATION = 68.1589
END_OBJECT = IMAGE
/* MAP OBJECT DEFINITIONS */
OBJECT = IMAGE_MAP_PROJECTION
  ^DATA_SET_MAP_PROJECTION_CATALOG= "DSMAP.CAT"
  A_AXIS_RADIUS = 3396.0
  B_AXIS_RADIUS = 3396.0
  C_AXIS_RADIUS = 3396.0
  CENTER_LATITUDE = -76.7992
  CENTER_LONGITUDE = 52.0483
  COORDINATE_SYSTEM_NAME = PLANETOGRAPHIC
  COORDINATE_SYSTEM_TYPE = "BODY-FIXED ROTATING"
  EASTERNMOST_LONGITUDE = 60.5917
  FIRST_STANDARD_PARALLEL = "N/A"
  LINE_FIRST_PIXEL = 1
  LINE_LAST_PIXEL = 38973
  LINE_PROJECTION_OFFSET = 21278.75
  MAP_PROJECTION_ROTATION = 0.0
  MAP_PROJECTION_TYPE = ORTHOGRAPHIC
  MAP_RESOLUTION = 2370.85521546667
  MAP_SCALE = 0.025
  MAXIMUM_LATITUDE = -67.7911
  MINIMUM_LATITUDE = -84.0802
  POSITIVE_LONGITUDE_DIRECTION = EAST
  REFERENCE_LATITUDE = "N/A"
  REFERENCE_LONGITUDE = "N/A"
  SAMPLE_FIRST_PIXEL = 1
  SAMPLE_LAST_PIXEL = 14068
  SAMPLE_PROJECTION_OFFSET = 6511.75
  SECOND_STANDARD_PARALLEL = "N/A"
  WESTERNMOST_LONGITUDE = 27.0533
END_OBJECT = IMAGE_MAP_PROJECTION
END
