PDS_VERSION_ID = PDS3
/* FILE DATA ELEMENTS */
RECORD_TYPE = UNDEFINED
/* POINTERS TO DATA OBJECTS */
^IMAGE = ("HP593_0000_GR4.TIF")
/* IDENTIFICATION DATA ELEMENTS */
DATA_SET_ID = "MEX-M-HRSC-4-REFDR-MAPPROJECT-EXT9-V4.0"
DATA_SET_NAME = "MARS EXPRESS HRSC MAP PROJECTED REFDR EXTENSION9 V4.0"
DETECTOR_ID = MEX_HRSC_GREEN
EVENT_TYPE = "MARS-REGIONAL-MAPPING-Gl-Pf-La"
INSTRUMENT_HOST_ID = MEX
INSTRUMENT_HOST_NAME = "MARS EXPRESS"
INSTRUMENT_ID = HRSC
INSTRUMENT_NAME = "HIGH RESOLUTION STEREO CAMERA"
MISSION_NAME = "MARS EXPRESS"
MISSION_PHASE_NAME = ME_Phase_50
PROCESSING_LEVEL_ID = 4
PRODUCT_CREATION_TIME = 2024-08-20T18:09:15.000Z
PRODUCT_ID = "HP593_0000_GR4.TIF"
RELEASE_ID = 0013
REVISION_ID = 0000
/* QUALITY DATA ELEMENTS */
DATA_QUALITY_ID = 1
DATA_QUALITY_DESC = "Data calculated based on original SPICE kernels"
/* TIME DATA ELEMENTS */
SPACECRAFT_CLOCK_START_COUNT = "1/0660746334.65076"
SPACECRAFT_CLOCK_STOP_COUNT = "1/0660746574.21083"
START_TIME = 2024-04-09T12:40:19.096Z
STOP_TIME = 2024-04-09T12:43:06.850Z
/* ORBITAL DATA ELEMENTS */
ASCENDING_NODE_LONGITUDE = 99.58
MAXIMUM_RESOLUTION = 0.0631
FOOTPRINT_POINT_LATITUDE = (-87.9998,-87.7244,-87.4961,-87.1115, -86.7271,-86.715,-86.691,-86.739, -86.741,-86.6807,-86.5687,-86.4934, -86.3077,-86.0812,-85.9547,-85.7486, -85.6001,-85.3657,-85.2026,-85.0346, -84.7745,-84.5948,-84.4084,-84.123, -83.929,-83.7325,-83.5336,-83.3298, -83.1217,-82.9118,-82.7002,-82.4872, -82.2727,-81.941,-81.718,-81.4939, -81.2688,-81.0411,-80.8086,-80.5753, -80.3412,-80.1063,-79.8674,-79.6256, -79.3831,-79.14,-78.7696,-78.5197, -78.3946,-78.3214,-78.4035,-78.4791, -78.592,-78.6954,-78.6979,-78.7, -78.9569,-79.3418,-79.5931,-79.8434, -80.0935,-80.3434,-80.5895,-80.8331, -81.0762,-81.3191,-81.5617,-81.7988, -82.0348,-82.2705,-82.5058,-82.8563, -83.0839,-83.4264,-83.6533,-83.8792, -84.1038,-84.3219,-84.5379,-84.7536, -84.968,-85.2871,-85.4961,-85.6995, -85.9003,-86.1973,-86.3914,-86.5819, -86.8595,-87.3589,-87.6479,-87.7744, -87.9344,-88.018,-88.1011,-88.1261, -88.1256,-88.077,-88.0483,-87.9998)
FOOTPRINT_POINT_LONGITUDE = (269.049,271.162,272.547,274.366, 275.742,275.78,275.168,282.807,286.685, 296.219,303.432,306.854,313.191,318.84, 321.436,325.039,327.279,330.361,332.242 ,333.994,336.408,337.892,339.307, 341.249,342.449,343.572,344.626,345.631 ,346.585,347.483,348.327,349.124, 349.875,350.948,351.615,352.247,352.845 ,353.417,353.968,354.492,354.989, 355.463,355.92,356.36,356.778,357.177, 357.75,358.115,358.291,358.393,359.769, 361.173,363.592,366.384,366.463,366.489 ,366.268,365.917,365.672,365.414, 365.141,364.859,364.565,364.259,363.932 ,363.588,363.225,362.852,362.453, 362.032,361.586,360.869,360.346,359.53, 358.926,358.272,357.579,356.834,356.015 ,355.143,354.197,352.622,351.464, 350.214,348.837,346.508,344.744,342.783 ,339.422,330.872,323.263,318.755, 311.037,305.262,295.817,289.168,282.423 ,272.525,269.379,269.049)
ORBIT_NUMBER = 25593
ORBITAL_ECCENTRICITY = 0.573
ORBITAL_INCLINATION = 87.07
ORBITAL_SEMIMAJOR_AXIS = 8758.29
PERIAPSIS_ALTITUDE = 358.48
PERIAPSIS_ARGUMENT_ANGLE = 257.31
PERIAPSIS_TIME = 2024-04-09T12:36:57.000Z
SPACECRAFT_ORIENTATION = (0.0,1.0,0.0)
^MEX_ORIENTATION_DESC = "MEX_ORIENTATION_DESC.TXT"
SPACECRAFT_POINTING_MODE = INERT
^MEX_POINTING_DESC = "MEX_POINTING_DESC.TXT"
RIGHT_ASCENSION = 310.773
DECLINATION = 46.155
OFFSET_ANGLE = -1e+32
SPACECRAFT_SOLAR_DISTANCE = 2.07566e+08
TARGET_NAME = MARS
/* CAMERA DATA ELEMENTS */
DETECTOR_TEMPERATURE = 18.5744
FOCAL_PLANE_TEMPERATURE = 8.5833
INST_CMPRS_NAME = "DISCRETE COSINE TRANSFORMATION (DCT)"
INST_CMPRS_RATIO = 7.26111
INST_CMPRS_QUALITY = 0
INST_CMPRS_QUANTZ_TBL_ID = 0
INSTRUMENT_TEMPERATURE = 11.4379
LENS_TEMPERATURE = 8.7872
MACROPIXEL_SIZE = 4
MISSING_FRAMES = 0
PIXEL_SUBSAMPLING_FLAG = N
SIGNAL_CHAIN_ID = 2
/* RADIOMETRIC DATA ELEMENTS */
BANDWIDTH = 88.0
CENTER_FILTER_WAVELENGTH = 538.0
RADIANCE_OFFSET = 2.79416
RADIANCE_SCALING_FACTOR = 0.0271484
REFLECTANCE_SCALING_FACTOR = 0.00100703
MEX:REFLECTANCE_OFFSET = 0.103646
/* IMAGE OBJECT DEFINITIONS */
OBJECT = IMAGE
  INTERCHANGE_FORMAT = BINARY
  LINES = 13250
  LINE_SAMPLES = 7919
  SAMPLE_TYPE = UNSIGNED_INTEGER
  SAMPLE_BITS = 8
  BANDS = 1
  BAND_STORAGE_TYPE = BAND_SEQUENTIAL
  MAXIMUM = 255
  MEAN = 137.99
  MINIMUM = 1
  STANDARD_DEVIATION = 26.0796
END_OBJECT = IMAGE
/* MAP OBJECT DEFINITIONS */
OBJECT = IMAGE_MAP_PROJECTION
  ^DATA_SET_MAP_PROJECTION_CATALOG= "DSMAP.CAT"
  A_AXIS_RADIUS = 3396.0
  B_AXIS_RADIUS = 3396.0
  C_AXIS_RADIUS = 3396.0
  CENTER_LATITUDE = -84.3629
  CENTER_LONGITUDE = 348.355
  COORDINATE_SYSTEM_NAME = PLANETOGRAPHIC
  COORDINATE_SYSTEM_TYPE = "BODY-FIXED ROTATING"
  EASTERNMOST_LONGITUDE = 6.489
  FIRST_STANDARD_PARALLEL = "N/A"
  LINE_FIRST_PIXEL = 1
  LINE_LAST_PIXEL = 13250
  LINE_PROJECTION_OFFSET = 6956.375
  MAP_PROJECTION_ROTATION = 0.0
  MAP_PROJECTION_TYPE = ORTHOGRAPHIC
  MAP_RESOLUTION = 1185.42760773333
  MAP_SCALE = 0.05
  MAXIMUM_LATITUDE = -78.3214
  MINIMUM_LATITUDE = -88.12609999999999
  POSITIVE_LONGITUDE_DIRECTION = EAST
  REFERENCE_LATITUDE = "N/A"
  REFERENCE_LONGITUDE = "N/A"
  SAMPLE_FIRST_PIXEL = 1
  SAMPLE_LAST_PIXEL = 7919
  SAMPLE_PROJECTION_OFFSET = 3758.875
  SECOND_STANDARD_PARALLEL = "N/A"
  WESTERNMOST_LONGITUDE = -90.95099999999999
END_OBJECT = IMAGE_MAP_PROJECTION
END
