PDS_VERSION_ID = PDS3
/* FILE DATA ELEMENTS */
RECORD_TYPE = UNDEFINED
/* POINTERS TO DATA OBJECTS */
^IMAGE = ("HP587_0000_P14.TIF")
/* IDENTIFICATION DATA ELEMENTS */
DATA_SET_ID = "MEX-M-HRSC-4-REFDR-MAPPROJECT-EXT9-V4.0"
DATA_SET_NAME = "MARS EXPRESS HRSC MAP PROJECTED REFDR EXTENSION9 V4.0"
DETECTOR_ID = MEX_HRSC_P1
EVENT_TYPE = "MARS-REGIONAL-MAPPING-Gl-Pf-La"
INSTRUMENT_HOST_ID = MEX
INSTRUMENT_HOST_NAME = "MARS EXPRESS"
INSTRUMENT_ID = HRSC
INSTRUMENT_NAME = "HIGH RESOLUTION STEREO CAMERA"
MISSION_NAME = "MARS EXPRESS"
MISSION_PHASE_NAME = ME_Phase_50
PROCESSING_LEVEL_ID = 4
PRODUCT_CREATION_TIME = 2024-08-20T18:09:15.000Z
PRODUCT_ID = "HP587_0000_P14.TIF"
RELEASE_ID = 0013
REVISION_ID = 0000
/* QUALITY DATA ELEMENTS */
DATA_QUALITY_ID = 1
DATA_QUALITY_DESC = "Data calculated based on original SPICE kernels"
/* TIME DATA ELEMENTS */
SPACECRAFT_CLOCK_START_COUNT = "1/0660595453.00347"
SPACECRAFT_CLOCK_STOP_COUNT = "1/0660595685.47984"
START_TIME = 2024-04-07T18:45:52.958Z
STOP_TIME = 2024-04-07T18:48:38.461Z
/* ORBITAL DATA ELEMENTS */
ASCENDING_NODE_LONGITUDE = 99.69
MAXIMUM_RESOLUTION = 0.0328
FOOTPRINT_POINT_LATITUDE = (-87.7293,-87.409,-87.1906,-86.7918, -86.4175,-86.4046,-86.3624,-86.3878, -86.3827,-86.3504,-86.2329,-86.1278, -85.9513,-85.7382,-85.4938,-85.3587, -85.2164,-84.9921,-84.7565,-84.5941, -84.4277,-84.2552,-83.9873,-83.8048, -83.6195,-83.4314,-83.2411,-83.0444, -82.8452,-82.5429,-82.3395,-82.1346, -81.9244,-81.7115,-81.4979,-81.2826, -81.0666,-80.8453,-80.5101,-80.2854, -80.06,-79.7143,-79.4818,-79.2487, -79.0149,-78.7757,-78.5355,-78.4151, -78.377,-78.4455,-78.524,-78.5926, -78.69,-78.7901,-78.7931,-78.7948, -79.0426,-79.29,-79.6556,-80.0177, -80.258,-80.498,-80.8506,-81.0852, -81.3194,-81.5534,-81.8946,-82.1217, -82.3488,-82.5746,-82.7976,-83.0165, -83.235,-83.453,-83.6702,-83.8867, -84.0978,-84.3066,-84.5147,-84.8227, -85.0259,-85.2282,-85.421,-85.6125, -85.802,-85.9895,-86.2616,-86.5221, -86.8437,-87.0672,-87.3303,-87.4457, -87.5485,-87.6352,-87.7323,-87.7738, -87.7937,-87.7683,-87.7494,-87.7293)
FOOTPRINT_POINT_LONGITUDE = (168.499,169.731,170.403,171.379, 172.083,172.105,170.897,177.651,181.108 ,186.238,194.369,198.967,204.664, 209.831,214.463,216.629,218.681,221.532 ,224.13,225.728,227.229,228.657,230.665 ,231.907,233.077,234.183,235.224, 236.228,237.177,238.503,239.327,240.105 ,240.857,241.575,242.251,242.899, 243.511,244.105,244.945,245.475,245.978 ,246.703,247.16,247.598,248.016,248.424 ,248.815,249.004,249.063,250.104, 251.387,252.608,254.546,256.912,256.991 ,257.019,256.764,256.496,256.076, 255.629,255.309,254.978,254.458,254.088 ,253.697,253.286,252.637,252.173, 251.682,251.159,250.612,250.034,249.42, 248.764,248.063,247.311,246.524,245.679 ,244.769,243.267,242.161,240.967, 239.697,238.313,236.802,235.146,232.359 ,229.151,224.19,219.768,212.811,208.807 ,204.425,199.703,192.031,186.562, 180.976,169.922,167.21,168.499)
ORBIT_NUMBER = 25587
ORBITAL_ECCENTRICITY = 0.574
ORBITAL_INCLINATION = 87.07
ORBITAL_SEMIMAJOR_AXIS = 8759.09
PERIAPSIS_ALTITUDE = 357.91
PERIAPSIS_ARGUMENT_ANGLE = 258.33
PERIAPSIS_TIME = 2024-04-07T18:42:29.000Z
SPACECRAFT_ORIENTATION = (0.0,1.0,0.0)
^MEX_ORIENTATION_DESC = "MEX_ORIENTATION_DESC.TXT"
SPACECRAFT_POINTING_MODE = INERT
^MEX_POINTING_DESC = "MEX_POINTING_DESC.TXT"
RIGHT_ASCENSION = 314.857
DECLINATION = 46.839
OFFSET_ANGLE = -1e+32
SPACECRAFT_SOLAR_DISTANCE = 2.07676e+08
TARGET_NAME = MARS
/* CAMERA DATA ELEMENTS */
DETECTOR_TEMPERATURE = 17.1471
FOCAL_PLANE_TEMPERATURE = 8.1755
INST_CMPRS_NAME = "DISCRETE COSINE TRANSFORMATION (DCT)"
INST_CMPRS_RATIO = 5.22793
INST_CMPRS_QUALITY = 0
INST_CMPRS_QUANTZ_TBL_ID = 0
INSTRUMENT_TEMPERATURE = 11.0301
LENS_TEMPERATURE = 8.7872
MACROPIXEL_SIZE = 2
MISSING_FRAMES = 0
PIXEL_SUBSAMPLING_FLAG = N
SIGNAL_CHAIN_ID = 3
/* RADIOMETRIC DATA ELEMENTS */
BANDWIDTH = 174.0
CENTER_FILTER_WAVELENGTH = 675.0
RADIANCE_OFFSET = 4.32331
RADIANCE_SCALING_FACTOR = 0.0308693
REFLECTANCE_SCALING_FACTOR = 0.000716116
MEX:REFLECTANCE_OFFSET = 0.100293
/* IMAGE OBJECT DEFINITIONS */
OBJECT = IMAGE
  INTERCHANGE_FORMAT = BINARY
  LINES = 25283
  LINE_SAMPLES = 16491
  SAMPLE_TYPE = UNSIGNED_INTEGER
  SAMPLE_BITS = 8
  BANDS = 1
  BAND_STORAGE_TYPE = BAND_SEQUENTIAL
  MAXIMUM = 255
  MEAN = 178.421
  MINIMUM = 1
  STANDARD_DEVIATION = 72.7333
END_OBJECT = IMAGE
/* MAP OBJECT DEFINITIONS */
OBJECT = IMAGE_MAP_PROJECTION
  ^DATA_SET_MAP_PROJECTION_CATALOG= "DSMAP.CAT"
  A_AXIS_RADIUS = 3396.0
  B_AXIS_RADIUS = 3396.0
  C_AXIS_RADIUS = 3396.0
  CENTER_LATITUDE = -84.18510000000001
  CENTER_LONGITUDE = 238.078
  COORDINATE_SYSTEM_NAME = PLANETOGRAPHIC
  COORDINATE_SYSTEM_TYPE = "BODY-FIXED ROTATING"
  EASTERNMOST_LONGITUDE = 257.019
  FIRST_STANDARD_PARALLEL = "N/A"
  LINE_FIRST_PIXEL = 1
  LINE_LAST_PIXEL = 25283
  LINE_PROJECTION_OFFSET = 13185.75
  MAP_PROJECTION_ROTATION = 0.0
  MAP_PROJECTION_TYPE = ORTHOGRAPHIC
  MAP_RESOLUTION = 2370.85521546667
  MAP_SCALE = 0.025
  MAXIMUM_LATITUDE = -78.377
  MINIMUM_LATITUDE = -87.7937
  POSITIVE_LONGITUDE_DIRECTION = EAST
  REFERENCE_LATITUDE = "N/A"
  REFERENCE_LONGITUDE = "N/A"
  SAMPLE_FIRST_PIXEL = 1
  SAMPLE_LAST_PIXEL = 16491
  SAMPLE_PROJECTION_OFFSET = 7921.25
  SECOND_STANDARD_PARALLEL = "N/A"
  WESTERNMOST_LONGITUDE = 167.21
END_OBJECT = IMAGE_MAP_PROJECTION
END
