PDS_VERSION_ID = PDS3
/* FILE DATA ELEMENTS */
RECORD_TYPE = UNDEFINED
/* POINTERS TO DATA OBJECTS */
^IMAGE = ("HP569_0000_P24.TIF")
/* IDENTIFICATION DATA ELEMENTS */
DATA_SET_ID = "MEX-M-HRSC-4-REFDR-MAPPROJECT-EXT9-V4.0"
DATA_SET_NAME = "MARS EXPRESS HRSC MAP PROJECTED REFDR EXTENSION9 V4.0"
DETECTOR_ID = MEX_HRSC_P2
EVENT_TYPE = "MARS-REGIONAL-MAPPING-Gl-Pf-La"
INSTRUMENT_HOST_ID = MEX
INSTRUMENT_HOST_NAME = "MARS EXPRESS"
INSTRUMENT_ID = HRSC
INSTRUMENT_NAME = "HIGH RESOLUTION STEREO CAMERA"
MISSION_NAME = "MARS EXPRESS"
MISSION_PHASE_NAME = ME_Phase_50
PROCESSING_LEVEL_ID = 4
PRODUCT_CREATION_TIME = 2024-08-20T18:09:15.000Z
PRODUCT_ID = "HP569_0000_P24.TIF"
RELEASE_ID = 0013
REVISION_ID = 0000
/* QUALITY DATA ELEMENTS */
DATA_QUALITY_ID = 1
DATA_QUALITY_DESC = "Data calculated based on original SPICE kernels"
/* TIME DATA ELEMENTS */
SPACECRAFT_CLOCK_START_COUNT = "1/0660142841.00331"
SPACECRAFT_CLOCK_STOP_COUNT = "1/0660143092.29286"
START_TIME = 2024-04-02T13:01:38.591Z
STOP_TIME = 2024-04-02T13:02:43.437Z
/* ORBITAL DATA ELEMENTS */
ASCENDING_NODE_LONGITUDE = 99.99
MAXIMUM_RESOLUTION = 0.0303
FOOTPRINT_POINT_LATITUDE = (-86.5192,-86.4488,-86.3503,-86.2772, -86.203,-86.1278,-86.0515,-85.9743, -85.8961,-85.8171,-85.7373,-85.6565, -85.5441,-85.5338,-85.4795,-85.4026, -85.266,-85.1525,-85.0342,-84.9426, -84.785,-84.6876,-84.487,-84.3148, -84.2092,-84.0662,-83.9937,-83.8471, -83.7729,-83.6982,-83.623,-83.5473, -83.4712,-83.3561,-83.2401,-83.1622, -83.0445,-82.9655,-82.8857,-82.7264, -82.6056,-82.5247,-82.4021,-82.32, -82.1562,-82.0323,-81.9495,-81.9079, -81.9008,-81.9848,-82.0717,-82.114, -82.1767,-82.2528,-82.3083,-82.3492, -82.3888,-82.4223,-82.4683,-82.4727, -82.4748,-82.5633,-82.6515,-82.7395, -82.8273,-82.9151,-83.0463,-83.1336, -83.2207,-83.3509,-83.4376,-83.524, -83.6101,-83.7387,-83.8668,-83.952, -84.0792,-84.1636,-84.2478,-84.3736, -84.4574,-84.5822,-84.6648,-84.747, -84.8287,-84.91,-84.9909,-85.1114, -85.1912,-85.3098,-85.4271,-85.5432, -85.6959,-85.8454,-85.9919,-86.205, -86.3081,-86.4745,-86.5068,-86.5192)
FOOTPRINT_POINT_LONGITUDE = (260.177,259.126,257.748,256.791,255.87 ,254.984,254.129,253.308,252.516, 251.754,251.018,250.308,249.372,249.289 ,249.306,250.763,253.084,254.843,256.52 ,257.725,259.638,260.73,262.795,264.403 ,265.32,266.493,267.058,268.147,268.672 ,269.185,269.686,270.175,270.652, 271.347,272.019,272.453,273.087,273.497 ,273.898,274.674,275.234,275.596, 276.125,276.468,277.134,277.614,277.927 ,278.08,278.106,279.21,280.424,281.039, 282.018,283.288,284.202,284.944,285.693 ,286.353,287.308,287.405,287.438, 287.196,286.95,286.697,286.439,286.174, 285.763,285.481,285.191,284.743,284.433 ,284.116,283.79,283.286,282.761,282.398 ,281.834,281.445,281.044,280.418, 279.981,279.303,278.836,278.354,277.858 ,277.346,276.817,275.991,275.417,274.52 ,273.578,272.586,271.174,269.668, 268.049,265.389,263.946,261.346,260.799 ,260.177)
ORBIT_NUMBER = 25569
ORBITAL_ECCENTRICITY = 0.574
ORBITAL_INCLINATION = 87.07
ORBITAL_SEMIMAJOR_AXIS = 8756.97
PERIAPSIS_ALTITUDE = 357.97
PERIAPSIS_ARGUMENT_ANGLE = 261.36
PERIAPSIS_TIME = 2024-04-02T12:58:58.000Z
SPACECRAFT_ORIENTATION = (0.0,1.0,0.0)
^MEX_ORIENTATION_DESC = "MEX_ORIENTATION_DESC.TXT"
SPACECRAFT_POINTING_MODE = INERT
^MEX_POINTING_DESC = "MEX_POINTING_DESC.TXT"
RIGHT_ASCENSION = 318.982
DECLINATION = 43.808
OFFSET_ANGLE = -1e+32
SPACECRAFT_SOLAR_DISTANCE = 2.08043e+08
TARGET_NAME = MARS
/* CAMERA DATA ELEMENTS */
DETECTOR_TEMPERATURE = 18.3705
FOCAL_PLANE_TEMPERATURE = 8.5833
INST_CMPRS_NAME = "DISCRETE COSINE TRANSFORMATION (DCT)"
INST_CMPRS_RATIO = 9.32589
INST_CMPRS_QUALITY = 0
INST_CMPRS_QUANTZ_TBL_ID = 0
INSTRUMENT_TEMPERATURE = 11.234
LENS_TEMPERATURE = 8.3794
MACROPIXEL_SIZE = 2
MISSING_FRAMES = 0
PIXEL_SUBSAMPLING_FLAG = N
SIGNAL_CHAIN_ID = 3
/* RADIOMETRIC DATA ELEMENTS */
BANDWIDTH = 177.0
CENTER_FILTER_WAVELENGTH = 676.5
RADIANCE_OFFSET = 5.47198
RADIANCE_SCALING_FACTOR = 0.0278031
REFLECTANCE_SCALING_FACTOR = 0.000638053
MEX:REFLECTANCE_OFFSET = 0.125577
/* IMAGE OBJECT DEFINITIONS */
OBJECT = IMAGE
  INTERCHANGE_FORMAT = BINARY
  LINES = 7917
  LINE_SAMPLES = 7176
  SAMPLE_TYPE = UNSIGNED_INTEGER
  SAMPLE_BITS = 8
  BANDS = 1
  BAND_STORAGE_TYPE = BAND_SEQUENTIAL
  MAXIMUM = 255
  MEAN = 193.501
  MINIMUM = 1
  STANDARD_DEVIATION = 66.2226
END_OBJECT = IMAGE
/* MAP OBJECT DEFINITIONS */
OBJECT = IMAGE_MAP_PROJECTION
  ^DATA_SET_MAP_PROJECTION_CATALOG= "DSMAP.CAT"
  A_AXIS_RADIUS = 3396.0
  B_AXIS_RADIUS = 3396.0
  C_AXIS_RADIUS = 3396.0
  CENTER_LATITUDE = -84.8792
  CENTER_LONGITUDE = 268.513
  COORDINATE_SYSTEM_NAME = PLANETOGRAPHIC
  COORDINATE_SYSTEM_TYPE = "BODY-FIXED ROTATING"
  EASTERNMOST_LONGITUDE = 287.438
  FIRST_STANDARD_PARALLEL = "N/A"
  LINE_FIRST_PIXEL = 1
  LINE_LAST_PIXEL = 7917
  LINE_PROJECTION_OFFSET = 3981.25
  MAP_PROJECTION_ROTATION = 0.0
  MAP_PROJECTION_TYPE = ORTHOGRAPHIC
  MAP_RESOLUTION = 2370.85521546667
  MAP_SCALE = 0.025
  MAXIMUM_LATITUDE = -81.9008
  MINIMUM_LATITUDE = -86.5192
  POSITIVE_LONGITUDE_DIRECTION = EAST
  REFERENCE_LATITUDE = "N/A"
  REFERENCE_LONGITUDE = "N/A"
  SAMPLE_FIRST_PIXEL = 1
  SAMPLE_LAST_PIXEL = 7176
  SAMPLE_PROJECTION_OFFSET = 3576.75
  SECOND_STANDARD_PARALLEL = "N/A"
  WESTERNMOST_LONGITUDE = 249.289
END_OBJECT = IMAGE_MAP_PROJECTION
END
