PDS_VERSION_ID = PDS3
/* FILE DATA ELEMENTS */
RECORD_TYPE = UNDEFINED
/* POINTERS TO DATA OBJECTS */
^IMAGE = ("HP569_0000_BL4.TIF")
/* IDENTIFICATION DATA ELEMENTS */
DATA_SET_ID = "MEX-M-HRSC-4-REFDR-MAPPROJECT-EXT9-V4.0"
DATA_SET_NAME = "MARS EXPRESS HRSC MAP PROJECTED REFDR EXTENSION9 V4.0"
DETECTOR_ID = MEX_HRSC_BLUE
EVENT_TYPE = "MARS-REGIONAL-MAPPING-Gl-Pf-La"
INSTRUMENT_HOST_ID = MEX
INSTRUMENT_HOST_NAME = "MARS EXPRESS"
INSTRUMENT_ID = HRSC
INSTRUMENT_NAME = "HIGH RESOLUTION STEREO CAMERA"
MISSION_NAME = "MARS EXPRESS"
MISSION_PHASE_NAME = ME_Phase_50
PROCESSING_LEVEL_ID = 4
PRODUCT_CREATION_TIME = 2024-08-20T18:09:15.000Z
PRODUCT_ID = "HP569_0000_BL4.TIF"
RELEASE_ID = 0013
REVISION_ID = 0000
/* QUALITY DATA ELEMENTS */
DATA_QUALITY_ID = 1
DATA_QUALITY_DESC = "Data calculated based on original SPICE kernels"
/* TIME DATA ELEMENTS */
SPACECRAFT_CLOCK_START_COUNT = "1/0660142841.00331"
SPACECRAFT_CLOCK_STOP_COUNT = "1/0660143092.29286"
START_TIME = 2024-04-02T13:01:53.561Z
STOP_TIME = 2024-04-02T13:02:43.181Z
/* ORBITAL DATA ELEMENTS */
ASCENDING_NODE_LONGITUDE = 99.99
MAXIMUM_RESOLUTION = 0.0609
FOOTPRINT_POINT_LATITUDE = (-86.4901,-86.422,-86.3528,-86.2824, -86.2108,-86.1382,-86.0645,-85.9898, -85.9143,-85.8379,-85.7606,-85.6825, -85.5935,-85.5037,-85.4936,-85.463, -85.4249,-85.386,-85.3464,-85.2854, -85.2019,-85.1158,-85.0275,-84.9367, -84.7963,-84.7244,-84.6269,-84.5525, -84.4264,-84.2977,-84.2193,-84.1401, -84.0333,-83.9252,-83.8433,-83.7052, -83.5654,-83.4524,-83.3383,-83.2234, -83.1365,-83.0199,-82.9319,-82.9024, -82.8919,-82.9684,-83.043,-83.096, -83.1603,-83.2227,-83.2713,-83.3244, -83.3701,-83.4145,-83.4522,-83.4991, -83.5343,-83.5393,-83.542,-83.606, -83.67,-83.7339,-83.8295,-83.9247, -83.9881,-84.0513,-84.1458,-84.2087, -84.2713,-84.3961,-84.5201,-84.6127, -84.6741,-84.7354,-84.827,-84.8877, -84.9785,-85.0387,-85.0986,-85.1582, -85.2176,-85.2767,-85.3649,-85.4524, -85.5391,-85.6251,-85.7382,-85.8222, -85.9052,-85.9873,-86.0414,-86.095, -86.1481,-86.2007,-86.2527,-86.3296, -86.405,-86.4788,-86.5031,-86.4901)
FOOTPRINT_POINT_LONGITUDE = (261.033,259.981,258.969,257.993, 257.052,256.144,255.269,254.425,253.611 ,252.826,252.067,251.335,250.539, 249.774,249.691,249.253,249.987,250.706 ,251.413,252.447,253.787,255.079, 256.328,257.531,259.251,260.077,261.142 ,261.915,263.157,264.343,265.029, 265.695,266.557,267.387,267.991,268.961 ,269.888,270.602,271.29,271.956,272.44, 273.066,273.521,273.67,273.722,274.7, 275.705,276.448,277.389,278.348,279.127 ,280.016,280.817,281.627,282.343, 283.274,284.008,284.114,284.145,283.904 ,283.659,283.409,283.024,282.626, 282.354,282.076,281.648,281.355,281.055 ,280.433,279.783,279.276,278.928, 278.573,278.024,277.647,277.065,276.665 ,276.255,275.835,275.404,274.963,274.28 ,273.57,272.833,272.066,270.994,270.153 ,269.278,268.367,267.738,267.092, 266.428,265.746,265.044,263.955,262.818 ,261.633,261.228,261.033)
ORBIT_NUMBER = 25569
ORBITAL_ECCENTRICITY = 0.574
ORBITAL_INCLINATION = 87.07
ORBITAL_SEMIMAJOR_AXIS = 8756.97
PERIAPSIS_ALTITUDE = 357.97
PERIAPSIS_ARGUMENT_ANGLE = 261.36
PERIAPSIS_TIME = 2024-04-02T12:58:58.000Z
SPACECRAFT_ORIENTATION = (0.0,1.0,0.0)
^MEX_ORIENTATION_DESC = "MEX_ORIENTATION_DESC.TXT"
SPACECRAFT_POINTING_MODE = INERT
^MEX_POINTING_DESC = "MEX_POINTING_DESC.TXT"
RIGHT_ASCENSION = 318.982
DECLINATION = 43.808
OFFSET_ANGLE = -1e+32
SPACECRAFT_SOLAR_DISTANCE = 2.08043e+08
TARGET_NAME = MARS
/* CAMERA DATA ELEMENTS */
DETECTOR_TEMPERATURE = 18.1666
FOCAL_PLANE_TEMPERATURE = 8.5833
INST_CMPRS_NAME = "DISCRETE COSINE TRANSFORMATION (DCT)"
INST_CMPRS_RATIO = 14.024
INST_CMPRS_QUALITY = 0
INST_CMPRS_QUANTZ_TBL_ID = 0
INSTRUMENT_TEMPERATURE = 11.234
LENS_TEMPERATURE = 8.3794
MACROPIXEL_SIZE = 4
MISSING_FRAMES = 0
PIXEL_SUBSAMPLING_FLAG = N
SIGNAL_CHAIN_ID = 2
/* RADIOMETRIC DATA ELEMENTS */
BANDWIDTH = 76.0
CENTER_FILTER_WAVELENGTH = 444.0
RADIANCE_OFFSET = 0.875648
RADIANCE_SCALING_FACTOR = 0.0143716
REFLECTANCE_SCALING_FACTOR = 0.000639097
MEX:REFLECTANCE_OFFSET = 0.0389397
/* IMAGE OBJECT DEFINITIONS */
OBJECT = IMAGE
  INTERCHANGE_FORMAT = BINARY
  LINES = 3959
  LINE_SAMPLES = 3588
  SAMPLE_TYPE = UNSIGNED_INTEGER
  SAMPLE_BITS = 8
  BANDS = 1
  BAND_STORAGE_TYPE = BAND_SEQUENTIAL
  MAXIMUM = 255
  MEAN = 106.349
  MINIMUM = 1
  STANDARD_DEVIATION = 36.8415
END_OBJECT = IMAGE
/* MAP OBJECT DEFINITIONS */
OBJECT = IMAGE_MAP_PROJECTION
  ^DATA_SET_MAP_PROJECTION_CATALOG= "DSMAP.CAT"
  A_AXIS_RADIUS = 3396.0
  B_AXIS_RADIUS = 3396.0
  C_AXIS_RADIUS = 3396.0
  CENTER_LATITUDE = -84.8792
  CENTER_LONGITUDE = 268.513
  COORDINATE_SYSTEM_NAME = PLANETOGRAPHIC
  COORDINATE_SYSTEM_TYPE = "BODY-FIXED ROTATING"
  EASTERNMOST_LONGITUDE = 284.145
  FIRST_STANDARD_PARALLEL = "N/A"
  LINE_FIRST_PIXEL = 1
  LINE_LAST_PIXEL = 3959
  LINE_PROJECTION_OFFSET = 1990.375
  MAP_PROJECTION_ROTATION = 0.0
  MAP_PROJECTION_TYPE = ORTHOGRAPHIC
  MAP_RESOLUTION = 1185.42760773333
  MAP_SCALE = 0.05
  MAXIMUM_LATITUDE = -82.89190000000001
  MINIMUM_LATITUDE = -86.5031
  POSITIVE_LONGITUDE_DIRECTION = EAST
  REFERENCE_LATITUDE = "N/A"
  REFERENCE_LONGITUDE = "N/A"
  SAMPLE_FIRST_PIXEL = 1
  SAMPLE_LAST_PIXEL = 3588
  SAMPLE_PROJECTION_OFFSET = 1788.125
  SECOND_STANDARD_PARALLEL = "N/A"
  WESTERNMOST_LONGITUDE = 249.253
END_OBJECT = IMAGE_MAP_PROJECTION
END
